BEGIN:VCALENDAR
VERSION:2.0
PRODID:-//Calvary Chapel Kampala - ECPv5.16.3.1//NONSGML v1.0//EN
CALSCALE:GREGORIAN
METHOD:PUBLISH
X-WR-CALNAME:Calvary Chapel Kampala
X-ORIGINAL-URL:https://calvarykla.com
X-WR-CALDESC:Events for Calvary Chapel Kampala
REFRESH-INTERVAL;VALUE=DURATION:PT1H
X-Robots-Tag:noindex
X-PUBLISHED-TTL:PT1H
BEGIN:VTIMEZONE
TZID:Africa/Kampala
BEGIN:STANDARD
TZOFFSETFROM:+0300
TZOFFSETTO:+0300
TZNAME:EAT
DTSTART:20240101T000000
END:STANDARD
END:VTIMEZONE
BEGIN:VEVENT
DTSTART;TZID=Africa/Kampala:20250521T180000
DTEND;TZID=Africa/Kampala:20250521T193000
DTSTAMP:20260420T045007
CREATED:20250425T120749Z
LAST-MODIFIED:20250425T120749Z
UID:15128-1747850400-1747855800@calvarykla.com
SUMMARY:Midweek Study Series
DESCRIPTION:Join us for our new Midweek service series as we expound more on The Parables of Jesus
URL:https://calvarykla.com/event/midweek-study-series-3/2025-05-21/
LOCATION:Calvary Chapel Kampala\, 41 William Street\, Kampala\, Kampala\, 256\, Uganda
CATEGORIES:Fellowships,Services
ATTACH;FMTTYPE=image/jpeg:https://calvarykla.com/wp-content/uploads/2025/04/Parables-A3B.jpg
END:VEVENT
BEGIN:VEVENT
DTSTART;TZID=Africa/Kampala:20250716T180000
DTEND;TZID=Africa/Kampala:20250716T193000
DTSTAMP:20260420T045007
CREATED:20250425T120749Z
LAST-MODIFIED:20250425T120749Z
UID:15145-1752688800-1752694200@calvarykla.com
SUMMARY:Midweek Study Series
DESCRIPTION:Join us for our new Midweek service series as we expound more on The Parables of Jesus
URL:https://calvarykla.com/event/midweek-study-series-3/2025-07-16/
LOCATION:Calvary Chapel Kampala\, 41 William Street\, Kampala\, Kampala\, 256\, Uganda
CATEGORIES:Fellowships,Services
ATTACH;FMTTYPE=image/jpeg:https://calvarykla.com/wp-content/uploads/2025/04/Parables-A3B.jpg
END:VEVENT
BEGIN:VEVENT
DTSTART;TZID=Africa/Kampala:20250209T080000
DTEND;TZID=Africa/Kampala:20250209T140000
DTSTAMP:20260420T045007
CREATED:20241004T083929Z
LAST-MODIFIED:20251204T132907Z
UID:13495-1739088000-1739109600@calvarykla.com
SUMMARY:Sunday Sermon Series
DESCRIPTION:New sermon series through the book of 1 & 2 Samuel. Every Sunday at 8am for Luganda and 10am & 12noon for English
URL:https://calvarykla.com/event/sunday-sermon-series-3/2025-02-09/
LOCATION:Calvary Chapel Kampala\, 41 William Street\, Kampala\, Kampala\, 256\, Uganda
CATEGORIES:Fellowships,Services
ATTACH;FMTTYPE=image/jpeg:https://calvarykla.com/wp-content/uploads/2024/10/SAMUEL-Study-Banner.jpg
END:VEVENT
BEGIN:VEVENT
DTSTART;TZID=Africa/Kampala:20250302T080000
DTEND;TZID=Africa/Kampala:20250302T140000
DTSTAMP:20260420T045007
CREATED:20241004T083929Z
LAST-MODIFIED:20251205T085214Z
UID:13498-1740902400-1740924000@calvarykla.com
SUMMARY:Sunday Sermon Series
DESCRIPTION:New sermon series through the book of 1 & 2 Samuel. Every Sunday at 8am for Luganda and 10am & 12noon for English
URL:https://calvarykla.com/event/sunday-sermon-series-3/2025-03-02/
LOCATION:Calvary Chapel Kampala\, 41 William Street\, Kampala\, Kampala\, 256\, Uganda
CATEGORIES:Fellowships,Services
ATTACH;FMTTYPE=image/jpeg:https://calvarykla.com/wp-content/uploads/2024/10/SAMUEL-Study-Banner.jpg
END:VEVENT
BEGIN:VEVENT
DTSTART;TZID=Africa/Kampala:20250601T080000
DTEND;TZID=Africa/Kampala:20250601T140000
DTSTAMP:20260420T045007
CREATED:20241004T083929Z
LAST-MODIFIED:20251205T085452Z
UID:13511-1748764800-1748786400@calvarykla.com
SUMMARY:Sunday Sermon Series
DESCRIPTION:New sermon series through the book of 1 & 2 Samuel. Every Sunday at 8am for Luganda and 10am & 12noon for English
URL:https://calvarykla.com/event/sunday-sermon-series-3/2025-06-01/
LOCATION:Calvary Chapel Kampala\, 41 William Street\, Kampala\, Kampala\, 256\, Uganda
CATEGORIES:Fellowships,Services
ATTACH;FMTTYPE=image/jpeg:https://calvarykla.com/wp-content/uploads/2024/10/SAMUEL-Study-Banner.jpg
END:VEVENT
BEGIN:VEVENT
DTSTART;TZID=Africa/Kampala:20251116T080000
DTEND;TZID=Africa/Kampala:20251116T140000
DTSTAMP:20260420T045007
CREATED:20241004T083929Z
LAST-MODIFIED:20251205T085929Z
UID:13535-1763280000-1763301600@calvarykla.com
SUMMARY:Sunday Sermon Series
DESCRIPTION:New sermon series through the book of 1 & 2 Samuel. Every Sunday at 8am for Luganda and 10am & 12noon for English
URL:https://calvarykla.com/event/sunday-sermon-series-3/2025-11-16/
LOCATION:Calvary Chapel Kampala\, 41 William Street\, Kampala\, Kampala\, 256\, Uganda
CATEGORIES:Fellowships,Services
ATTACH;FMTTYPE=image/jpeg:https://calvarykla.com/wp-content/uploads/2024/10/SAMUEL-Study-Banner.jpg
END:VEVENT
BEGIN:VEVENT
DTSTART;TZID=Africa/Kampala:20250105T080000
DTEND;TZID=Africa/Kampala:20250105T140000
DTSTAMP:20260420T045007
CREATED:20241004T083929Z
LAST-MODIFIED:20251204T132731Z
UID:13490-1736064000-1736085600@calvarykla.com
SUMMARY:Sunday Sermon Series
DESCRIPTION:New sermon series through the book of 1 & 2 Samuel. Every Sunday at 8am for Luganda and 10am & 12noon for English
URL:https://calvarykla.com/event/sunday-sermon-series-3/2025-01-05/
LOCATION:Calvary Chapel Kampala\, 41 William Street\, Kampala\, Kampala\, 256\, Uganda
CATEGORIES:Fellowships,Services
ATTACH;FMTTYPE=image/jpeg:https://calvarykla.com/wp-content/uploads/2024/10/SAMUEL-Study-Banner.jpg
END:VEVENT
BEGIN:VEVENT
DTSTART;TZID=Africa/Kampala:20250309T080000
DTEND;TZID=Africa/Kampala:20250309T140000
DTSTAMP:20260420T045007
CREATED:20241004T083929Z
LAST-MODIFIED:20251205T085239Z
UID:13499-1741507200-1741528800@calvarykla.com
SUMMARY:Sunday Sermon Series
DESCRIPTION:New sermon series through the book of 1 & 2 Samuel. Every Sunday at 8am for Luganda and 10am & 12noon for English
URL:https://calvarykla.com/event/sunday-sermon-series-3/2025-03-09/
LOCATION:Calvary Chapel Kampala\, 41 William Street\, Kampala\, Kampala\, 256\, Uganda
CATEGORIES:Fellowships,Services
ATTACH;FMTTYPE=image/jpeg:https://calvarykla.com/wp-content/uploads/2024/10/SAMUEL-Study-Banner.jpg
END:VEVENT
BEGIN:VEVENT
DTSTART;TZID=Africa/Kampala:20250928T080000
DTEND;TZID=Africa/Kampala:20250928T140000
DTSTAMP:20260420T045007
CREATED:20241004T083929Z
LAST-MODIFIED:20251205T085809Z
UID:13528-1759046400-1759068000@calvarykla.com
SUMMARY:Sunday Sermon Series
DESCRIPTION:New sermon series through the book of 1 & 2 Samuel. Every Sunday at 8am for Luganda and 10am & 12noon for English
URL:https://calvarykla.com/event/sunday-sermon-series-3/2025-09-28/
LOCATION:Calvary Chapel Kampala\, 41 William Street\, Kampala\, Kampala\, 256\, Uganda
CATEGORIES:Fellowships,Services
ATTACH;FMTTYPE=image/jpeg:https://calvarykla.com/wp-content/uploads/2024/10/SAMUEL-Study-Banner.jpg
END:VEVENT
BEGIN:VEVENT
DTSTART;TZID=Africa/Kampala:20241110T080000
DTEND;TZID=Africa/Kampala:20241110T140000
DTSTAMP:20260420T045007
CREATED:20241004T083929Z
LAST-MODIFIED:20251204T132436Z
UID:13465-1731225600-1731247200@calvarykla.com
SUMMARY:Sunday Sermon Series
DESCRIPTION:New sermon series through the book of 1 & 2 Samuel. Every Sunday at 8am for Luganda and 10am & 12noon for English
URL:https://calvarykla.com/event/sunday-sermon-series-3/2024-11-10/
LOCATION:Calvary Chapel Kampala\, 41 William Street\, Kampala\, Kampala\, 256\, Uganda
CATEGORIES:Fellowships,Services
ATTACH;FMTTYPE=image/jpeg:https://calvarykla.com/wp-content/uploads/2024/10/SAMUEL-Study-Banner.jpg
END:VEVENT
BEGIN:VEVENT
DTSTART;TZID=Africa/Kampala:20241215T080000
DTEND;TZID=Africa/Kampala:20241215T140000
DTSTAMP:20260420T045007
CREATED:20241004T083929Z
LAST-MODIFIED:20251204T132634Z
UID:13487-1734249600-1734271200@calvarykla.com
SUMMARY:Sunday Sermon Series
DESCRIPTION:New sermon series through the book of 1 & 2 Samuel. Every Sunday at 8am for Luganda and 10am & 12noon for English
URL:https://calvarykla.com/event/sunday-sermon-series-3/2024-12-15/
LOCATION:Calvary Chapel Kampala\, 41 William Street\, Kampala\, Kampala\, 256\, Uganda
CATEGORIES:Fellowships,Services
ATTACH;FMTTYPE=image/jpeg:https://calvarykla.com/wp-content/uploads/2024/10/SAMUEL-Study-Banner.jpg
END:VEVENT
BEGIN:VEVENT
DTSTART;TZID=Africa/Kampala:20250316T080000
DTEND;TZID=Africa/Kampala:20250316T140000
DTSTAMP:20260420T045007
CREATED:20241004T083929Z
LAST-MODIFIED:20251205T085256Z
UID:13500-1742112000-1742133600@calvarykla.com
SUMMARY:Sunday Sermon Series
DESCRIPTION:New sermon series through the book of 1 & 2 Samuel. Every Sunday at 8am for Luganda and 10am & 12noon for English
URL:https://calvarykla.com/event/sunday-sermon-series-3/2025-03-16/
LOCATION:Calvary Chapel Kampala\, 41 William Street\, Kampala\, Kampala\, 256\, Uganda
CATEGORIES:Fellowships,Services
ATTACH;FMTTYPE=image/jpeg:https://calvarykla.com/wp-content/uploads/2024/10/SAMUEL-Study-Banner.jpg
END:VEVENT
BEGIN:VEVENT
DTSTART;TZID=Africa/Kampala:20250608T080000
DTEND;TZID=Africa/Kampala:20250608T140000
DTSTAMP:20260420T045007
CREATED:20241004T083929Z
LAST-MODIFIED:20251205T085501Z
UID:13512-1749369600-1749391200@calvarykla.com
SUMMARY:Sunday Sermon Series
DESCRIPTION:New sermon series through the book of 1 & 2 Samuel. Every Sunday at 8am for Luganda and 10am & 12noon for English
URL:https://calvarykla.com/event/sunday-sermon-series-3/2025-06-08/
LOCATION:Calvary Chapel Kampala\, 41 William Street\, Kampala\, Kampala\, 256\, Uganda
CATEGORIES:Fellowships,Services
ATTACH;FMTTYPE=image/jpeg:https://calvarykla.com/wp-content/uploads/2024/10/SAMUEL-Study-Banner.jpg
END:VEVENT
BEGIN:VEVENT
DTSTART;TZID=Africa/Kampala:20250803T080000
DTEND;TZID=Africa/Kampala:20250803T140000
DTSTAMP:20260420T045007
CREATED:20241004T083929Z
LAST-MODIFIED:20251205T085640Z
UID:13520-1754208000-1754229600@calvarykla.com
SUMMARY:Sunday Sermon Series
DESCRIPTION:New sermon series through the book of 1 & 2 Samuel. Every Sunday at 8am for Luganda and 10am & 12noon for English
URL:https://calvarykla.com/event/sunday-sermon-series-3/2025-08-03/
LOCATION:Calvary Chapel Kampala\, 41 William Street\, Kampala\, Kampala\, 256\, Uganda
CATEGORIES:Fellowships,Services
ATTACH;FMTTYPE=image/jpeg:https://calvarykla.com/wp-content/uploads/2024/10/SAMUEL-Study-Banner.jpg
END:VEVENT
BEGIN:VEVENT
DTSTART;TZID=Africa/Kampala:20250216T080000
DTEND;TZID=Africa/Kampala:20250216T140000
DTSTAMP:20260420T045007
CREATED:20241004T083929Z
LAST-MODIFIED:20251204T132927Z
UID:13496-1739692800-1739714400@calvarykla.com
SUMMARY:Sunday Sermon Series
DESCRIPTION:New sermon series through the book of 1 & 2 Samuel. Every Sunday at 8am for Luganda and 10am & 12noon for English
URL:https://calvarykla.com/event/sunday-sermon-series-3/2025-02-16/
LOCATION:Calvary Chapel Kampala\, 41 William Street\, Kampala\, Kampala\, 256\, Uganda
CATEGORIES:Fellowships,Services
ATTACH;FMTTYPE=image/jpeg:https://calvarykla.com/wp-content/uploads/2024/10/SAMUEL-Study-Banner.jpg
END:VEVENT
BEGIN:VEVENT
DTSTART;TZID=Africa/Kampala:20250323T080000
DTEND;TZID=Africa/Kampala:20250323T140000
DTSTAMP:20260420T045007
CREATED:20241004T083929Z
LAST-MODIFIED:20251205T085324Z
UID:13501-1742716800-1742738400@calvarykla.com
SUMMARY:Sunday Sermon Series
DESCRIPTION:New sermon series through the book of 1 & 2 Samuel. Every Sunday at 8am for Luganda and 10am & 12noon for English
URL:https://calvarykla.com/event/sunday-sermon-series-3/2025-03-23/
LOCATION:Calvary Chapel Kampala\, 41 William Street\, Kampala\, Kampala\, 256\, Uganda
CATEGORIES:Fellowships,Services
ATTACH;FMTTYPE=image/jpeg:https://calvarykla.com/wp-content/uploads/2024/10/SAMUEL-Study-Banner.jpg
END:VEVENT
BEGIN:VEVENT
DTSTART;TZID=Africa/Kampala:20251005T080000
DTEND;TZID=Africa/Kampala:20251005T140000
DTSTAMP:20260420T045007
CREATED:20241004T083929Z
LAST-MODIFIED:20251205T085819Z
UID:13529-1759651200-1759672800@calvarykla.com
SUMMARY:Sunday Sermon Series
DESCRIPTION:New sermon series through the book of 1 & 2 Samuel. Every Sunday at 8am for Luganda and 10am & 12noon for English
URL:https://calvarykla.com/event/sunday-sermon-series-3/2025-10-05/
LOCATION:Calvary Chapel Kampala\, 41 William Street\, Kampala\, Kampala\, 256\, Uganda
CATEGORIES:Fellowships,Services
ATTACH;FMTTYPE=image/jpeg:https://calvarykla.com/wp-content/uploads/2024/10/SAMUEL-Study-Banner.jpg
END:VEVENT
BEGIN:VEVENT
DTSTART;TZID=Africa/Kampala:20250112T080000
DTEND;TZID=Africa/Kampala:20250112T140000
DTSTAMP:20260420T045007
CREATED:20241004T083929Z
LAST-MODIFIED:20251204T132745Z
UID:13491-1736668800-1736690400@calvarykla.com
SUMMARY:Sunday Sermon Series
DESCRIPTION:New sermon series through the book of 1 & 2 Samuel. Every Sunday at 8am for Luganda and 10am & 12noon for English
URL:https://calvarykla.com/event/sunday-sermon-series-3/2025-01-12/
LOCATION:Calvary Chapel Kampala\, 41 William Street\, Kampala\, Kampala\, 256\, Uganda
CATEGORIES:Fellowships,Services
ATTACH;FMTTYPE=image/jpeg:https://calvarykla.com/wp-content/uploads/2024/10/SAMUEL-Study-Banner.jpg
END:VEVENT
BEGIN:VEVENT
DTSTART;TZID=Africa/Kampala:20250330T080000
DTEND;TZID=Africa/Kampala:20250330T140000
DTSTAMP:20260420T045007
CREATED:20241004T083929Z
LAST-MODIFIED:20251205T085336Z
UID:13502-1743321600-1743343200@calvarykla.com
SUMMARY:Sunday Sermon Series
DESCRIPTION:New sermon series through the book of 1 & 2 Samuel. Every Sunday at 8am for Luganda and 10am & 12noon for English
URL:https://calvarykla.com/event/sunday-sermon-series-3/2025-03-30/
LOCATION:Calvary Chapel Kampala\, 41 William Street\, Kampala\, Kampala\, 256\, Uganda
CATEGORIES:Fellowships,Services
ATTACH;FMTTYPE=image/jpeg:https://calvarykla.com/wp-content/uploads/2024/10/SAMUEL-Study-Banner.jpg
END:VEVENT
BEGIN:VEVENT
DTSTART;TZID=Africa/Kampala:20250615T080000
DTEND;TZID=Africa/Kampala:20250615T140000
DTSTAMP:20260420T045007
CREATED:20241004T083929Z
LAST-MODIFIED:20251205T085515Z
UID:13513-1749974400-1749996000@calvarykla.com
SUMMARY:Sunday Sermon Series
DESCRIPTION:New sermon series through the book of 1 & 2 Samuel. Every Sunday at 8am for Luganda and 10am & 12noon for English
URL:https://calvarykla.com/event/sunday-sermon-series-3/2025-06-15/
LOCATION:Calvary Chapel Kampala\, 41 William Street\, Kampala\, Kampala\, 256\, Uganda
CATEGORIES:Fellowships,Services
ATTACH;FMTTYPE=image/jpeg:https://calvarykla.com/wp-content/uploads/2024/10/SAMUEL-Study-Banner.jpg
END:VEVENT
BEGIN:VEVENT
DTSTART;TZID=Africa/Kampala:20250810T080000
DTEND;TZID=Africa/Kampala:20250810T140000
DTSTAMP:20260420T045007
CREATED:20241004T083929Z
LAST-MODIFIED:20251205T085654Z
UID:13521-1754812800-1754834400@calvarykla.com
SUMMARY:Sunday Sermon Series
DESCRIPTION:New sermon series through the book of 1 & 2 Samuel. Every Sunday at 8am for Luganda and 10am & 12noon for English
URL:https://calvarykla.com/event/sunday-sermon-series-3/2025-08-10/
LOCATION:Calvary Chapel Kampala\, 41 William Street\, Kampala\, Kampala\, 256\, Uganda
CATEGORIES:Fellowships,Services
ATTACH;FMTTYPE=image/jpeg:https://calvarykla.com/wp-content/uploads/2024/10/SAMUEL-Study-Banner.jpg
END:VEVENT
BEGIN:VEVENT
DTSTART;TZID=Africa/Kampala:20241117T080000
DTEND;TZID=Africa/Kampala:20241117T140000
DTSTAMP:20260420T045008
CREATED:20241004T083929Z
LAST-MODIFIED:20251204T132453Z
UID:13466-1731830400-1731852000@calvarykla.com
SUMMARY:Sunday Sermon Series
DESCRIPTION:New sermon series through the book of 1 & 2 Samuel. Every Sunday at 8am for Luganda and 10am & 12noon for English
URL:https://calvarykla.com/event/sunday-sermon-series-3/2024-11-17/
LOCATION:Calvary Chapel Kampala\, 41 William Street\, Kampala\, Kampala\, 256\, Uganda
CATEGORIES:Fellowships,Services
ATTACH;FMTTYPE=image/jpeg:https://calvarykla.com/wp-content/uploads/2024/10/SAMUEL-Study-Banner.jpg
END:VEVENT
BEGIN:VEVENT
DTSTART;TZID=Africa/Kampala:20250406T080000
DTEND;TZID=Africa/Kampala:20250406T140000
DTSTAMP:20260420T045008
CREATED:20241004T083929Z
LAST-MODIFIED:20251205T085345Z
UID:13503-1743926400-1743948000@calvarykla.com
SUMMARY:Sunday Sermon Series
DESCRIPTION:New sermon series through the book of 1 & 2 Samuel. Every Sunday at 8am for Luganda and 10am & 12noon for English
URL:https://calvarykla.com/event/sunday-sermon-series-3/2025-04-06/
LOCATION:Calvary Chapel Kampala\, 41 William Street\, Kampala\, Kampala\, 256\, Uganda
CATEGORIES:Fellowships,Services
ATTACH;FMTTYPE=image/jpeg:https://calvarykla.com/wp-content/uploads/2024/10/SAMUEL-Study-Banner.jpg
END:VEVENT
BEGIN:VEVENT
DTSTART;TZID=Africa/Kampala:20250413T080000
DTEND;TZID=Africa/Kampala:20250413T140000
DTSTAMP:20260420T045008
CREATED:20241004T083929Z
LAST-MODIFIED:20250411T103949Z
UID:13504-1744531200-1744552800@calvarykla.com
SUMMARY:Palm Sunday Service
DESCRIPTION:Palm Sunday Service on Sunday 13th April at 8am for Luganda and 10am & 12noon for English
URL:https://calvarykla.com/event/sunday-sermon-series-3-2025-04-13/
LOCATION:Calvary Chapel Kampala\, 41 William Street\, Kampala\, Kampala\, 256\, Uganda
CATEGORIES:Fellowships,Services
ATTACH;FMTTYPE=image/jpeg:https://calvarykla.com/wp-content/uploads/2025/04/Palm-Sunday-2.jpg
END:VEVENT
BEGIN:VEVENT
DTSTART;TZID=Africa/Kampala:20250223T080000
DTEND;TZID=Africa/Kampala:20250223T140000
DTSTAMP:20260420T045008
CREATED:20241004T083929Z
LAST-MODIFIED:20251204T132947Z
UID:13497-1740297600-1740319200@calvarykla.com
SUMMARY:Sunday Sermon Series
DESCRIPTION:New sermon series through the book of 1 & 2 Samuel. Every Sunday at 8am for Luganda and 10am & 12noon for English
URL:https://calvarykla.com/event/sunday-sermon-series-3/2025-02-23/
LOCATION:Calvary Chapel Kampala\, 41 William Street\, Kampala\, Kampala\, 256\, Uganda
CATEGORIES:Fellowships,Services
ATTACH;FMTTYPE=image/jpeg:https://calvarykla.com/wp-content/uploads/2024/10/SAMUEL-Study-Banner.jpg
END:VEVENT
BEGIN:VEVENT
DTSTART;TZID=Africa/Kampala:20250427T080000
DTEND;TZID=Africa/Kampala:20250427T140000
DTSTAMP:20260420T045008
CREATED:20241004T083929Z
LAST-MODIFIED:20251205T085352Z
UID:13506-1745740800-1745762400@calvarykla.com
SUMMARY:Sunday Sermon Series
DESCRIPTION:New sermon series through the book of 1 & 2 Samuel. Every Sunday at 8am for Luganda and 10am & 12noon for English
URL:https://calvarykla.com/event/sunday-sermon-series-3/2025-04-27/
LOCATION:Calvary Chapel Kampala\, 41 William Street\, Kampala\, Kampala\, 256\, Uganda
CATEGORIES:Fellowships,Services
ATTACH;FMTTYPE=image/jpeg:https://calvarykla.com/wp-content/uploads/2024/10/SAMUEL-Study-Banner.jpg
END:VEVENT
BEGIN:VEVENT
DTSTART;TZID=Africa/Kampala:20250622T080000
DTEND;TZID=Africa/Kampala:20250622T140000
DTSTAMP:20260420T045008
CREATED:20241004T083929Z
LAST-MODIFIED:20251205T085529Z
UID:13514-1750579200-1750600800@calvarykla.com
SUMMARY:Sunday Sermon Series
DESCRIPTION:New sermon series through the book of 1 & 2 Samuel. Every Sunday at 8am for Luganda and 10am & 12noon for English
URL:https://calvarykla.com/event/sunday-sermon-series-3/2025-06-22/
LOCATION:Calvary Chapel Kampala\, 41 William Street\, Kampala\, Kampala\, 256\, Uganda
CATEGORIES:Fellowships,Services
ATTACH;FMTTYPE=image/jpeg:https://calvarykla.com/wp-content/uploads/2024/10/SAMUEL-Study-Banner.jpg
END:VEVENT
BEGIN:VEVENT
DTSTART;TZID=Africa/Kampala:20250817T080000
DTEND;TZID=Africa/Kampala:20250817T140000
DTSTAMP:20260420T045008
CREATED:20241004T083929Z
LAST-MODIFIED:20251205T085707Z
UID:13522-1755417600-1755439200@calvarykla.com
SUMMARY:Sunday Sermon Series
DESCRIPTION:New sermon series through the book of 1 & 2 Samuel. Every Sunday at 8am for Luganda and 10am & 12noon for English
URL:https://calvarykla.com/event/sunday-sermon-series-3/2025-08-17/
LOCATION:Calvary Chapel Kampala\, 41 William Street\, Kampala\, Kampala\, 256\, Uganda
CATEGORIES:Fellowships,Services
ATTACH;FMTTYPE=image/jpeg:https://calvarykla.com/wp-content/uploads/2024/10/SAMUEL-Study-Banner.jpg
END:VEVENT
BEGIN:VEVENT
DTSTART;TZID=Africa/Kampala:20251012T080000
DTEND;TZID=Africa/Kampala:20251012T140000
DTSTAMP:20260420T045008
CREATED:20241004T083929Z
LAST-MODIFIED:20251205T085832Z
UID:13530-1760256000-1760277600@calvarykla.com
SUMMARY:Sunday Sermon Series
DESCRIPTION:New sermon series through the book of 1 & 2 Samuel. Every Sunday at 8am for Luganda and 10am & 12noon for English
URL:https://calvarykla.com/event/sunday-sermon-series-3/2025-10-12/
LOCATION:Calvary Chapel Kampala\, 41 William Street\, Kampala\, Kampala\, 256\, Uganda
CATEGORIES:Fellowships,Services
ATTACH;FMTTYPE=image/jpeg:https://calvarykla.com/wp-content/uploads/2024/10/SAMUEL-Study-Banner.jpg
END:VEVENT
BEGIN:VEVENT
DTSTART;TZID=Africa/Kampala:20241013T080000
DTEND;TZID=Africa/Kampala:20241013T140000
DTSTAMP:20260420T045008
CREATED:20241004T083929Z
LAST-MODIFIED:20251204T132319Z
UID:13461-1728806400-1728828000@calvarykla.com
SUMMARY:Sunday Sermon Series
DESCRIPTION:New sermon series through the book of 1 & 2 Samuel. Every Sunday at 8am for Luganda and 10am & 12noon for English
URL:https://calvarykla.com/event/sunday-sermon-series-3/2024-10-13/
LOCATION:Calvary Chapel Kampala\, 41 William Street\, Kampala\, Kampala\, 256\, Uganda
CATEGORIES:Fellowships,Services
ATTACH;FMTTYPE=image/jpeg:https://calvarykla.com/wp-content/uploads/2024/10/SAMUEL-Study-Banner.jpg
END:VEVENT
END:VCALENDAR