BEGIN:VCALENDAR
VERSION:2.0
PRODID:-//Calvary Chapel Kampala - ECPv5.16.3.1//NONSGML v1.0//EN
CALSCALE:GREGORIAN
METHOD:PUBLISH
X-WR-CALNAME:Calvary Chapel Kampala
X-ORIGINAL-URL:https://calvarykla.com
X-WR-CALDESC:Events for Calvary Chapel Kampala
REFRESH-INTERVAL;VALUE=DURATION:PT1H
X-Robots-Tag:noindex
X-PUBLISHED-TTL:PT1H
BEGIN:VTIMEZONE
TZID:Africa/Kampala
BEGIN:STANDARD
TZOFFSETFROM:+0300
TZOFFSETTO:+0300
TZNAME:EAT
DTSTART:20240101T000000
END:STANDARD
END:VTIMEZONE
BEGIN:VEVENT
DTSTART;TZID=Africa/Kampala:20250618T180000
DTEND;TZID=Africa/Kampala:20250618T193000
DTSTAMP:20260419T162944
CREATED:20250425T120749Z
LAST-MODIFIED:20250425T120749Z
UID:15137-1750269600-1750275000@calvarykla.com
SUMMARY:Midweek Study Series
DESCRIPTION:Join us for our new Midweek service series as we expound more on The Parables of Jesus
URL:https://calvarykla.com/event/midweek-study-series-3/2025-06-18/
LOCATION:Calvary Chapel Kampala\, 41 William Street\, Kampala\, Kampala\, 256\, Uganda
CATEGORIES:Fellowships,Services
ATTACH;FMTTYPE=image/jpeg:https://calvarykla.com/wp-content/uploads/2025/04/Parables-A3B.jpg
END:VEVENT
BEGIN:VEVENT
DTSTART;TZID=Africa/Kampala:20250903T180000
DTEND;TZID=Africa/Kampala:20250903T193000
DTSTAMP:20260419T162944
CREATED:20250425T120749Z
LAST-MODIFIED:20251205T090733Z
UID:14170-1756922400-1756927800@calvarykla.com
SUMMARY:Midweek Study Series
DESCRIPTION:Join us for our new Midweek service series as we expound more on The Parables of Jesus
URL:https://calvarykla.com/event/midweek-study-series-3/2025-09-03/
LOCATION:Calvary Chapel Kampala\, 41 William Street\, Kampala\, Kampala\, 256\, Uganda
CATEGORIES:Fellowships,Services
ATTACH;FMTTYPE=image/jpeg:https://calvarykla.com/wp-content/uploads/2025/04/Parables-A3B.jpg
END:VEVENT
BEGIN:VEVENT
DTSTART;TZID=Africa/Kampala:20250910T180000
DTEND;TZID=Africa/Kampala:20250910T193000
DTSTAMP:20260419T162944
CREATED:20250425T120749Z
LAST-MODIFIED:20251205T090740Z
UID:14171-1757527200-1757532600@calvarykla.com
SUMMARY:Midweek Study Series
DESCRIPTION:Join us for our new Midweek service series as we expound more on The Parables of Jesus
URL:https://calvarykla.com/event/midweek-study-series-3/2025-09-10/
LOCATION:Calvary Chapel Kampala\, 41 William Street\, Kampala\, Kampala\, 256\, Uganda
CATEGORIES:Fellowships,Services
ATTACH;FMTTYPE=image/jpeg:https://calvarykla.com/wp-content/uploads/2025/04/Parables-A3B.jpg
END:VEVENT
BEGIN:VEVENT
DTSTART;TZID=Africa/Kampala:20250702T180000
DTEND;TZID=Africa/Kampala:20250702T193000
DTSTAMP:20260419T162944
CREATED:20250425T120749Z
LAST-MODIFIED:20250425T120749Z
UID:15139-1751479200-1751484600@calvarykla.com
SUMMARY:Midweek Study Series
DESCRIPTION:Join us for our new Midweek service series as we expound more on The Parables of Jesus
URL:https://calvarykla.com/event/midweek-study-series-3/2025-07-02/
LOCATION:Calvary Chapel Kampala\, 41 William Street\, Kampala\, Kampala\, 256\, Uganda
CATEGORIES:Fellowships,Services
ATTACH;FMTTYPE=image/jpeg:https://calvarykla.com/wp-content/uploads/2025/04/Parables-A3B.jpg
END:VEVENT
BEGIN:VEVENT
DTSTART;TZID=Africa/Kampala:20250917T180000
DTEND;TZID=Africa/Kampala:20250917T193000
DTSTAMP:20260419T162944
CREATED:20250425T120749Z
LAST-MODIFIED:20251205T090754Z
UID:14172-1758132000-1758137400@calvarykla.com
SUMMARY:Midweek Study Series
DESCRIPTION:Join us for our new Midweek service series as we expound more on The Parables of Jesus
URL:https://calvarykla.com/event/midweek-study-series-3/2025-09-17/
LOCATION:Calvary Chapel Kampala\, 41 William Street\, Kampala\, Kampala\, 256\, Uganda
CATEGORIES:Fellowships,Services
ATTACH;FMTTYPE=image/jpeg:https://calvarykla.com/wp-content/uploads/2025/04/Parables-A3B.jpg
END:VEVENT
BEGIN:VEVENT
DTSTART;TZID=Africa/Kampala:20251001T180000
DTEND;TZID=Africa/Kampala:20251001T193000
DTSTAMP:20260419T162944
CREATED:20250425T120749Z
LAST-MODIFIED:20251205T090813Z
UID:14173-1759341600-1759347000@calvarykla.com
SUMMARY:Midweek Study Series
DESCRIPTION:Join us for our new Midweek service series as we expound more on The Parables of Jesus
URL:https://calvarykla.com/event/midweek-study-series-3/2025-10-01/
LOCATION:Calvary Chapel Kampala\, 41 William Street\, Kampala\, Kampala\, 256\, Uganda
CATEGORIES:Fellowships,Services
ATTACH;FMTTYPE=image/jpeg:https://calvarykla.com/wp-content/uploads/2025/04/Parables-A3B.jpg
END:VEVENT
BEGIN:VEVENT
DTSTART;TZID=Africa/Kampala:20250507T180000
DTEND;TZID=Africa/Kampala:20250507T193000
DTSTAMP:20260419T162944
CREATED:20250425T120749Z
LAST-MODIFIED:20251204T130148Z
UID:14154-1746640800-1746646200@calvarykla.com
SUMMARY:Midweek Study Series
DESCRIPTION:Join us for our new Midweek service series as we expound more on The Parables of Jesus
URL:https://calvarykla.com/event/midweek-study-series-3/2025-05-07/
LOCATION:Calvary Chapel Kampala\, 41 William Street\, Kampala\, Kampala\, 256\, Uganda
CATEGORIES:Fellowships,Services
ATTACH;FMTTYPE=image/jpeg:https://calvarykla.com/wp-content/uploads/2025/04/Parables-A3B.jpg
END:VEVENT
BEGIN:VEVENT
DTSTART;TZID=Africa/Kampala:20251008T180000
DTEND;TZID=Africa/Kampala:20251008T193000
DTSTAMP:20260419T162944
CREATED:20250425T120749Z
LAST-MODIFIED:20251205T090827Z
UID:14174-1759946400-1759951800@calvarykla.com
SUMMARY:Midweek Study Series
DESCRIPTION:Join us for our new Midweek service series as we expound more on The Parables of Jesus
URL:https://calvarykla.com/event/midweek-study-series-3/2025-10-08/
LOCATION:Calvary Chapel Kampala\, 41 William Street\, Kampala\, Kampala\, 256\, Uganda
CATEGORIES:Fellowships,Services
ATTACH;FMTTYPE=image/jpeg:https://calvarykla.com/wp-content/uploads/2025/04/Parables-A3B.jpg
END:VEVENT
BEGIN:VEVENT
DTSTART;TZID=Africa/Kampala:20250709T180000
DTEND;TZID=Africa/Kampala:20250709T193000
DTSTAMP:20260419T162944
CREATED:20250425T120749Z
LAST-MODIFIED:20250425T120749Z
UID:15141-1752084000-1752089400@calvarykla.com
SUMMARY:Midweek Study Series
DESCRIPTION:Join us for our new Midweek service series as we expound more on The Parables of Jesus
URL:https://calvarykla.com/event/midweek-study-series-3/2025-07-09/
LOCATION:Calvary Chapel Kampala\, 41 William Street\, Kampala\, Kampala\, 256\, Uganda
CATEGORIES:Fellowships,Services
ATTACH;FMTTYPE=image/jpeg:https://calvarykla.com/wp-content/uploads/2025/04/Parables-A3B.jpg
END:VEVENT
BEGIN:VEVENT
DTSTART;TZID=Africa/Kampala:20251015T180000
DTEND;TZID=Africa/Kampala:20251015T193000
DTSTAMP:20260419T162944
CREATED:20250425T120749Z
LAST-MODIFIED:20251205T090838Z
UID:14175-1760551200-1760556600@calvarykla.com
SUMMARY:Midweek Study Series
DESCRIPTION:Join us for our new Midweek service series as we expound more on The Parables of Jesus
URL:https://calvarykla.com/event/midweek-study-series-3/2025-10-15/
LOCATION:Calvary Chapel Kampala\, 41 William Street\, Kampala\, Kampala\, 256\, Uganda
CATEGORIES:Fellowships,Services
ATTACH;FMTTYPE=image/jpeg:https://calvarykla.com/wp-content/uploads/2025/04/Parables-A3B.jpg
END:VEVENT
BEGIN:VEVENT
DTSTART;TZID=Africa/Kampala:20250514T180000
DTEND;TZID=Africa/Kampala:20250514T193000
DTSTAMP:20260419T162944
CREATED:20250425T120749Z
LAST-MODIFIED:20250425T120749Z
UID:15126-1747245600-1747251000@calvarykla.com
SUMMARY:Midweek Study Series
DESCRIPTION:Join us for our new Midweek service series as we expound more on The Parables of Jesus
URL:https://calvarykla.com/event/midweek-study-series-3/2025-05-14/
LOCATION:Calvary Chapel Kampala\, 41 William Street\, Kampala\, Kampala\, 256\, Uganda
CATEGORIES:Fellowships,Services
ATTACH;FMTTYPE=image/jpeg:https://calvarykla.com/wp-content/uploads/2025/04/Parables-A3B.jpg
END:VEVENT
BEGIN:VEVENT
DTSTART;TZID=Africa/Kampala:20251022T180000
DTEND;TZID=Africa/Kampala:20251022T193000
DTSTAMP:20260419T162944
CREATED:20250425T120749Z
LAST-MODIFIED:20251205T090845Z
UID:14176-1761156000-1761161400@calvarykla.com
SUMMARY:Midweek Study Series
DESCRIPTION:Join us for our new Midweek service series as we expound more on The Parables of Jesus
URL:https://calvarykla.com/event/midweek-study-series-3/2025-10-22/
LOCATION:Calvary Chapel Kampala\, 41 William Street\, Kampala\, Kampala\, 256\, Uganda
CATEGORIES:Fellowships,Services
ATTACH;FMTTYPE=image/jpeg:https://calvarykla.com/wp-content/uploads/2025/04/Parables-A3B.jpg
END:VEVENT
BEGIN:VEVENT
DTSTART;TZID=Africa/Kampala:20251105T180000
DTEND;TZID=Africa/Kampala:20251105T193000
DTSTAMP:20260419T162944
CREATED:20250425T120749Z
LAST-MODIFIED:20251205T090853Z
UID:14177-1762365600-1762371000@calvarykla.com
SUMMARY:Midweek Study Series
DESCRIPTION:Join us for our new Midweek service series as we expound more on The Parables of Jesus
URL:https://calvarykla.com/event/midweek-study-series-3/2025-11-05/
LOCATION:Calvary Chapel Kampala\, 41 William Street\, Kampala\, Kampala\, 256\, Uganda
CATEGORIES:Fellowships,Services
ATTACH;FMTTYPE=image/jpeg:https://calvarykla.com/wp-content/uploads/2025/04/Parables-A3B.jpg
END:VEVENT
BEGIN:VEVENT
DTSTART;TZID=Africa/Kampala:20250521T180000
DTEND;TZID=Africa/Kampala:20250521T193000
DTSTAMP:20260419T162944
CREATED:20250425T120749Z
LAST-MODIFIED:20250425T120749Z
UID:15128-1747850400-1747855800@calvarykla.com
SUMMARY:Midweek Study Series
DESCRIPTION:Join us for our new Midweek service series as we expound more on The Parables of Jesus
URL:https://calvarykla.com/event/midweek-study-series-3/2025-05-21/
LOCATION:Calvary Chapel Kampala\, 41 William Street\, Kampala\, Kampala\, 256\, Uganda
CATEGORIES:Fellowships,Services
ATTACH;FMTTYPE=image/jpeg:https://calvarykla.com/wp-content/uploads/2025/04/Parables-A3B.jpg
END:VEVENT
BEGIN:VEVENT
DTSTART;TZID=Africa/Kampala:20250716T180000
DTEND;TZID=Africa/Kampala:20250716T193000
DTSTAMP:20260419T162944
CREATED:20250425T120749Z
LAST-MODIFIED:20250425T120749Z
UID:15145-1752688800-1752694200@calvarykla.com
SUMMARY:Midweek Study Series
DESCRIPTION:Join us for our new Midweek service series as we expound more on The Parables of Jesus
URL:https://calvarykla.com/event/midweek-study-series-3/2025-07-16/
LOCATION:Calvary Chapel Kampala\, 41 William Street\, Kampala\, Kampala\, 256\, Uganda
CATEGORIES:Fellowships,Services
ATTACH;FMTTYPE=image/jpeg:https://calvarykla.com/wp-content/uploads/2025/04/Parables-A3B.jpg
END:VEVENT
BEGIN:VEVENT
DTSTART;TZID=Africa/Kampala:20250723T180000
DTEND;TZID=Africa/Kampala:20250723T193000
DTSTAMP:20260419T162944
CREATED:20250425T120749Z
LAST-MODIFIED:20250425T120749Z
UID:15147-1753293600-1753299000@calvarykla.com
SUMMARY:Midweek Study Series
DESCRIPTION:Join us for our new Midweek service series as we expound more on The Parables of Jesus
URL:https://calvarykla.com/event/midweek-study-series-3/2025-07-23/
LOCATION:Calvary Chapel Kampala\, 41 William Street\, Kampala\, Kampala\, 256\, Uganda
CATEGORIES:Fellowships,Services
ATTACH;FMTTYPE=image/jpeg:https://calvarykla.com/wp-content/uploads/2025/04/Parables-A3B.jpg
END:VEVENT
BEGIN:VEVENT
DTSTART;TZID=Africa/Kampala:20250604T180000
DTEND;TZID=Africa/Kampala:20250604T193000
DTSTAMP:20260419T162944
CREATED:20250425T120749Z
LAST-MODIFIED:20250425T120749Z
UID:15131-1749060000-1749065400@calvarykla.com
SUMMARY:Midweek Study Series
DESCRIPTION:Join us for our new Midweek service series as we expound more on The Parables of Jesus
URL:https://calvarykla.com/event/midweek-study-series-3/2025-06-04/
LOCATION:Calvary Chapel Kampala\, 41 William Street\, Kampala\, Kampala\, 256\, Uganda
CATEGORIES:Fellowships,Services
ATTACH;FMTTYPE=image/jpeg:https://calvarykla.com/wp-content/uploads/2025/04/Parables-A3B.jpg
END:VEVENT
BEGIN:VEVENT
DTSTART;TZID=Africa/Kampala:20250806T180000
DTEND;TZID=Africa/Kampala:20250806T193000
DTSTAMP:20260419T162944
CREATED:20250425T120749Z
LAST-MODIFIED:20250425T120749Z
UID:15149-1754503200-1754508600@calvarykla.com
SUMMARY:Midweek Study Series
DESCRIPTION:Join us for our new Midweek service series as we expound more on The Parables of Jesus
URL:https://calvarykla.com/event/midweek-study-series-3/2025-08-06/
LOCATION:Calvary Chapel Kampala\, 41 William Street\, Kampala\, Kampala\, 256\, Uganda
CATEGORIES:Fellowships,Services
ATTACH;FMTTYPE=image/jpeg:https://calvarykla.com/wp-content/uploads/2025/04/Parables-A3B.jpg
END:VEVENT
BEGIN:VEVENT
DTSTART;TZID=Africa/Kampala:20250813T180000
DTEND;TZID=Africa/Kampala:20250813T193000
DTSTAMP:20260419T162944
CREATED:20250425T120749Z
LAST-MODIFIED:20251205T090715Z
UID:14168-1755108000-1755113400@calvarykla.com
SUMMARY:Midweek Study Series
DESCRIPTION:Join us for our new Midweek service series as we expound more on The Parables of Jesus
URL:https://calvarykla.com/event/midweek-study-series-3/2025-08-13/
LOCATION:Calvary Chapel Kampala\, 41 William Street\, Kampala\, Kampala\, 256\, Uganda
CATEGORIES:Fellowships,Services
ATTACH;FMTTYPE=image/jpeg:https://calvarykla.com/wp-content/uploads/2025/04/Parables-A3B.jpg
END:VEVENT
BEGIN:VEVENT
DTSTART;TZID=Africa/Kampala:20250611T180000
DTEND;TZID=Africa/Kampala:20250611T193000
DTSTAMP:20260419T162944
CREATED:20250425T120749Z
LAST-MODIFIED:20250425T120749Z
UID:15134-1749664800-1749670200@calvarykla.com
SUMMARY:Midweek Study Series
DESCRIPTION:Join us for our new Midweek service series as we expound more on The Parables of Jesus
URL:https://calvarykla.com/event/midweek-study-series-3/2025-06-11/
LOCATION:Calvary Chapel Kampala\, 41 William Street\, Kampala\, Kampala\, 256\, Uganda
CATEGORIES:Fellowships,Services
ATTACH;FMTTYPE=image/jpeg:https://calvarykla.com/wp-content/uploads/2025/04/Parables-A3B.jpg
END:VEVENT
BEGIN:VEVENT
DTSTART;TZID=Africa/Kampala:20250223T080000
DTEND;TZID=Africa/Kampala:20250223T140000
DTSTAMP:20260419T162944
CREATED:20241004T083929Z
LAST-MODIFIED:20251204T132947Z
UID:13497-1740297600-1740319200@calvarykla.com
SUMMARY:Sunday Sermon Series
DESCRIPTION:New sermon series through the book of 1 & 2 Samuel. Every Sunday at 8am for Luganda and 10am & 12noon for English
URL:https://calvarykla.com/event/sunday-sermon-series-3/2025-02-23/
LOCATION:Calvary Chapel Kampala\, 41 William Street\, Kampala\, Kampala\, 256\, Uganda
CATEGORIES:Fellowships,Services
ATTACH;FMTTYPE=image/jpeg:https://calvarykla.com/wp-content/uploads/2024/10/SAMUEL-Study-Banner.jpg
END:VEVENT
BEGIN:VEVENT
DTSTART;TZID=Africa/Kampala:20250427T080000
DTEND;TZID=Africa/Kampala:20250427T140000
DTSTAMP:20260419T162944
CREATED:20241004T083929Z
LAST-MODIFIED:20251205T085352Z
UID:13506-1745740800-1745762400@calvarykla.com
SUMMARY:Sunday Sermon Series
DESCRIPTION:New sermon series through the book of 1 & 2 Samuel. Every Sunday at 8am for Luganda and 10am & 12noon for English
URL:https://calvarykla.com/event/sunday-sermon-series-3/2025-04-27/
LOCATION:Calvary Chapel Kampala\, 41 William Street\, Kampala\, Kampala\, 256\, Uganda
CATEGORIES:Fellowships,Services
ATTACH;FMTTYPE=image/jpeg:https://calvarykla.com/wp-content/uploads/2024/10/SAMUEL-Study-Banner.jpg
END:VEVENT
BEGIN:VEVENT
DTSTART;TZID=Africa/Kampala:20250622T080000
DTEND;TZID=Africa/Kampala:20250622T140000
DTSTAMP:20260419T162944
CREATED:20241004T083929Z
LAST-MODIFIED:20251205T085529Z
UID:13514-1750579200-1750600800@calvarykla.com
SUMMARY:Sunday Sermon Series
DESCRIPTION:New sermon series through the book of 1 & 2 Samuel. Every Sunday at 8am for Luganda and 10am & 12noon for English
URL:https://calvarykla.com/event/sunday-sermon-series-3/2025-06-22/
LOCATION:Calvary Chapel Kampala\, 41 William Street\, Kampala\, Kampala\, 256\, Uganda
CATEGORIES:Fellowships,Services
ATTACH;FMTTYPE=image/jpeg:https://calvarykla.com/wp-content/uploads/2024/10/SAMUEL-Study-Banner.jpg
END:VEVENT
BEGIN:VEVENT
DTSTART;TZID=Africa/Kampala:20250817T080000
DTEND;TZID=Africa/Kampala:20250817T140000
DTSTAMP:20260419T162944
CREATED:20241004T083929Z
LAST-MODIFIED:20251205T085707Z
UID:13522-1755417600-1755439200@calvarykla.com
SUMMARY:Sunday Sermon Series
DESCRIPTION:New sermon series through the book of 1 & 2 Samuel. Every Sunday at 8am for Luganda and 10am & 12noon for English
URL:https://calvarykla.com/event/sunday-sermon-series-3/2025-08-17/
LOCATION:Calvary Chapel Kampala\, 41 William Street\, Kampala\, Kampala\, 256\, Uganda
CATEGORIES:Fellowships,Services
ATTACH;FMTTYPE=image/jpeg:https://calvarykla.com/wp-content/uploads/2024/10/SAMUEL-Study-Banner.jpg
END:VEVENT
BEGIN:VEVENT
DTSTART;TZID=Africa/Kampala:20251012T080000
DTEND;TZID=Africa/Kampala:20251012T140000
DTSTAMP:20260419T162944
CREATED:20241004T083929Z
LAST-MODIFIED:20251205T085832Z
UID:13530-1760256000-1760277600@calvarykla.com
SUMMARY:Sunday Sermon Series
DESCRIPTION:New sermon series through the book of 1 & 2 Samuel. Every Sunday at 8am for Luganda and 10am & 12noon for English
URL:https://calvarykla.com/event/sunday-sermon-series-3/2025-10-12/
LOCATION:Calvary Chapel Kampala\, 41 William Street\, Kampala\, Kampala\, 256\, Uganda
CATEGORIES:Fellowships,Services
ATTACH;FMTTYPE=image/jpeg:https://calvarykla.com/wp-content/uploads/2024/10/SAMUEL-Study-Banner.jpg
END:VEVENT
BEGIN:VEVENT
DTSTART;TZID=Africa/Kampala:20250413T080000
DTEND;TZID=Africa/Kampala:20250413T140000
DTSTAMP:20260419T162944
CREATED:20241004T083929Z
LAST-MODIFIED:20250411T103949Z
UID:13504-1744531200-1744552800@calvarykla.com
SUMMARY:Palm Sunday Service
DESCRIPTION:Palm Sunday Service on Sunday 13th April at 8am for Luganda and 10am & 12noon for English
URL:https://calvarykla.com/event/sunday-sermon-series-3-2025-04-13/
LOCATION:Calvary Chapel Kampala\, 41 William Street\, Kampala\, Kampala\, 256\, Uganda
CATEGORIES:Fellowships,Services
ATTACH;FMTTYPE=image/jpeg:https://calvarykla.com/wp-content/uploads/2025/04/Palm-Sunday-2.jpg
END:VEVENT
BEGIN:VEVENT
DTSTART;TZID=Africa/Kampala:20250119T080000
DTEND;TZID=Africa/Kampala:20250119T140000
DTSTAMP:20260419T162944
CREATED:20241004T083929Z
LAST-MODIFIED:20251204T132806Z
UID:13492-1737273600-1737295200@calvarykla.com
SUMMARY:Sunday Sermon Series
DESCRIPTION:New sermon series through the book of 1 & 2 Samuel. Every Sunday at 8am for Luganda and 10am & 12noon for English
URL:https://calvarykla.com/event/sunday-sermon-series-3/2025-01-19/
LOCATION:Calvary Chapel Kampala\, 41 William Street\, Kampala\, Kampala\, 256\, Uganda
CATEGORIES:Fellowships,Services
ATTACH;FMTTYPE=image/jpeg:https://calvarykla.com/wp-content/uploads/2024/10/SAMUEL-Study-Banner.jpg
END:VEVENT
BEGIN:VEVENT
DTSTART;TZID=Africa/Kampala:20250504T080000
DTEND;TZID=Africa/Kampala:20250504T140000
DTSTAMP:20260419T162944
CREATED:20241004T083929Z
LAST-MODIFIED:20251205T085400Z
UID:13507-1746345600-1746367200@calvarykla.com
SUMMARY:Sunday Sermon Series
DESCRIPTION:New sermon series through the book of 1 & 2 Samuel. Every Sunday at 8am for Luganda and 10am & 12noon for English
URL:https://calvarykla.com/event/sunday-sermon-series-3/2025-05-04/
LOCATION:Calvary Chapel Kampala\, 41 William Street\, Kampala\, Kampala\, 256\, Uganda
CATEGORIES:Fellowships,Services
ATTACH;FMTTYPE=image/jpeg:https://calvarykla.com/wp-content/uploads/2024/10/SAMUEL-Study-Banner.jpg
END:VEVENT
BEGIN:VEVENT
DTSTART;TZID=Africa/Kampala:20241013T080000
DTEND;TZID=Africa/Kampala:20241013T140000
DTSTAMP:20260419T162944
CREATED:20241004T083929Z
LAST-MODIFIED:20251204T132319Z
UID:13461-1728806400-1728828000@calvarykla.com
SUMMARY:Sunday Sermon Series
DESCRIPTION:New sermon series through the book of 1 & 2 Samuel. Every Sunday at 8am for Luganda and 10am & 12noon for English
URL:https://calvarykla.com/event/sunday-sermon-series-3/2024-10-13/
LOCATION:Calvary Chapel Kampala\, 41 William Street\, Kampala\, Kampala\, 256\, Uganda
CATEGORIES:Fellowships,Services
ATTACH;FMTTYPE=image/jpeg:https://calvarykla.com/wp-content/uploads/2024/10/SAMUEL-Study-Banner.jpg
END:VEVENT
BEGIN:VEVENT
DTSTART;TZID=Africa/Kampala:20250629T080000
DTEND;TZID=Africa/Kampala:20250629T140000
DTSTAMP:20260419T162944
CREATED:20241004T083929Z
LAST-MODIFIED:20251205T085540Z
UID:13515-1751184000-1751205600@calvarykla.com
SUMMARY:Sunday Sermon Series
DESCRIPTION:New sermon series through the book of 1 & 2 Samuel. Every Sunday at 8am for Luganda and 10am & 12noon for English
URL:https://calvarykla.com/event/sunday-sermon-series-3/2025-06-29/
LOCATION:Calvary Chapel Kampala\, 41 William Street\, Kampala\, Kampala\, 256\, Uganda
CATEGORIES:Fellowships,Services
ATTACH;FMTTYPE=image/jpeg:https://calvarykla.com/wp-content/uploads/2024/10/SAMUEL-Study-Banner.jpg
END:VEVENT
END:VCALENDAR