BEGIN:VCALENDAR
VERSION:2.0
PRODID:-//Calvary Chapel Kampala - ECPv5.16.3.1//NONSGML v1.0//EN
CALSCALE:GREGORIAN
METHOD:PUBLISH
X-WR-CALNAME:Calvary Chapel Kampala
X-ORIGINAL-URL:https://calvarykla.com
X-WR-CALDESC:Events for Calvary Chapel Kampala
REFRESH-INTERVAL;VALUE=DURATION:PT1H
X-Robots-Tag:noindex
X-PUBLISHED-TTL:PT1H
BEGIN:VTIMEZONE
TZID:Africa/Kampala
BEGIN:STANDARD
TZOFFSETFROM:+0300
TZOFFSETTO:+0300
TZNAME:EAT
DTSTART:20250101T000000
END:STANDARD
END:VTIMEZONE
BEGIN:VEVENT
DTSTART;TZID=Africa/Kampala:20250414T170000
DTEND;TZID=Africa/Kampala:20250414T190000
DTSTAMP:20260419T181455
CREATED:20241001T073249Z
LAST-MODIFIED:20241001T100833Z
UID:13104-1744650000-1744657200@calvarykla.com
SUMMARY:Men's Fellowship
DESCRIPTION:Men’s weekly study through the book of Romans
URL:https://calvarykla.com/event/mens-fellowship-4/2025-04-14/
LOCATION:Calvary Chapel Kampala\, 41 William Street\, Kampala\, Kampala\, 256\, Uganda
CATEGORIES:Fellowships
ATTACH;FMTTYPE=image/png:https://calvarykla.com/wp-content/uploads/2024/10/Men-of-The-Word-Romans.png
END:VEVENT
BEGIN:VEVENT
DTSTART;TZID=Africa/Kampala:20250415T170000
DTEND;TZID=Africa/Kampala:20250415T190000
DTSTAMP:20260419T181455
CREATED:20241001T072838Z
LAST-MODIFIED:20241001T100748Z
UID:13057-1744736400-1744743600@calvarykla.com
SUMMARY:Men's Fellowship
DESCRIPTION:Men’s weekly bible study through the book of Exodus
URL:https://calvarykla.com/event/mens-fellowship-3/2025-04-15/
LOCATION:Calvary Chapel Kampala\, 41 William Street\, Kampala\, Kampala\, 256\, Uganda
CATEGORIES:Fellowships
ATTACH;FMTTYPE=image/png:https://calvarykla.com/wp-content/uploads/2024/10/Men-of-The-Word-Exodus.png
END:VEVENT
BEGIN:VEVENT
DTSTART;TZID=Africa/Kampala:20250415T180000
DTEND;TZID=Africa/Kampala:20250415T193000
DTSTAMP:20260419T181455
CREATED:20240917T123703Z
LAST-MODIFIED:20240917T123703Z
UID:12874-1744740000-1744745400@calvarykla.com
SUMMARY:Women's Fellowship
DESCRIPTION:Every Tuesday at 6pm. Currently going through a book called Money\, Possessions and Eternity by Randy Alcorn
URL:https://calvarykla.com/event/womens-fellowship-2/2025-04-15/
LOCATION:Calvary Chapel Kampala\, 41 William Street\, Kampala\, Kampala\, 256\, Uganda
CATEGORIES:Fellowships
ATTACH;FMTTYPE=image/jpeg:https://calvarykla.com/wp-content/uploads/2024/09/Ladies-Study.jpg
END:VEVENT
BEGIN:VEVENT
DTSTART;TZID=Africa/Kampala:20250416T180000
DTEND;TZID=Africa/Kampala:20250416T193000
DTSTAMP:20260419T181455
CREATED:20240904T173617Z
LAST-MODIFIED:20250411T104052Z
UID:12490-1744826400-1744831800@calvarykla.com
SUMMARY:Passion Wednesday Service
DESCRIPTION:The CCK Passion series continues; Service starts at 6:00pm
URL:https://calvarykla.com/event/midweek-study-series-2-2025-04-16/
LOCATION:Calvary Chapel Kampala\, 41 William Street\, Kampala\, Kampala\, 256\, Uganda
CATEGORIES:Fellowships,Services
ATTACH;FMTTYPE=image/jpeg:https://calvarykla.com/wp-content/uploads/2024/09/PassionWednesday-service-2025.jpg
END:VEVENT
BEGIN:VEVENT
DTSTART;TZID=Africa/Kampala:20250417T160000
DTEND;TZID=Africa/Kampala:20250417T173000
DTSTAMP:20260419T181455
CREATED:20231118T132337Z
LAST-MODIFIED:20251205T085426Z
UID:10692-1744905600-1744911000@calvarykla.com
SUMMARY:Prayer Fellowship
DESCRIPTION:Rejoice always\, pray without ceasing\, in everything give thanks; for this is the will of God in Christ Jesus for you. I Thessalonians 5:16-18
URL:https://calvarykla.com/event/prayer-fellowship/2025-04-17/
LOCATION:Calvary Chapel Kampala\, 41 William Street\, Kampala\, Kampala\, 256\, Uganda
CATEGORIES:Fellowships
ATTACH;FMTTYPE=image/jpeg:https://calvarykla.com/wp-content/uploads/2023/11/Prayer-fellowship.jpg
END:VEVENT
BEGIN:VEVENT
DTSTART;TZID=Africa/Kampala:20250418T160000
DTEND;TZID=Africa/Kampala:20250418T173000
DTSTAMP:20260419T181455
CREATED:20231118T132224Z
LAST-MODIFIED:20250411T104015Z
UID:10669-1744992000-1744997400@calvarykla.com
SUMMARY:Good Friday Service
DESCRIPTION:The CCK Passion series continues; with a communion service at 6:00pm on Good Friday\, 18th April
URL:https://calvarykla.com/event/missions-2-2025-04-18/
LOCATION:Calvary Chapel Kampala\, 41 William Street\, Kampala\, Kampala\, 256\, Uganda
CATEGORIES:Outreaches
ATTACH;FMTTYPE=image/jpeg:https://calvarykla.com/wp-content/uploads/2024/09/Good-Friday-2025.jpg
END:VEVENT
BEGIN:VEVENT
DTSTART;TZID=Africa/Kampala:20250419T080000
DTEND;TZID=Africa/Kampala:20250419T120000
DTSTAMP:20260419T181455
CREATED:20231119T084917Z
LAST-MODIFIED:20231122T114507Z
UID:11774-1745049600-1745064000@calvarykla.com
SUMMARY:Frontline Ministry
DESCRIPTION:Our ministry to street children
URL:https://calvarykla.com/event/frontline-ministry/2025-04-19/
LOCATION:Calvary Chapel Kampala\, 41 William Street\, Kampala\, Kampala\, 256\, Uganda
CATEGORIES:Outreaches
ATTACH;FMTTYPE=image/jpeg:https://calvarykla.com/wp-content/uploads/2023/11/Frontline.jpg
END:VEVENT
BEGIN:VEVENT
DTSTART;TZID=Africa/Kampala:20250420T080000
DTEND;TZID=Africa/Kampala:20250420T140000
DTSTAMP:20260419T181455
CREATED:20241004T083929Z
LAST-MODIFIED:20250411T103926Z
UID:13505-1745136000-1745157600@calvarykla.com
SUMMARY:Resurrection Sunday Service
DESCRIPTION:Easter Sunday Services on Sunday 20th April at 8am for Luganda and 10am & 12noon for English
URL:https://calvarykla.com/event/sunday-sermon-series-3-2025-04-20/
LOCATION:Calvary Chapel Kampala\, 41 William Street\, Kampala\, Kampala\, 256\, Uganda
CATEGORIES:Fellowships,Services
ATTACH;FMTTYPE=image/jpeg:https://calvarykla.com/wp-content/uploads/2024/09/Easter-service-2025.jpg
END:VEVENT
BEGIN:VEVENT
DTSTART;TZID=Africa/Kampala:20250420T150000
DTEND;TZID=Africa/Kampala:20250420T170000
DTSTAMP:20260419T181455
CREATED:20231118T143922Z
LAST-MODIFIED:20231119T075247Z
UID:10849-1745161200-1745168400@calvarykla.com
SUMMARY:Kirundi Service
DESCRIPTION:Kirundi /Kinyarwanda service every Sunday starting at 3pm.
URL:https://calvarykla.com/event/kirundi-service/2025-04-20/
LOCATION:Calvary Chapel Kampala\, 41 William Street\, Kampala\, Kampala\, 256\, Uganda
CATEGORIES:Fellowships,Services
ATTACH;FMTTYPE=image/jpeg:https://calvarykla.com/wp-content/uploads/2023/11/Screen-Kir.jpg
END:VEVENT
END:VCALENDAR