BEGIN:VCALENDAR
VERSION:2.0
PRODID:-//Calvary Chapel Kampala - ECPv5.16.3.1//NONSGML v1.0//EN
CALSCALE:GREGORIAN
METHOD:PUBLISH
X-ORIGINAL-URL:https://calvarykla.com
X-WR-CALDESC:Events for Calvary Chapel Kampala
REFRESH-INTERVAL;VALUE=DURATION:PT1H
X-Robots-Tag:noindex
X-PUBLISHED-TTL:PT1H
BEGIN:VTIMEZONE
TZID:Africa/Kampala
BEGIN:STANDARD
TZOFFSETFROM:+0300
TZOFFSETTO:+0300
TZNAME:EAT
DTSTART:20240101T000000
END:STANDARD
END:VTIMEZONE
BEGIN:VEVENT
DTSTART;TZID=Africa/Kampala:20240923T170000
DTEND;TZID=Africa/Kampala:20240923T190000
DTSTAMP:20260420T095134
CREATED:20231118T141705Z
LAST-MODIFIED:20241003T121220Z
UID:10451-1727110800-1727118000@calvarykla.com
SUMMARY:Men's Fellowship
DESCRIPTION:Men’s weekly study through the book of Romans
URL:https://calvarykla.com/event/mens-fellowship/2024-09-23/
LOCATION:Calvary Chapel Kampala\, 41 William Street\, Kampala\, Kampala\, 256\, Uganda
CATEGORIES:Fellowships
ATTACH;FMTTYPE=image/png:https://calvarykla.com/wp-content/uploads/2023/11/Men.png
END:VEVENT
BEGIN:VEVENT
DTSTART;TZID=Africa/Kampala:20240924T170000
DTEND;TZID=Africa/Kampala:20240924T190000
DTSTAMP:20260420T095134
CREATED:20231118T141936Z
LAST-MODIFIED:20241001T101129Z
UID:10490-1727197200-1727204400@calvarykla.com
SUMMARY:Men's Fellowship
DESCRIPTION:Men’s study through the book of Genesis
URL:https://calvarykla.com/event/mens-fellowship-2/2024-09-24/
LOCATION:Calvary Chapel Kampala\, 41 William Street\, Kampala\, Kampala\, 256\, Uganda
CATEGORIES:Fellowships
ATTACH;FMTTYPE=image/png:https://calvarykla.com/wp-content/uploads/2023/11/Men.png
END:VEVENT
BEGIN:VEVENT
DTSTART;TZID=Africa/Kampala:20240924T180000
DTEND;TZID=Africa/Kampala:20240924T193000
DTSTAMP:20260420T095134
CREATED:20240917T123703Z
LAST-MODIFIED:20240924T100157Z
UID:12845-1727200800-1727206200@calvarykla.com
SUMMARY:Women's Fellowship
DESCRIPTION:Every Tuesday at 6pm. Currently going through a book called Money\, Possessions and Eternity by Randy Alcorn
URL:https://calvarykla.com/event/womens-fellowship-2/2024-09-24/
LOCATION:Calvary Chapel Kampala\, 41 William Street\, Kampala\, Kampala\, 256\, Uganda
CATEGORIES:Fellowships
ATTACH;FMTTYPE=image/jpeg:https://calvarykla.com/wp-content/uploads/2024/09/Ladies-Study.jpg
END:VEVENT
BEGIN:VEVENT
DTSTART;TZID=Africa/Kampala:20240926T160000
DTEND;TZID=Africa/Kampala:20240926T173000
DTSTAMP:20260420T095134
CREATED:20231118T132337Z
LAST-MODIFIED:20251204T132133Z
UID:10552-1727366400-1727371800@calvarykla.com
SUMMARY:Prayer Fellowship
DESCRIPTION:Rejoice always\, pray without ceasing\, in everything give thanks; for this is the will of God in Christ Jesus for you. I Thessalonians 5:16-18
URL:https://calvarykla.com/event/prayer-fellowship/2024-09-26/
LOCATION:Calvary Chapel Kampala\, 41 William Street\, Kampala\, Kampala\, 256\, Uganda
CATEGORIES:Fellowships
ATTACH;FMTTYPE=image/jpeg:https://calvarykla.com/wp-content/uploads/2023/11/Prayer-fellowship.jpg
END:VEVENT
BEGIN:VEVENT
DTSTART;TZID=Africa/Kampala:20240927T160000
DTEND;TZID=Africa/Kampala:20240927T173000
DTSTAMP:20260420T095134
CREATED:20231118T130931Z
LAST-MODIFIED:20231118T170338Z
UID:10195-1727452800-1727458200@calvarykla.com
SUMMARY:Missions
DESCRIPTION:Fellowship and follow-up on the month’s activities.
URL:https://calvarykla.com/event/missions/2024-09-27/
LOCATION:Calvary Chapel Kampala\, 41 William Street\, Kampala\, Kampala\, 256\, Uganda
CATEGORIES:Fellowships,Outreaches
ATTACH;FMTTYPE=image/png:https://calvarykla.com/wp-content/uploads/2023/11/Missions.png
END:VEVENT
BEGIN:VEVENT
DTSTART;TZID=Africa/Kampala:20240928T080000
DTEND;TZID=Africa/Kampala:20240928T120000
DTSTAMP:20260420T095134
CREATED:20231119T084917Z
LAST-MODIFIED:20231122T114055Z
UID:11745-1727510400-1727524800@calvarykla.com
SUMMARY:Frontline Ministry
DESCRIPTION:Our ministry to street children
URL:https://calvarykla.com/event/frontline-ministry/2024-09-28/
LOCATION:Calvary Chapel Kampala\, 41 William Street\, Kampala\, Kampala\, 256\, Uganda
CATEGORIES:Outreaches
ATTACH;FMTTYPE=image/jpeg:https://calvarykla.com/wp-content/uploads/2023/11/Frontline.jpg
END:VEVENT
BEGIN:VEVENT
DTSTART;TZID=Africa/Kampala:20240929T080000
DTEND;TZID=Africa/Kampala:20240929T140000
DTSTAMP:20260420T095134
CREATED:20240904T172901Z
LAST-MODIFIED:20241004T192651Z
UID:12329-1727596800-1727618400@calvarykla.com
SUMMARY:Sunday Sermon Series
DESCRIPTION:Our study through the book of Ruth. Every Sunday at 8am for Luganda and 10am & 12noon for English
URL:https://calvarykla.com/event/sunday-sermon-series-2/2024-09-29/
LOCATION:Calvary Chapel Kampala\, 41 William Street\, Kampala\, Kampala\, 256\, Uganda
CATEGORIES:Fellowships,Services
ATTACH;FMTTYPE=image/jpeg:https://calvarykla.com/wp-content/uploads/2023/02/Ruth-1.jpg
END:VEVENT
BEGIN:VEVENT
DTSTART;TZID=Africa/Kampala:20240929T150000
DTEND;TZID=Africa/Kampala:20240929T170000
DTSTAMP:20260420T095134
CREATED:20231118T143922Z
LAST-MODIFIED:20231118T171040Z
UID:10771-1727622000-1727629200@calvarykla.com
SUMMARY:Kirundi Service
DESCRIPTION:Kirundi /Kinyarwanda service every Sunday starting at 3pm.
URL:https://calvarykla.com/event/kirundi-service/2024-09-29/
LOCATION:Calvary Chapel Kampala\, 41 William Street\, Kampala\, Kampala\, 256\, Uganda
CATEGORIES:Fellowships,Services
ATTACH;FMTTYPE=image/jpeg:https://calvarykla.com/wp-content/uploads/2023/11/Screen-Kir.jpg
END:VEVENT
END:VCALENDAR