BEGIN:VCALENDAR
VERSION:2.0
PRODID:-//Calvary Chapel Kampala - ECPv5.16.3.1//NONSGML v1.0//EN
CALSCALE:GREGORIAN
METHOD:PUBLISH
X-WR-CALNAME:Calvary Chapel Kampala
X-ORIGINAL-URL:https://calvarykla.com
X-WR-CALDESC:Events for Calvary Chapel Kampala
REFRESH-INTERVAL;VALUE=DURATION:PT1H
X-Robots-Tag:noindex
X-PUBLISHED-TTL:PT1H
BEGIN:VTIMEZONE
TZID:Africa/Kampala
BEGIN:STANDARD
TZOFFSETFROM:+0300
TZOFFSETTO:+0300
TZNAME:EAT
DTSTART:20240101T000000
END:STANDARD
END:VTIMEZONE
BEGIN:VEVENT
DTSTART;TZID=Africa/Kampala:20240729T170000
DTEND;TZID=Africa/Kampala:20240729T190000
DTSTAMP:20260420T142532
CREATED:20231118T141705Z
LAST-MODIFIED:20241003T121125Z
UID:10410-1722272400-1722279600@calvarykla.com
SUMMARY:Men's Fellowship
DESCRIPTION:Men’s weekly study through the book of Romans
URL:https://calvarykla.com/event/mens-fellowship/2024-07-29/
LOCATION:Calvary Chapel Kampala\, 41 William Street\, Kampala\, Kampala\, 256\, Uganda
CATEGORIES:Fellowships
ATTACH;FMTTYPE=image/png:https://calvarykla.com/wp-content/uploads/2023/11/Men.png
END:VEVENT
BEGIN:VEVENT
DTSTART;TZID=Africa/Kampala:20240730T170000
DTEND;TZID=Africa/Kampala:20240730T190000
DTSTAMP:20260420T142532
CREATED:20231118T141936Z
LAST-MODIFIED:20241001T100953Z
UID:10450-1722358800-1722366000@calvarykla.com
SUMMARY:Men's Fellowship
DESCRIPTION:Men’s study through the book of Genesis
URL:https://calvarykla.com/event/mens-fellowship-2/2024-07-30/
LOCATION:Calvary Chapel Kampala\, 41 William Street\, Kampala\, Kampala\, 256\, Uganda
CATEGORIES:Fellowships
ATTACH;FMTTYPE=image/png:https://calvarykla.com/wp-content/uploads/2023/11/Men.png
END:VEVENT
BEGIN:VEVENT
DTSTART;TZID=Africa/Kampala:20240730T180000
DTEND;TZID=Africa/Kampala:20240730T193000
DTSTAMP:20260420T142532
CREATED:20231118T142658Z
LAST-MODIFIED:20240924T100519Z
UID:10893-1722362400-1722367800@calvarykla.com
SUMMARY:Women's Fellowship
DESCRIPTION:Every Tuesday at 6pm. Currently going through a book called Lies Women Believe: And the Truth that Sets Them Free by Dana Gresh and Nancy DeMoss Wolgemuth
URL:https://calvarykla.com/event/womens-fellowship/2024-07-30/
LOCATION:Calvary Chapel Kampala\, 41 William Street\, Kampala\, Kampala\, 256\, Uganda
CATEGORIES:Fellowships
ATTACH;FMTTYPE=image/jpeg:https://calvarykla.com/wp-content/uploads/2023/11/Ladies-Study.jpg
END:VEVENT
BEGIN:VEVENT
DTSTART;TZID=Africa/Kampala:20240801T160000
DTEND;TZID=Africa/Kampala:20240801T173000
DTSTAMP:20260420T142532
CREATED:20231118T132337Z
LAST-MODIFIED:20251204T131911Z
UID:10515-1722528000-1722533400@calvarykla.com
SUMMARY:Prayer Fellowship
DESCRIPTION:Rejoice always\, pray without ceasing\, in everything give thanks; for this is the will of God in Christ Jesus for you. I Thessalonians 5:16-18
URL:https://calvarykla.com/event/prayer-fellowship/2024-08-01/
LOCATION:Calvary Chapel Kampala\, 41 William Street\, Kampala\, Kampala\, 256\, Uganda
CATEGORIES:Fellowships
ATTACH;FMTTYPE=image/jpeg:https://calvarykla.com/wp-content/uploads/2023/11/Prayer-fellowship.jpg
END:VEVENT
BEGIN:VEVENT
DTSTART;TZID=Africa/Kampala:20240802T160000
DTEND;TZID=Africa/Kampala:20240802T173000
DTSTAMP:20260420T142532
CREATED:20231118T132224Z
LAST-MODIFIED:20251204T130551Z
UID:10529-1722614400-1722619800@calvarykla.com
SUMMARY:Missions
DESCRIPTION:Evangelism on the streets of Kampala
URL:https://calvarykla.com/event/missions-2/2024-08-02/
LOCATION:Calvary Chapel Kampala\, 41 William Street\, Kampala\, Kampala\, 256\, Uganda
CATEGORIES:Outreaches
ATTACH;FMTTYPE=image/png:https://calvarykla.com/wp-content/uploads/2023/11/Missions.png
END:VEVENT
BEGIN:VEVENT
DTSTART;TZID=Africa/Kampala:20240803T080000
DTEND;TZID=Africa/Kampala:20240803T120000
DTSTAMP:20260420T142532
CREATED:20231119T084917Z
LAST-MODIFIED:20231122T113939Z
UID:11737-1722672000-1722686400@calvarykla.com
SUMMARY:Frontline Ministry
DESCRIPTION:Our ministry to street children
URL:https://calvarykla.com/event/frontline-ministry/2024-08-03/
LOCATION:Calvary Chapel Kampala\, 41 William Street\, Kampala\, Kampala\, 256\, Uganda
CATEGORIES:Outreaches
ATTACH;FMTTYPE=image/jpeg:https://calvarykla.com/wp-content/uploads/2023/11/Frontline.jpg
END:VEVENT
BEGIN:VEVENT
DTSTART;TZID=Africa/Kampala:20240804T080000
DTEND;TZID=Africa/Kampala:20240804T140000
DTSTAMP:20260420T142532
CREATED:20231118T103844Z
LAST-MODIFIED:20240904T174700Z
UID:11552-1722758400-1722780000@calvarykla.com
SUMMARY:Sunday Sermon Series
DESCRIPTION:Our study through the gospel according to Mark. Every Sunday at 8am for Luganda and 10am & 12noon for English
URL:https://calvarykla.com/event/sunday-sermon-series/2024-08-04/
LOCATION:Calvary Chapel Kampala\, 41 William Street\, Kampala\, Kampala\, 256\, Uganda
CATEGORIES:Fellowships,Services
ATTACH;FMTTYPE=image/jpeg:https://calvarykla.com/wp-content/uploads/2023/11/MARK-WEB.jpg
END:VEVENT
BEGIN:VEVENT
DTSTART;TZID=Africa/Kampala:20240804T150000
DTEND;TZID=Africa/Kampala:20240804T170000
DTSTAMP:20260420T142532
CREATED:20231118T143922Z
LAST-MODIFIED:20231118T170812Z
UID:10735-1722783600-1722790800@calvarykla.com
SUMMARY:Kirundi Service
DESCRIPTION:Kirundi /Kinyarwanda service every Sunday starting at 3pm.
URL:https://calvarykla.com/event/kirundi-service/2024-08-04/
LOCATION:Calvary Chapel Kampala\, 41 William Street\, Kampala\, Kampala\, 256\, Uganda
CATEGORIES:Fellowships,Services
ATTACH;FMTTYPE=image/jpeg:https://calvarykla.com/wp-content/uploads/2023/11/Screen-Kir.jpg
END:VEVENT
END:VCALENDAR