BEGIN:VCALENDAR
VERSION:2.0
PRODID:-//Calvary Chapel Kampala - ECPv5.16.3.1//NONSGML v1.0//EN
CALSCALE:GREGORIAN
METHOD:PUBLISH
X-WR-CALNAME:Calvary Chapel Kampala
X-ORIGINAL-URL:https://calvarykla.com
X-WR-CALDESC:Events for Calvary Chapel Kampala
REFRESH-INTERVAL;VALUE=DURATION:PT1H
X-Robots-Tag:noindex
X-PUBLISHED-TTL:PT1H
BEGIN:VTIMEZONE
TZID:Africa/Kampala
BEGIN:STANDARD
TZOFFSETFROM:+0300
TZOFFSETTO:+0300
TZNAME:EAT
DTSTART:20270101T000000
END:STANDARD
END:VTIMEZONE
BEGIN:VEVENT
DTSTART;TZID=Africa/Kampala:20271024T150000
DTEND;TZID=Africa/Kampala:20271024T170000
DTSTAMP:20260421T040721
CREATED:20231118T143922Z
LAST-MODIFIED:20231118T143922Z
UID:14599-1824390000-1824397200@calvarykla.com
SUMMARY:Kirundi Service
DESCRIPTION:Kirundi /Kinyarwanda service every Sunday starting at 3pm.
URL:https://calvarykla.com/event/kirundi-service/2027-10-24/
LOCATION:Calvary Chapel Kampala\, 41 William Street\, Kampala\, Kampala\, 256\, Uganda
CATEGORIES:Fellowships,Services
ATTACH;FMTTYPE=image/jpeg:https://calvarykla.com/wp-content/uploads/2023/11/Screen-Kir.jpg
END:VEVENT
BEGIN:VEVENT
DTSTART;TZID=Africa/Kampala:20271024T100000
DTEND;TZID=Africa/Kampala:20271024T140000
DTSTAMP:20260421T040722
CREATED:20251204T125137Z
LAST-MODIFIED:20251204T125137Z
UID:14947-1824372000-1824386400@calvarykla.com
SUMMARY:Sunday Sermon Series
DESCRIPTION:Join us as we explore the basics of the Christian faith\, particularly love\, truth\, and obedience from the books of 1\, 2 and 3 John
URL:https://calvarykla.com/event/sunday-sermon-series-4/2027-10-24/
LOCATION:Calvary Chapel Kampala\, 41 William Street\, Kampala\, Kampala\, 256\, Uganda
CATEGORIES:Fellowships,Services
ATTACH;FMTTYPE=image/jpeg:https://calvarykla.com/wp-content/uploads/2025/12/1-2-3-John-Study-Banner-online.jpg
END:VEVENT
BEGIN:VEVENT
DTSTART;TZID=Africa/Kampala:20271024T080000
DTEND;TZID=Africa/Kampala:20271024T095000
DTSTAMP:20260421T040722
CREATED:20251204T125706Z
LAST-MODIFIED:20251204T125706Z
UID:15023-1824364800-1824371400@calvarykla.com
SUMMARY:Sunday Sermon Series
DESCRIPTION:Join us as we explore the basics of the Christian faith\, particularly love\, truth\, and obedience from the books of 1\, 2 and 3 John
URL:https://calvarykla.com/event/sunday-sermon-series-5/2027-10-24/
LOCATION:Calvary Chapel Kampala\, 41 William Street\, Kampala\, Kampala\, 256\, Uganda
CATEGORIES:Fellowships,Services
ATTACH;FMTTYPE=image/jpeg:https://calvarykla.com/wp-content/uploads/2025/12/Yokaana-Study-Banner.jpg
END:VEVENT
BEGIN:VEVENT
DTSTART;TZID=Africa/Kampala:20271023T080000
DTEND;TZID=Africa/Kampala:20271023T120000
DTSTAMP:20260421T040722
CREATED:20231119T084917Z
LAST-MODIFIED:20231119T084917Z
UID:14598-1824278400-1824292800@calvarykla.com
SUMMARY:Frontline Ministry
DESCRIPTION:Our ministry to street children
URL:https://calvarykla.com/event/frontline-ministry/2027-10-23/
LOCATION:Calvary Chapel Kampala\, 41 William Street\, Kampala\, Kampala\, 256\, Uganda
CATEGORIES:Outreaches
ATTACH;FMTTYPE=image/jpeg:https://calvarykla.com/wp-content/uploads/2023/11/Frontline.jpg
END:VEVENT
BEGIN:VEVENT
DTSTART;TZID=Africa/Kampala:20271022T160000
DTEND;TZID=Africa/Kampala:20271022T173000
DTSTAMP:20260421T040722
CREATED:20231118T132224Z
LAST-MODIFIED:20251205T090628Z
UID:14597-1824220800-1824226200@calvarykla.com
SUMMARY:Missions
DESCRIPTION:Evangelism on the streets of Kampala
URL:https://calvarykla.com/event/missions-2/2027-10-22/
LOCATION:Calvary Chapel Kampala\, 41 William Street\, Kampala\, Kampala\, 256\, Uganda
CATEGORIES:Outreaches
ATTACH;FMTTYPE=image/png:https://calvarykla.com/wp-content/uploads/2023/11/Missions.png
END:VEVENT
BEGIN:VEVENT
DTSTART;TZID=Africa/Kampala:20271021T160000
DTEND;TZID=Africa/Kampala:20271021T173000
DTSTAMP:20260421T040722
CREATED:20231118T132337Z
LAST-MODIFIED:20251205T091625Z
UID:14596-1824134400-1824139800@calvarykla.com
SUMMARY:Prayer Fellowship
DESCRIPTION:Rejoice always\, pray without ceasing\, in everything give thanks; for this is the will of God in Christ Jesus for you. I Thessalonians 5:16-18
URL:https://calvarykla.com/event/prayer-fellowship/2027-10-21/
LOCATION:Calvary Chapel Kampala\, 41 William Street\, Kampala\, Kampala\, 256\, Uganda
CATEGORIES:Fellowships
ATTACH;FMTTYPE=image/jpeg:https://calvarykla.com/wp-content/uploads/2023/11/Prayer-fellowship.jpg
END:VEVENT
BEGIN:VEVENT
DTSTART;TZID=Africa/Kampala:20271020T180000
DTEND;TZID=Africa/Kampala:20271020T193000
DTSTAMP:20260421T040722
CREATED:20251204T123128Z
LAST-MODIFIED:20251204T123128Z
UID:15100-1824055200-1824060600@calvarykla.com
SUMMARY:Midweek Study Series
DESCRIPTION:Join us for our new midweek series about the Names of God\, studying to know Him\, discover who we are in Him\, and find our purpose in Him.
URL:https://calvarykla.com/event/midweek-study-series-4/2027-10-20/
LOCATION:Calvary Chapel Kampala\, 41 William Street\, Kampala\, Kampala\, 256\, Uganda
CATEGORIES:Fellowships,Services
ATTACH;FMTTYPE=image/jpeg:https://calvarykla.com/wp-content/uploads/2025/12/Names-of-God-BANNER-ONLINE.jpg
END:VEVENT
BEGIN:VEVENT
DTSTART;TZID=Africa/Kampala:20271019T180000
DTEND;TZID=Africa/Kampala:20271019T193000
DTSTAMP:20260421T040722
CREATED:20240917T123703Z
LAST-MODIFIED:20240917T123703Z
UID:14593-1823968800-1823974200@calvarykla.com
SUMMARY:Women's Fellowship
DESCRIPTION:Every Tuesday at 6pm. Currently going through a book called Money\, Possessions and Eternity by Randy Alcorn
URL:https://calvarykla.com/event/womens-fellowship-2/2027-10-19/
LOCATION:Calvary Chapel Kampala\, 41 William Street\, Kampala\, Kampala\, 256\, Uganda
CATEGORIES:Fellowships
ATTACH;FMTTYPE=image/jpeg:https://calvarykla.com/wp-content/uploads/2024/09/Ladies-Study.jpg
END:VEVENT
BEGIN:VEVENT
DTSTART;TZID=Africa/Kampala:20271019T170000
DTEND;TZID=Africa/Kampala:20271019T190000
DTSTAMP:20260421T040722
CREATED:20241001T072838Z
LAST-MODIFIED:20241001T072838Z
UID:14594-1823965200-1823972400@calvarykla.com
SUMMARY:Men's Fellowship
DESCRIPTION:Men’s weekly bible study through the book of Exodus
URL:https://calvarykla.com/event/mens-fellowship-3/2027-10-19/
LOCATION:Calvary Chapel Kampala\, 41 William Street\, Kampala\, Kampala\, 256\, Uganda
CATEGORIES:Fellowships
ATTACH;FMTTYPE=image/png:https://calvarykla.com/wp-content/uploads/2024/10/Men-of-The-Word-Exodus.png
END:VEVENT
BEGIN:VEVENT
DTSTART;TZID=Africa/Kampala:20271018T170000
DTEND;TZID=Africa/Kampala:20271018T190000
DTSTAMP:20260421T040722
CREATED:20241001T073249Z
LAST-MODIFIED:20241001T073249Z
UID:14592-1823878800-1823886000@calvarykla.com
SUMMARY:Men's Fellowship
DESCRIPTION:Men’s weekly study through the book of Romans
URL:https://calvarykla.com/event/mens-fellowship-4/2027-10-18/
LOCATION:Calvary Chapel Kampala\, 41 William Street\, Kampala\, Kampala\, 256\, Uganda
CATEGORIES:Fellowships
ATTACH;FMTTYPE=image/png:https://calvarykla.com/wp-content/uploads/2024/10/Men-of-The-Word-Romans.png
END:VEVENT
BEGIN:VEVENT
DTSTART;TZID=Africa/Kampala:20271017T150000
DTEND;TZID=Africa/Kampala:20271017T170000
DTSTAMP:20260421T040722
CREATED:20231118T143922Z
LAST-MODIFIED:20231118T143922Z
UID:14590-1823785200-1823792400@calvarykla.com
SUMMARY:Kirundi Service
DESCRIPTION:Kirundi /Kinyarwanda service every Sunday starting at 3pm.
URL:https://calvarykla.com/event/kirundi-service/2027-10-17/
LOCATION:Calvary Chapel Kampala\, 41 William Street\, Kampala\, Kampala\, 256\, Uganda
CATEGORIES:Fellowships,Services
ATTACH;FMTTYPE=image/jpeg:https://calvarykla.com/wp-content/uploads/2023/11/Screen-Kir.jpg
END:VEVENT
BEGIN:VEVENT
DTSTART;TZID=Africa/Kampala:20271017T100000
DTEND;TZID=Africa/Kampala:20271017T140000
DTSTAMP:20260421T040722
CREATED:20251204T125137Z
LAST-MODIFIED:20251204T125137Z
UID:14945-1823767200-1823781600@calvarykla.com
SUMMARY:Sunday Sermon Series
DESCRIPTION:Join us as we explore the basics of the Christian faith\, particularly love\, truth\, and obedience from the books of 1\, 2 and 3 John
URL:https://calvarykla.com/event/sunday-sermon-series-4/2027-10-17/
LOCATION:Calvary Chapel Kampala\, 41 William Street\, Kampala\, Kampala\, 256\, Uganda
CATEGORIES:Fellowships,Services
ATTACH;FMTTYPE=image/jpeg:https://calvarykla.com/wp-content/uploads/2025/12/1-2-3-John-Study-Banner-online.jpg
END:VEVENT
BEGIN:VEVENT
DTSTART;TZID=Africa/Kampala:20271017T080000
DTEND;TZID=Africa/Kampala:20271017T095000
DTSTAMP:20260421T040722
CREATED:20251204T125706Z
LAST-MODIFIED:20251204T125706Z
UID:15022-1823760000-1823766600@calvarykla.com
SUMMARY:Sunday Sermon Series
DESCRIPTION:Join us as we explore the basics of the Christian faith\, particularly love\, truth\, and obedience from the books of 1\, 2 and 3 John
URL:https://calvarykla.com/event/sunday-sermon-series-5/2027-10-17/
LOCATION:Calvary Chapel Kampala\, 41 William Street\, Kampala\, Kampala\, 256\, Uganda
CATEGORIES:Fellowships,Services
ATTACH;FMTTYPE=image/jpeg:https://calvarykla.com/wp-content/uploads/2025/12/Yokaana-Study-Banner.jpg
END:VEVENT
BEGIN:VEVENT
DTSTART;TZID=Africa/Kampala:20271016T080000
DTEND;TZID=Africa/Kampala:20271016T120000
DTSTAMP:20260421T040722
CREATED:20231119T084917Z
LAST-MODIFIED:20231119T084917Z
UID:14589-1823673600-1823688000@calvarykla.com
SUMMARY:Frontline Ministry
DESCRIPTION:Our ministry to street children
URL:https://calvarykla.com/event/frontline-ministry/2027-10-16/
LOCATION:Calvary Chapel Kampala\, 41 William Street\, Kampala\, Kampala\, 256\, Uganda
CATEGORIES:Outreaches
ATTACH;FMTTYPE=image/jpeg:https://calvarykla.com/wp-content/uploads/2023/11/Frontline.jpg
END:VEVENT
BEGIN:VEVENT
DTSTART;TZID=Africa/Kampala:20271015T160000
DTEND;TZID=Africa/Kampala:20271015T173000
DTSTAMP:20260421T040722
CREATED:20231118T132224Z
LAST-MODIFIED:20251205T090619Z
UID:14588-1823616000-1823621400@calvarykla.com
SUMMARY:Missions
DESCRIPTION:Evangelism on the streets of Kampala
URL:https://calvarykla.com/event/missions-2/2027-10-15/
LOCATION:Calvary Chapel Kampala\, 41 William Street\, Kampala\, Kampala\, 256\, Uganda
CATEGORIES:Outreaches
ATTACH;FMTTYPE=image/png:https://calvarykla.com/wp-content/uploads/2023/11/Missions.png
END:VEVENT
BEGIN:VEVENT
DTSTART;TZID=Africa/Kampala:20271014T160000
DTEND;TZID=Africa/Kampala:20271014T173000
DTSTAMP:20260421T040722
CREATED:20231118T132337Z
LAST-MODIFIED:20251205T091616Z
UID:14587-1823529600-1823535000@calvarykla.com
SUMMARY:Prayer Fellowship
DESCRIPTION:Rejoice always\, pray without ceasing\, in everything give thanks; for this is the will of God in Christ Jesus for you. I Thessalonians 5:16-18
URL:https://calvarykla.com/event/prayer-fellowship/2027-10-14/
LOCATION:Calvary Chapel Kampala\, 41 William Street\, Kampala\, Kampala\, 256\, Uganda
CATEGORIES:Fellowships
ATTACH;FMTTYPE=image/jpeg:https://calvarykla.com/wp-content/uploads/2023/11/Prayer-fellowship.jpg
END:VEVENT
BEGIN:VEVENT
DTSTART;TZID=Africa/Kampala:20271013T180000
DTEND;TZID=Africa/Kampala:20271013T193000
DTSTAMP:20260421T040722
CREATED:20251204T123128Z
LAST-MODIFIED:20251204T123128Z
UID:15099-1823450400-1823455800@calvarykla.com
SUMMARY:Midweek Study Series
DESCRIPTION:Join us for our new midweek series about the Names of God\, studying to know Him\, discover who we are in Him\, and find our purpose in Him.
URL:https://calvarykla.com/event/midweek-study-series-4/2027-10-13/
LOCATION:Calvary Chapel Kampala\, 41 William Street\, Kampala\, Kampala\, 256\, Uganda
CATEGORIES:Fellowships,Services
ATTACH;FMTTYPE=image/jpeg:https://calvarykla.com/wp-content/uploads/2025/12/Names-of-God-BANNER-ONLINE.jpg
END:VEVENT
BEGIN:VEVENT
DTSTART;TZID=Africa/Kampala:20271012T180000
DTEND;TZID=Africa/Kampala:20271012T193000
DTSTAMP:20260421T040722
CREATED:20240917T123703Z
LAST-MODIFIED:20240917T123703Z
UID:14584-1823364000-1823369400@calvarykla.com
SUMMARY:Women's Fellowship
DESCRIPTION:Every Tuesday at 6pm. Currently going through a book called Money\, Possessions and Eternity by Randy Alcorn
URL:https://calvarykla.com/event/womens-fellowship-2/2027-10-12/
LOCATION:Calvary Chapel Kampala\, 41 William Street\, Kampala\, Kampala\, 256\, Uganda
CATEGORIES:Fellowships
ATTACH;FMTTYPE=image/jpeg:https://calvarykla.com/wp-content/uploads/2024/09/Ladies-Study.jpg
END:VEVENT
BEGIN:VEVENT
DTSTART;TZID=Africa/Kampala:20271012T170000
DTEND;TZID=Africa/Kampala:20271012T190000
DTSTAMP:20260421T040722
CREATED:20241001T072838Z
LAST-MODIFIED:20241001T072838Z
UID:14585-1823360400-1823367600@calvarykla.com
SUMMARY:Men's Fellowship
DESCRIPTION:Men’s weekly bible study through the book of Exodus
URL:https://calvarykla.com/event/mens-fellowship-3/2027-10-12/
LOCATION:Calvary Chapel Kampala\, 41 William Street\, Kampala\, Kampala\, 256\, Uganda
CATEGORIES:Fellowships
ATTACH;FMTTYPE=image/png:https://calvarykla.com/wp-content/uploads/2024/10/Men-of-The-Word-Exodus.png
END:VEVENT
BEGIN:VEVENT
DTSTART;TZID=Africa/Kampala:20271011T170000
DTEND;TZID=Africa/Kampala:20271011T190000
DTSTAMP:20260421T040722
CREATED:20241001T073249Z
LAST-MODIFIED:20241001T073249Z
UID:14583-1823274000-1823281200@calvarykla.com
SUMMARY:Men's Fellowship
DESCRIPTION:Men’s weekly study through the book of Romans
URL:https://calvarykla.com/event/mens-fellowship-4/2027-10-11/
LOCATION:Calvary Chapel Kampala\, 41 William Street\, Kampala\, Kampala\, 256\, Uganda
CATEGORIES:Fellowships
ATTACH;FMTTYPE=image/png:https://calvarykla.com/wp-content/uploads/2024/10/Men-of-The-Word-Romans.png
END:VEVENT
BEGIN:VEVENT
DTSTART;TZID=Africa/Kampala:20271010T150000
DTEND;TZID=Africa/Kampala:20271010T170000
DTSTAMP:20260421T040722
CREATED:20231118T143922Z
LAST-MODIFIED:20231118T143922Z
UID:14581-1823180400-1823187600@calvarykla.com
SUMMARY:Kirundi Service
DESCRIPTION:Kirundi /Kinyarwanda service every Sunday starting at 3pm.
URL:https://calvarykla.com/event/kirundi-service/2027-10-10/
LOCATION:Calvary Chapel Kampala\, 41 William Street\, Kampala\, Kampala\, 256\, Uganda
CATEGORIES:Fellowships,Services
ATTACH;FMTTYPE=image/jpeg:https://calvarykla.com/wp-content/uploads/2023/11/Screen-Kir.jpg
END:VEVENT
BEGIN:VEVENT
DTSTART;TZID=Africa/Kampala:20271010T100000
DTEND;TZID=Africa/Kampala:20271010T140000
DTSTAMP:20260421T040722
CREATED:20251204T125137Z
LAST-MODIFIED:20251204T125137Z
UID:14943-1823162400-1823176800@calvarykla.com
SUMMARY:Sunday Sermon Series
DESCRIPTION:Join us as we explore the basics of the Christian faith\, particularly love\, truth\, and obedience from the books of 1\, 2 and 3 John
URL:https://calvarykla.com/event/sunday-sermon-series-4/2027-10-10/
LOCATION:Calvary Chapel Kampala\, 41 William Street\, Kampala\, Kampala\, 256\, Uganda
CATEGORIES:Fellowships,Services
ATTACH;FMTTYPE=image/jpeg:https://calvarykla.com/wp-content/uploads/2025/12/1-2-3-John-Study-Banner-online.jpg
END:VEVENT
BEGIN:VEVENT
DTSTART;TZID=Africa/Kampala:20271010T080000
DTEND;TZID=Africa/Kampala:20271010T095000
DTSTAMP:20260421T040722
CREATED:20251204T125706Z
LAST-MODIFIED:20251204T125706Z
UID:15020-1823155200-1823161800@calvarykla.com
SUMMARY:Sunday Sermon Series
DESCRIPTION:Join us as we explore the basics of the Christian faith\, particularly love\, truth\, and obedience from the books of 1\, 2 and 3 John
URL:https://calvarykla.com/event/sunday-sermon-series-5/2027-10-10/
LOCATION:Calvary Chapel Kampala\, 41 William Street\, Kampala\, Kampala\, 256\, Uganda
CATEGORIES:Fellowships,Services
ATTACH;FMTTYPE=image/jpeg:https://calvarykla.com/wp-content/uploads/2025/12/Yokaana-Study-Banner.jpg
END:VEVENT
BEGIN:VEVENT
DTSTART;TZID=Africa/Kampala:20271009T080000
DTEND;TZID=Africa/Kampala:20271009T120000
DTSTAMP:20260421T040722
CREATED:20231119T084917Z
LAST-MODIFIED:20231119T084917Z
UID:14580-1823068800-1823083200@calvarykla.com
SUMMARY:Frontline Ministry
DESCRIPTION:Our ministry to street children
URL:https://calvarykla.com/event/frontline-ministry/2027-10-09/
LOCATION:Calvary Chapel Kampala\, 41 William Street\, Kampala\, Kampala\, 256\, Uganda
CATEGORIES:Outreaches
ATTACH;FMTTYPE=image/jpeg:https://calvarykla.com/wp-content/uploads/2023/11/Frontline.jpg
END:VEVENT
BEGIN:VEVENT
DTSTART;TZID=Africa/Kampala:20271008T160000
DTEND;TZID=Africa/Kampala:20271008T173000
DTSTAMP:20260421T040722
CREATED:20231118T132224Z
LAST-MODIFIED:20251205T090556Z
UID:14579-1823011200-1823016600@calvarykla.com
SUMMARY:Missions
DESCRIPTION:Evangelism on the streets of Kampala
URL:https://calvarykla.com/event/missions-2/2027-10-08/
LOCATION:Calvary Chapel Kampala\, 41 William Street\, Kampala\, Kampala\, 256\, Uganda
CATEGORIES:Outreaches
ATTACH;FMTTYPE=image/png:https://calvarykla.com/wp-content/uploads/2023/11/Missions.png
END:VEVENT
BEGIN:VEVENT
DTSTART;TZID=Africa/Kampala:20271007T160000
DTEND;TZID=Africa/Kampala:20271007T173000
DTSTAMP:20260421T040722
CREATED:20231118T132337Z
LAST-MODIFIED:20251205T091609Z
UID:14576-1822924800-1822930200@calvarykla.com
SUMMARY:Prayer Fellowship
DESCRIPTION:Rejoice always\, pray without ceasing\, in everything give thanks; for this is the will of God in Christ Jesus for you. I Thessalonians 5:16-18
URL:https://calvarykla.com/event/prayer-fellowship/2027-10-07/
LOCATION:Calvary Chapel Kampala\, 41 William Street\, Kampala\, Kampala\, 256\, Uganda
CATEGORIES:Fellowships
ATTACH;FMTTYPE=image/jpeg:https://calvarykla.com/wp-content/uploads/2023/11/Prayer-fellowship.jpg
END:VEVENT
BEGIN:VEVENT
DTSTART;TZID=Africa/Kampala:20271006T180000
DTEND;TZID=Africa/Kampala:20271006T193000
DTSTAMP:20260421T040722
CREATED:20251204T123128Z
LAST-MODIFIED:20251204T123128Z
UID:15097-1822845600-1822851000@calvarykla.com
SUMMARY:Midweek Study Series
DESCRIPTION:Join us for our new midweek series about the Names of God\, studying to know Him\, discover who we are in Him\, and find our purpose in Him.
URL:https://calvarykla.com/event/midweek-study-series-4/2027-10-06/
LOCATION:Calvary Chapel Kampala\, 41 William Street\, Kampala\, Kampala\, 256\, Uganda
CATEGORIES:Fellowships,Services
ATTACH;FMTTYPE=image/jpeg:https://calvarykla.com/wp-content/uploads/2025/12/Names-of-God-BANNER-ONLINE.jpg
END:VEVENT
BEGIN:VEVENT
DTSTART;TZID=Africa/Kampala:20271005T180000
DTEND;TZID=Africa/Kampala:20271005T193000
DTSTAMP:20260421T040722
CREATED:20240917T123703Z
LAST-MODIFIED:20240917T123703Z
UID:14573-1822759200-1822764600@calvarykla.com
SUMMARY:Women's Fellowship
DESCRIPTION:Every Tuesday at 6pm. Currently going through a book called Money\, Possessions and Eternity by Randy Alcorn
URL:https://calvarykla.com/event/womens-fellowship-2/2027-10-05/
LOCATION:Calvary Chapel Kampala\, 41 William Street\, Kampala\, Kampala\, 256\, Uganda
CATEGORIES:Fellowships
ATTACH;FMTTYPE=image/jpeg:https://calvarykla.com/wp-content/uploads/2024/09/Ladies-Study.jpg
END:VEVENT
BEGIN:VEVENT
DTSTART;TZID=Africa/Kampala:20271005T170000
DTEND;TZID=Africa/Kampala:20271005T190000
DTSTAMP:20260421T040722
CREATED:20241001T072838Z
LAST-MODIFIED:20241001T072838Z
UID:14574-1822755600-1822762800@calvarykla.com
SUMMARY:Men's Fellowship
DESCRIPTION:Men’s weekly bible study through the book of Exodus
URL:https://calvarykla.com/event/mens-fellowship-3/2027-10-05/
LOCATION:Calvary Chapel Kampala\, 41 William Street\, Kampala\, Kampala\, 256\, Uganda
CATEGORIES:Fellowships
ATTACH;FMTTYPE=image/png:https://calvarykla.com/wp-content/uploads/2024/10/Men-of-The-Word-Exodus.png
END:VEVENT
BEGIN:VEVENT
DTSTART;TZID=Africa/Kampala:20271004T170000
DTEND;TZID=Africa/Kampala:20271004T190000
DTSTAMP:20260421T040722
CREATED:20241001T073249Z
LAST-MODIFIED:20241001T073249Z
UID:14572-1822669200-1822676400@calvarykla.com
SUMMARY:Men's Fellowship
DESCRIPTION:Men’s weekly study through the book of Romans
URL:https://calvarykla.com/event/mens-fellowship-4/2027-10-04/
LOCATION:Calvary Chapel Kampala\, 41 William Street\, Kampala\, Kampala\, 256\, Uganda
CATEGORIES:Fellowships
ATTACH;FMTTYPE=image/png:https://calvarykla.com/wp-content/uploads/2024/10/Men-of-The-Word-Romans.png
END:VEVENT
END:VCALENDAR