BEGIN:VCALENDAR
VERSION:2.0
PRODID:-//Calvary Chapel Kampala - ECPv5.16.3.1//NONSGML v1.0//EN
CALSCALE:GREGORIAN
METHOD:PUBLISH
X-ORIGINAL-URL:https://calvarykla.com
X-WR-CALDESC:Events for Calvary Chapel Kampala
REFRESH-INTERVAL;VALUE=DURATION:PT1H
X-Robots-Tag:noindex
X-PUBLISHED-TTL:PT1H
BEGIN:VTIMEZONE
TZID:Africa/Kampala
BEGIN:STANDARD
TZOFFSETFROM:+0300
TZOFFSETTO:+0300
TZNAME:EAT
DTSTART:20250101T000000
END:STANDARD
END:VTIMEZONE
BEGIN:VEVENT
DTSTART;TZID=Africa/Kampala:20250120T170000
DTEND;TZID=Africa/Kampala:20250120T190000
DTSTAMP:20260420T055415
CREATED:20241001T073249Z
LAST-MODIFIED:20241001T100607Z
UID:13080-1737392400-1737399600@calvarykla.com
SUMMARY:Men's Fellowship
DESCRIPTION:Men’s weekly study through the book of Romans
URL:https://calvarykla.com/event/mens-fellowship-4/2025-01-20/
LOCATION:Calvary Chapel Kampala\, 41 William Street\, Kampala\, Kampala\, 256\, Uganda
CATEGORIES:Fellowships
ATTACH;FMTTYPE=image/png:https://calvarykla.com/wp-content/uploads/2024/10/Men-of-The-Word-Romans.png
END:VEVENT
BEGIN:VEVENT
DTSTART;TZID=Africa/Kampala:20250121T170000
DTEND;TZID=Africa/Kampala:20250121T190000
DTSTAMP:20260420T055415
CREATED:20241001T072838Z
LAST-MODIFIED:20241001T100454Z
UID:13040-1737478800-1737486000@calvarykla.com
SUMMARY:Men's Fellowship
DESCRIPTION:Men’s weekly bible study through the book of Exodus
URL:https://calvarykla.com/event/mens-fellowship-3/2025-01-21/
LOCATION:Calvary Chapel Kampala\, 41 William Street\, Kampala\, Kampala\, 256\, Uganda
CATEGORIES:Fellowships
ATTACH;FMTTYPE=image/png:https://calvarykla.com/wp-content/uploads/2024/10/Men-of-The-Word-Exodus.png
END:VEVENT
BEGIN:VEVENT
DTSTART;TZID=Africa/Kampala:20250121T180000
DTEND;TZID=Africa/Kampala:20250121T193000
DTSTAMP:20260420T055415
CREATED:20240917T123703Z
LAST-MODIFIED:20240917T123703Z
UID:12862-1737482400-1737487800@calvarykla.com
SUMMARY:Women's Fellowship
DESCRIPTION:Every Tuesday at 6pm. Currently going through a book called Money\, Possessions and Eternity by Randy Alcorn
URL:https://calvarykla.com/event/womens-fellowship-2/2025-01-21/
LOCATION:Calvary Chapel Kampala\, 41 William Street\, Kampala\, Kampala\, 256\, Uganda
CATEGORIES:Fellowships
ATTACH;FMTTYPE=image/jpeg:https://calvarykla.com/wp-content/uploads/2024/09/Ladies-Study.jpg
END:VEVENT
BEGIN:VEVENT
DTSTART;TZID=Africa/Kampala:20250122T180000
DTEND;TZID=Africa/Kampala:20250122T193000
DTSTAMP:20260420T055415
CREATED:20240904T173617Z
LAST-MODIFIED:20250425T125318Z
UID:12472-1737568800-1737574200@calvarykla.com
SUMMARY:Midweek Study Series
DESCRIPTION:Midweek study series through the book of Proverbs
URL:https://calvarykla.com/event/midweek-study-series-2/2025-01-22/
LOCATION:Calvary Chapel Kampala\, 41 William Street\, Kampala\, Kampala\, 256\, Uganda
CATEGORIES:Fellowships,Services
ATTACH;FMTTYPE=image/jpeg:https://calvarykla.com/wp-content/uploads/2023/03/PROVERBS-Wednesday-study-web.jpg
END:VEVENT
BEGIN:VEVENT
DTSTART;TZID=Africa/Kampala:20250123T160000
DTEND;TZID=Africa/Kampala:20250123T173000
DTSTAMP:20260420T055415
CREATED:20231118T132337Z
LAST-MODIFIED:20251204T132715Z
UID:10634-1737648000-1737653400@calvarykla.com
SUMMARY:Prayer Fellowship
DESCRIPTION:Rejoice always\, pray without ceasing\, in everything give thanks; for this is the will of God in Christ Jesus for you. I Thessalonians 5:16-18
URL:https://calvarykla.com/event/prayer-fellowship/2025-01-23/
LOCATION:Calvary Chapel Kampala\, 41 William Street\, Kampala\, Kampala\, 256\, Uganda
CATEGORIES:Fellowships
ATTACH;FMTTYPE=image/jpeg:https://calvarykla.com/wp-content/uploads/2023/11/Prayer-fellowship.jpg
END:VEVENT
BEGIN:VEVENT
DTSTART;TZID=Africa/Kampala:20250124T160000
DTEND;TZID=Africa/Kampala:20250124T173000
DTSTAMP:20260420T055415
CREATED:20231118T132224Z
LAST-MODIFIED:20251204T131247Z
UID:10626-1737734400-1737739800@calvarykla.com
SUMMARY:Missions
DESCRIPTION:Evangelism on the streets of Kampala
URL:https://calvarykla.com/event/missions-2/2025-01-24/
LOCATION:Calvary Chapel Kampala\, 41 William Street\, Kampala\, Kampala\, 256\, Uganda
CATEGORIES:Outreaches
ATTACH;FMTTYPE=image/png:https://calvarykla.com/wp-content/uploads/2023/11/Missions.png
END:VEVENT
BEGIN:VEVENT
DTSTART;TZID=Africa/Kampala:20250125T080000
DTEND;TZID=Africa/Kampala:20250125T120000
DTSTAMP:20260420T055415
CREATED:20231119T084917Z
LAST-MODIFIED:20231122T114346Z
UID:11762-1737792000-1737806400@calvarykla.com
SUMMARY:Frontline Ministry
DESCRIPTION:Our ministry to street children
URL:https://calvarykla.com/event/frontline-ministry/2025-01-25/
LOCATION:Calvary Chapel Kampala\, 41 William Street\, Kampala\, Kampala\, 256\, Uganda
CATEGORIES:Outreaches
ATTACH;FMTTYPE=image/jpeg:https://calvarykla.com/wp-content/uploads/2023/11/Frontline.jpg
END:VEVENT
BEGIN:VEVENT
DTSTART;TZID=Africa/Kampala:20250126T080000
DTEND;TZID=Africa/Kampala:20250126T140000
DTSTAMP:20260420T055415
CREATED:20241004T083929Z
LAST-MODIFIED:20251204T132827Z
UID:13493-1737878400-1737900000@calvarykla.com
SUMMARY:Sunday Sermon Series
DESCRIPTION:New sermon series through the book of 1 & 2 Samuel. Every Sunday at 8am for Luganda and 10am & 12noon for English
URL:https://calvarykla.com/event/sunday-sermon-series-3/2025-01-26/
LOCATION:Calvary Chapel Kampala\, 41 William Street\, Kampala\, Kampala\, 256\, Uganda
CATEGORIES:Fellowships,Services
ATTACH;FMTTYPE=image/jpeg:https://calvarykla.com/wp-content/uploads/2024/10/SAMUEL-Study-Banner.jpg
END:VEVENT
BEGIN:VEVENT
DTSTART;TZID=Africa/Kampala:20250126T150000
DTEND;TZID=Africa/Kampala:20250126T170000
DTSTAMP:20260420T055415
CREATED:20231118T143922Z
LAST-MODIFIED:20231118T202603Z
UID:10823-1737903600-1737910800@calvarykla.com
SUMMARY:Kirundi Service
DESCRIPTION:Kirundi /Kinyarwanda service every Sunday starting at 3pm.
URL:https://calvarykla.com/event/kirundi-service/2025-01-26/
LOCATION:Calvary Chapel Kampala\, 41 William Street\, Kampala\, Kampala\, 256\, Uganda
CATEGORIES:Fellowships,Services
ATTACH;FMTTYPE=image/jpeg:https://calvarykla.com/wp-content/uploads/2023/11/Screen-Kir.jpg
END:VEVENT
BEGIN:VEVENT
DTSTART;TZID=Africa/Kampala:20250127T170000
DTEND;TZID=Africa/Kampala:20250127T190000
DTSTAMP:20260420T055415
CREATED:20241001T073249Z
LAST-MODIFIED:20241001T100622Z
UID:13082-1737997200-1738004400@calvarykla.com
SUMMARY:Men's Fellowship
DESCRIPTION:Men’s weekly study through the book of Romans
URL:https://calvarykla.com/event/mens-fellowship-4/2025-01-27/
LOCATION:Calvary Chapel Kampala\, 41 William Street\, Kampala\, Kampala\, 256\, Uganda
CATEGORIES:Fellowships
ATTACH;FMTTYPE=image/png:https://calvarykla.com/wp-content/uploads/2024/10/Men-of-The-Word-Romans.png
END:VEVENT
BEGIN:VEVENT
DTSTART;TZID=Africa/Kampala:20250128T170000
DTEND;TZID=Africa/Kampala:20250128T190000
DTSTAMP:20260420T055415
CREATED:20241001T072838Z
LAST-MODIFIED:20241001T100513Z
UID:13041-1738083600-1738090800@calvarykla.com
SUMMARY:Men's Fellowship
DESCRIPTION:Men’s weekly bible study through the book of Exodus
URL:https://calvarykla.com/event/mens-fellowship-3/2025-01-28/
LOCATION:Calvary Chapel Kampala\, 41 William Street\, Kampala\, Kampala\, 256\, Uganda
CATEGORIES:Fellowships
ATTACH;FMTTYPE=image/png:https://calvarykla.com/wp-content/uploads/2024/10/Men-of-The-Word-Exodus.png
END:VEVENT
BEGIN:VEVENT
DTSTART;TZID=Africa/Kampala:20250128T180000
DTEND;TZID=Africa/Kampala:20250128T193000
DTSTAMP:20260420T055415
CREATED:20240917T123703Z
LAST-MODIFIED:20240917T123703Z
UID:12863-1738087200-1738092600@calvarykla.com
SUMMARY:Women's Fellowship
DESCRIPTION:Every Tuesday at 6pm. Currently going through a book called Money\, Possessions and Eternity by Randy Alcorn
URL:https://calvarykla.com/event/womens-fellowship-2/2025-01-28/
LOCATION:Calvary Chapel Kampala\, 41 William Street\, Kampala\, Kampala\, 256\, Uganda
CATEGORIES:Fellowships
ATTACH;FMTTYPE=image/jpeg:https://calvarykla.com/wp-content/uploads/2024/09/Ladies-Study.jpg
END:VEVENT
BEGIN:VEVENT
DTSTART;TZID=Africa/Kampala:20250130T160000
DTEND;TZID=Africa/Kampala:20250130T173000
DTSTAMP:20260420T055415
CREATED:20231118T132337Z
LAST-MODIFIED:20251204T132727Z
UID:10639-1738252800-1738258200@calvarykla.com
SUMMARY:Prayer Fellowship
DESCRIPTION:Rejoice always\, pray without ceasing\, in everything give thanks; for this is the will of God in Christ Jesus for you. I Thessalonians 5:16-18
URL:https://calvarykla.com/event/prayer-fellowship/2025-01-30/
LOCATION:Calvary Chapel Kampala\, 41 William Street\, Kampala\, Kampala\, 256\, Uganda
CATEGORIES:Fellowships
ATTACH;FMTTYPE=image/jpeg:https://calvarykla.com/wp-content/uploads/2023/11/Prayer-fellowship.jpg
END:VEVENT
BEGIN:VEVENT
DTSTART;TZID=Africa/Kampala:20250131T160000
DTEND;TZID=Africa/Kampala:20250131T173000
DTSTAMP:20260420T055415
CREATED:20231118T130931Z
LAST-MODIFIED:20231118T170519Z
UID:10200-1738339200-1738344600@calvarykla.com
SUMMARY:Missions
DESCRIPTION:Fellowship and follow-up on the month’s activities.
URL:https://calvarykla.com/event/missions/2025-01-31/
LOCATION:Calvary Chapel Kampala\, 41 William Street\, Kampala\, Kampala\, 256\, Uganda
CATEGORIES:Fellowships,Outreaches
ATTACH;FMTTYPE=image/png:https://calvarykla.com/wp-content/uploads/2023/11/Missions.png
END:VEVENT
BEGIN:VEVENT
DTSTART;TZID=Africa/Kampala:20250201T080000
DTEND;TZID=Africa/Kampala:20250201T120000
DTSTAMP:20260420T055415
CREATED:20231119T084917Z
LAST-MODIFIED:20231122T114358Z
UID:11763-1738396800-1738411200@calvarykla.com
SUMMARY:Frontline Ministry
DESCRIPTION:Our ministry to street children
URL:https://calvarykla.com/event/frontline-ministry/2025-02-01/
LOCATION:Calvary Chapel Kampala\, 41 William Street\, Kampala\, Kampala\, 256\, Uganda
CATEGORIES:Outreaches
ATTACH;FMTTYPE=image/jpeg:https://calvarykla.com/wp-content/uploads/2023/11/Frontline.jpg
END:VEVENT
BEGIN:VEVENT
DTSTART;TZID=Africa/Kampala:20250202T080000
DTEND;TZID=Africa/Kampala:20250202T140000
DTSTAMP:20260420T055415
CREATED:20241004T083929Z
LAST-MODIFIED:20251204T132848Z
UID:13494-1738483200-1738504800@calvarykla.com
SUMMARY:Sunday Sermon Series
DESCRIPTION:New sermon series through the book of 1 & 2 Samuel. Every Sunday at 8am for Luganda and 10am & 12noon for English
URL:https://calvarykla.com/event/sunday-sermon-series-3/2025-02-02/
LOCATION:Calvary Chapel Kampala\, 41 William Street\, Kampala\, Kampala\, 256\, Uganda
CATEGORIES:Fellowships,Services
ATTACH;FMTTYPE=image/jpeg:https://calvarykla.com/wp-content/uploads/2024/10/SAMUEL-Study-Banner.jpg
END:VEVENT
BEGIN:VEVENT
DTSTART;TZID=Africa/Kampala:20250202T150000
DTEND;TZID=Africa/Kampala:20250202T170000
DTSTAMP:20260420T055415
CREATED:20231118T143922Z
LAST-MODIFIED:20231118T202613Z
UID:10826-1738508400-1738515600@calvarykla.com
SUMMARY:Kirundi Service
DESCRIPTION:Kirundi /Kinyarwanda service every Sunday starting at 3pm.
URL:https://calvarykla.com/event/kirundi-service/2025-02-02/
LOCATION:Calvary Chapel Kampala\, 41 William Street\, Kampala\, Kampala\, 256\, Uganda
CATEGORIES:Fellowships,Services
ATTACH;FMTTYPE=image/jpeg:https://calvarykla.com/wp-content/uploads/2023/11/Screen-Kir.jpg
END:VEVENT
BEGIN:VEVENT
DTSTART;TZID=Africa/Kampala:20250203T170000
DTEND;TZID=Africa/Kampala:20250203T190000
DTSTAMP:20260420T055415
CREATED:20241001T073249Z
LAST-MODIFIED:20241001T100636Z
UID:13084-1738602000-1738609200@calvarykla.com
SUMMARY:Men's Fellowship
DESCRIPTION:Men’s weekly study through the book of Romans
URL:https://calvarykla.com/event/mens-fellowship-4/2025-02-03/
LOCATION:Calvary Chapel Kampala\, 41 William Street\, Kampala\, Kampala\, 256\, Uganda
CATEGORIES:Fellowships
ATTACH;FMTTYPE=image/png:https://calvarykla.com/wp-content/uploads/2024/10/Men-of-The-Word-Romans.png
END:VEVENT
BEGIN:VEVENT
DTSTART;TZID=Africa/Kampala:20250204T170000
DTEND;TZID=Africa/Kampala:20250204T190000
DTSTAMP:20260420T055415
CREATED:20241001T072838Z
LAST-MODIFIED:20241001T100531Z
UID:13042-1738688400-1738695600@calvarykla.com
SUMMARY:Men's Fellowship
DESCRIPTION:Men’s weekly bible study through the book of Exodus
URL:https://calvarykla.com/event/mens-fellowship-3/2025-02-04/
LOCATION:Calvary Chapel Kampala\, 41 William Street\, Kampala\, Kampala\, 256\, Uganda
CATEGORIES:Fellowships
ATTACH;FMTTYPE=image/png:https://calvarykla.com/wp-content/uploads/2024/10/Men-of-The-Word-Exodus.png
END:VEVENT
BEGIN:VEVENT
DTSTART;TZID=Africa/Kampala:20250204T180000
DTEND;TZID=Africa/Kampala:20250204T193000
DTSTAMP:20260420T055415
CREATED:20240917T123703Z
LAST-MODIFIED:20240917T123703Z
UID:12864-1738692000-1738697400@calvarykla.com
SUMMARY:Women's Fellowship
DESCRIPTION:Every Tuesday at 6pm. Currently going through a book called Money\, Possessions and Eternity by Randy Alcorn
URL:https://calvarykla.com/event/womens-fellowship-2/2025-02-04/
LOCATION:Calvary Chapel Kampala\, 41 William Street\, Kampala\, Kampala\, 256\, Uganda
CATEGORIES:Fellowships
ATTACH;FMTTYPE=image/jpeg:https://calvarykla.com/wp-content/uploads/2024/09/Ladies-Study.jpg
END:VEVENT
BEGIN:VEVENT
DTSTART;TZID=Africa/Kampala:20250205T180000
DTEND;TZID=Africa/Kampala:20250205T193000
DTSTAMP:20260420T055415
CREATED:20240904T173617Z
LAST-MODIFIED:20250425T125328Z
UID:12474-1738778400-1738783800@calvarykla.com
SUMMARY:Midweek Study Series
DESCRIPTION:Midweek study series through the book of Proverbs
URL:https://calvarykla.com/event/midweek-study-series-2/2025-02-05/
LOCATION:Calvary Chapel Kampala\, 41 William Street\, Kampala\, Kampala\, 256\, Uganda
CATEGORIES:Fellowships,Services
ATTACH;FMTTYPE=image/jpeg:https://calvarykla.com/wp-content/uploads/2023/03/PROVERBS-Wednesday-study-web.jpg
END:VEVENT
BEGIN:VEVENT
DTSTART;TZID=Africa/Kampala:20250206T160000
DTEND;TZID=Africa/Kampala:20250206T173000
DTSTAMP:20260420T055415
CREATED:20231118T132337Z
LAST-MODIFIED:20251204T132740Z
UID:10643-1738857600-1738863000@calvarykla.com
SUMMARY:Prayer Fellowship
DESCRIPTION:Rejoice always\, pray without ceasing\, in everything give thanks; for this is the will of God in Christ Jesus for you. I Thessalonians 5:16-18
URL:https://calvarykla.com/event/prayer-fellowship/2025-02-06/
LOCATION:Calvary Chapel Kampala\, 41 William Street\, Kampala\, Kampala\, 256\, Uganda
CATEGORIES:Fellowships
ATTACH;FMTTYPE=image/jpeg:https://calvarykla.com/wp-content/uploads/2023/11/Prayer-fellowship.jpg
END:VEVENT
BEGIN:VEVENT
DTSTART;TZID=Africa/Kampala:20250207T160000
DTEND;TZID=Africa/Kampala:20250207T173000
DTSTAMP:20260420T055415
CREATED:20231118T132224Z
LAST-MODIFIED:20251204T131308Z
UID:10631-1738944000-1738949400@calvarykla.com
SUMMARY:Missions
DESCRIPTION:Evangelism on the streets of Kampala
URL:https://calvarykla.com/event/missions-2/2025-02-07/
LOCATION:Calvary Chapel Kampala\, 41 William Street\, Kampala\, Kampala\, 256\, Uganda
CATEGORIES:Outreaches
ATTACH;FMTTYPE=image/png:https://calvarykla.com/wp-content/uploads/2023/11/Missions.png
END:VEVENT
BEGIN:VEVENT
DTSTART;TZID=Africa/Kampala:20250208T080000
DTEND;TZID=Africa/Kampala:20250208T120000
DTSTAMP:20260420T055415
CREATED:20231119T084917Z
LAST-MODIFIED:20231122T114406Z
UID:11764-1739001600-1739016000@calvarykla.com
SUMMARY:Frontline Ministry
DESCRIPTION:Our ministry to street children
URL:https://calvarykla.com/event/frontline-ministry/2025-02-08/
LOCATION:Calvary Chapel Kampala\, 41 William Street\, Kampala\, Kampala\, 256\, Uganda
CATEGORIES:Outreaches
ATTACH;FMTTYPE=image/jpeg:https://calvarykla.com/wp-content/uploads/2023/11/Frontline.jpg
END:VEVENT
BEGIN:VEVENT
DTSTART;TZID=Africa/Kampala:20250209T080000
DTEND;TZID=Africa/Kampala:20250209T140000
DTSTAMP:20260420T055415
CREATED:20241004T083929Z
LAST-MODIFIED:20251204T132907Z
UID:13495-1739088000-1739109600@calvarykla.com
SUMMARY:Sunday Sermon Series
DESCRIPTION:New sermon series through the book of 1 & 2 Samuel. Every Sunday at 8am for Luganda and 10am & 12noon for English
URL:https://calvarykla.com/event/sunday-sermon-series-3/2025-02-09/
LOCATION:Calvary Chapel Kampala\, 41 William Street\, Kampala\, Kampala\, 256\, Uganda
CATEGORIES:Fellowships,Services
ATTACH;FMTTYPE=image/jpeg:https://calvarykla.com/wp-content/uploads/2024/10/SAMUEL-Study-Banner.jpg
END:VEVENT
BEGIN:VEVENT
DTSTART;TZID=Africa/Kampala:20250209T150000
DTEND;TZID=Africa/Kampala:20250209T170000
DTSTAMP:20260420T055415
CREATED:20231118T143922Z
LAST-MODIFIED:20231118T202625Z
UID:10829-1739113200-1739120400@calvarykla.com
SUMMARY:Kirundi Service
DESCRIPTION:Kirundi /Kinyarwanda service every Sunday starting at 3pm.
URL:https://calvarykla.com/event/kirundi-service/2025-02-09/
LOCATION:Calvary Chapel Kampala\, 41 William Street\, Kampala\, Kampala\, 256\, Uganda
CATEGORIES:Fellowships,Services
ATTACH;FMTTYPE=image/jpeg:https://calvarykla.com/wp-content/uploads/2023/11/Screen-Kir.jpg
END:VEVENT
BEGIN:VEVENT
DTSTART;TZID=Africa/Kampala:20250210T170000
DTEND;TZID=Africa/Kampala:20250210T190000
DTSTAMP:20260420T055415
CREATED:20241001T073249Z
LAST-MODIFIED:20241001T100650Z
UID:13086-1739206800-1739214000@calvarykla.com
SUMMARY:Men's Fellowship
DESCRIPTION:Men’s weekly study through the book of Romans
URL:https://calvarykla.com/event/mens-fellowship-4/2025-02-10/
LOCATION:Calvary Chapel Kampala\, 41 William Street\, Kampala\, Kampala\, 256\, Uganda
CATEGORIES:Fellowships
ATTACH;FMTTYPE=image/png:https://calvarykla.com/wp-content/uploads/2024/10/Men-of-The-Word-Romans.png
END:VEVENT
BEGIN:VEVENT
DTSTART;TZID=Africa/Kampala:20250211T170000
DTEND;TZID=Africa/Kampala:20250211T190000
DTSTAMP:20260420T055415
CREATED:20241001T072838Z
LAST-MODIFIED:20241001T100546Z
UID:13043-1739293200-1739300400@calvarykla.com
SUMMARY:Men's Fellowship
DESCRIPTION:Men’s weekly bible study through the book of Exodus
URL:https://calvarykla.com/event/mens-fellowship-3/2025-02-11/
LOCATION:Calvary Chapel Kampala\, 41 William Street\, Kampala\, Kampala\, 256\, Uganda
CATEGORIES:Fellowships
ATTACH;FMTTYPE=image/png:https://calvarykla.com/wp-content/uploads/2024/10/Men-of-The-Word-Exodus.png
END:VEVENT
BEGIN:VEVENT
DTSTART;TZID=Africa/Kampala:20250211T180000
DTEND;TZID=Africa/Kampala:20250211T193000
DTSTAMP:20260420T055415
CREATED:20240917T123703Z
LAST-MODIFIED:20240917T123703Z
UID:12865-1739296800-1739302200@calvarykla.com
SUMMARY:Women's Fellowship
DESCRIPTION:Every Tuesday at 6pm. Currently going through a book called Money\, Possessions and Eternity by Randy Alcorn
URL:https://calvarykla.com/event/womens-fellowship-2/2025-02-11/
LOCATION:Calvary Chapel Kampala\, 41 William Street\, Kampala\, Kampala\, 256\, Uganda
CATEGORIES:Fellowships
ATTACH;FMTTYPE=image/jpeg:https://calvarykla.com/wp-content/uploads/2024/09/Ladies-Study.jpg
END:VEVENT
BEGIN:VEVENT
DTSTART;TZID=Africa/Kampala:20250212T180000
DTEND;TZID=Africa/Kampala:20250212T193000
DTSTAMP:20260420T055415
CREATED:20240904T173617Z
LAST-MODIFIED:20250425T125340Z
UID:12476-1739383200-1739388600@calvarykla.com
SUMMARY:Midweek Study Series
DESCRIPTION:Midweek study series through the book of Proverbs
URL:https://calvarykla.com/event/midweek-study-series-2/2025-02-12/
LOCATION:Calvary Chapel Kampala\, 41 William Street\, Kampala\, Kampala\, 256\, Uganda
CATEGORIES:Fellowships,Services
ATTACH;FMTTYPE=image/jpeg:https://calvarykla.com/wp-content/uploads/2023/03/PROVERBS-Wednesday-study-web.jpg
END:VEVENT
END:VCALENDAR