BEGIN:VCALENDAR
VERSION:2.0
PRODID:-//Calvary Chapel Kampala - ECPv5.16.3.1//NONSGML v1.0//EN
CALSCALE:GREGORIAN
METHOD:PUBLISH
X-ORIGINAL-URL:https://calvarykla.com
X-WR-CALDESC:Events for Calvary Chapel Kampala
REFRESH-INTERVAL;VALUE=DURATION:PT1H
X-Robots-Tag:noindex
X-PUBLISHED-TTL:PT1H
BEGIN:VTIMEZONE
TZID:Africa/Kampala
BEGIN:STANDARD
TZOFFSETFROM:+0300
TZOFFSETTO:+0300
TZNAME:EAT
DTSTART:20240101T000000
END:STANDARD
END:VTIMEZONE
BEGIN:VEVENT
DTSTART;TZID=Africa/Kampala:20240725T160000
DTEND;TZID=Africa/Kampala:20240725T173000
DTSTAMP:20260421T081625
CREATED:20231118T132337Z
LAST-MODIFIED:20251204T131857Z
UID:10511-1721923200-1721928600@calvarykla.com
SUMMARY:Prayer Fellowship
DESCRIPTION:Rejoice always\, pray without ceasing\, in everything give thanks; for this is the will of God in Christ Jesus for you. I Thessalonians 5:16-18
URL:https://calvarykla.com/event/prayer-fellowship/2024-07-25/
LOCATION:Calvary Chapel Kampala\, 41 William Street\, Kampala\, Kampala\, 256\, Uganda
CATEGORIES:Fellowships
ATTACH;FMTTYPE=image/jpeg:https://calvarykla.com/wp-content/uploads/2023/11/Prayer-fellowship.jpg
END:VEVENT
BEGIN:VEVENT
DTSTART;TZID=Africa/Kampala:20240726T160000
DTEND;TZID=Africa/Kampala:20240726T173000
DTSTAMP:20260421T081625
CREATED:20231118T130931Z
LAST-MODIFIED:20231118T170307Z
UID:10193-1722009600-1722015000@calvarykla.com
SUMMARY:Missions
DESCRIPTION:Fellowship and follow-up on the month’s activities.
URL:https://calvarykla.com/event/missions/2024-07-26/
LOCATION:Calvary Chapel Kampala\, 41 William Street\, Kampala\, Kampala\, 256\, Uganda
CATEGORIES:Fellowships,Outreaches
ATTACH;FMTTYPE=image/png:https://calvarykla.com/wp-content/uploads/2023/11/Missions.png
END:VEVENT
BEGIN:VEVENT
DTSTART;TZID=Africa/Kampala:20240727T080000
DTEND;TZID=Africa/Kampala:20240727T120000
DTSTAMP:20260421T081625
CREATED:20231119T084917Z
LAST-MODIFIED:20231122T113929Z
UID:11736-1722067200-1722081600@calvarykla.com
SUMMARY:Frontline Ministry
DESCRIPTION:Our ministry to street children
URL:https://calvarykla.com/event/frontline-ministry/2024-07-27/
LOCATION:Calvary Chapel Kampala\, 41 William Street\, Kampala\, Kampala\, 256\, Uganda
CATEGORIES:Outreaches
ATTACH;FMTTYPE=image/jpeg:https://calvarykla.com/wp-content/uploads/2023/11/Frontline.jpg
END:VEVENT
BEGIN:VEVENT
DTSTART;TZID=Africa/Kampala:20240728T080000
DTEND;TZID=Africa/Kampala:20240728T140000
DTSTAMP:20260421T081625
CREATED:20231118T103844Z
LAST-MODIFIED:20240904T174652Z
UID:11550-1722153600-1722175200@calvarykla.com
SUMMARY:Sunday Sermon Series
DESCRIPTION:Our study through the gospel according to Mark. Every Sunday at 8am for Luganda and 10am & 12noon for English
URL:https://calvarykla.com/event/sunday-sermon-series/2024-07-28/
LOCATION:Calvary Chapel Kampala\, 41 William Street\, Kampala\, Kampala\, 256\, Uganda
CATEGORIES:Fellowships,Services
ATTACH;FMTTYPE=image/jpeg:https://calvarykla.com/wp-content/uploads/2023/11/MARK-WEB.jpg
END:VEVENT
BEGIN:VEVENT
DTSTART;TZID=Africa/Kampala:20240728T150000
DTEND;TZID=Africa/Kampala:20240728T170000
DTSTAMP:20260421T081625
CREATED:20231118T143922Z
LAST-MODIFIED:20231118T170755Z
UID:10730-1722178800-1722186000@calvarykla.com
SUMMARY:Kirundi Service
DESCRIPTION:Kirundi /Kinyarwanda service every Sunday starting at 3pm.
URL:https://calvarykla.com/event/kirundi-service/2024-07-28/
LOCATION:Calvary Chapel Kampala\, 41 William Street\, Kampala\, Kampala\, 256\, Uganda
CATEGORIES:Fellowships,Services
ATTACH;FMTTYPE=image/jpeg:https://calvarykla.com/wp-content/uploads/2023/11/Screen-Kir.jpg
END:VEVENT
BEGIN:VEVENT
DTSTART;TZID=Africa/Kampala:20240729T170000
DTEND;TZID=Africa/Kampala:20240729T190000
DTSTAMP:20260421T081625
CREATED:20231118T141705Z
LAST-MODIFIED:20241003T121125Z
UID:10410-1722272400-1722279600@calvarykla.com
SUMMARY:Men's Fellowship
DESCRIPTION:Men’s weekly study through the book of Romans
URL:https://calvarykla.com/event/mens-fellowship/2024-07-29/
LOCATION:Calvary Chapel Kampala\, 41 William Street\, Kampala\, Kampala\, 256\, Uganda
CATEGORIES:Fellowships
ATTACH;FMTTYPE=image/png:https://calvarykla.com/wp-content/uploads/2023/11/Men.png
END:VEVENT
BEGIN:VEVENT
DTSTART;TZID=Africa/Kampala:20240730T170000
DTEND;TZID=Africa/Kampala:20240730T190000
DTSTAMP:20260421T081625
CREATED:20231118T141936Z
LAST-MODIFIED:20241001T100953Z
UID:10450-1722358800-1722366000@calvarykla.com
SUMMARY:Men's Fellowship
DESCRIPTION:Men’s study through the book of Genesis
URL:https://calvarykla.com/event/mens-fellowship-2/2024-07-30/
LOCATION:Calvary Chapel Kampala\, 41 William Street\, Kampala\, Kampala\, 256\, Uganda
CATEGORIES:Fellowships
ATTACH;FMTTYPE=image/png:https://calvarykla.com/wp-content/uploads/2023/11/Men.png
END:VEVENT
BEGIN:VEVENT
DTSTART;TZID=Africa/Kampala:20240730T180000
DTEND;TZID=Africa/Kampala:20240730T193000
DTSTAMP:20260421T081625
CREATED:20231118T142658Z
LAST-MODIFIED:20240924T100519Z
UID:10893-1722362400-1722367800@calvarykla.com
SUMMARY:Women's Fellowship
DESCRIPTION:Every Tuesday at 6pm. Currently going through a book called Lies Women Believe: And the Truth that Sets Them Free by Dana Gresh and Nancy DeMoss Wolgemuth
URL:https://calvarykla.com/event/womens-fellowship/2024-07-30/
LOCATION:Calvary Chapel Kampala\, 41 William Street\, Kampala\, Kampala\, 256\, Uganda
CATEGORIES:Fellowships
ATTACH;FMTTYPE=image/jpeg:https://calvarykla.com/wp-content/uploads/2023/11/Ladies-Study.jpg
END:VEVENT
BEGIN:VEVENT
DTSTART;TZID=Africa/Kampala:20240801T160000
DTEND;TZID=Africa/Kampala:20240801T173000
DTSTAMP:20260421T081625
CREATED:20231118T132337Z
LAST-MODIFIED:20251204T131911Z
UID:10515-1722528000-1722533400@calvarykla.com
SUMMARY:Prayer Fellowship
DESCRIPTION:Rejoice always\, pray without ceasing\, in everything give thanks; for this is the will of God in Christ Jesus for you. I Thessalonians 5:16-18
URL:https://calvarykla.com/event/prayer-fellowship/2024-08-01/
LOCATION:Calvary Chapel Kampala\, 41 William Street\, Kampala\, Kampala\, 256\, Uganda
CATEGORIES:Fellowships
ATTACH;FMTTYPE=image/jpeg:https://calvarykla.com/wp-content/uploads/2023/11/Prayer-fellowship.jpg
END:VEVENT
BEGIN:VEVENT
DTSTART;TZID=Africa/Kampala:20240802T160000
DTEND;TZID=Africa/Kampala:20240802T173000
DTSTAMP:20260421T081625
CREATED:20231118T132224Z
LAST-MODIFIED:20251204T130551Z
UID:10529-1722614400-1722619800@calvarykla.com
SUMMARY:Missions
DESCRIPTION:Evangelism on the streets of Kampala
URL:https://calvarykla.com/event/missions-2/2024-08-02/
LOCATION:Calvary Chapel Kampala\, 41 William Street\, Kampala\, Kampala\, 256\, Uganda
CATEGORIES:Outreaches
ATTACH;FMTTYPE=image/png:https://calvarykla.com/wp-content/uploads/2023/11/Missions.png
END:VEVENT
BEGIN:VEVENT
DTSTART;TZID=Africa/Kampala:20240803T080000
DTEND;TZID=Africa/Kampala:20240803T120000
DTSTAMP:20260421T081625
CREATED:20231119T084917Z
LAST-MODIFIED:20231122T113939Z
UID:11737-1722672000-1722686400@calvarykla.com
SUMMARY:Frontline Ministry
DESCRIPTION:Our ministry to street children
URL:https://calvarykla.com/event/frontline-ministry/2024-08-03/
LOCATION:Calvary Chapel Kampala\, 41 William Street\, Kampala\, Kampala\, 256\, Uganda
CATEGORIES:Outreaches
ATTACH;FMTTYPE=image/jpeg:https://calvarykla.com/wp-content/uploads/2023/11/Frontline.jpg
END:VEVENT
BEGIN:VEVENT
DTSTART;TZID=Africa/Kampala:20240804T080000
DTEND;TZID=Africa/Kampala:20240804T140000
DTSTAMP:20260421T081625
CREATED:20231118T103844Z
LAST-MODIFIED:20240904T174700Z
UID:11552-1722758400-1722780000@calvarykla.com
SUMMARY:Sunday Sermon Series
DESCRIPTION:Our study through the gospel according to Mark. Every Sunday at 8am for Luganda and 10am & 12noon for English
URL:https://calvarykla.com/event/sunday-sermon-series/2024-08-04/
LOCATION:Calvary Chapel Kampala\, 41 William Street\, Kampala\, Kampala\, 256\, Uganda
CATEGORIES:Fellowships,Services
ATTACH;FMTTYPE=image/jpeg:https://calvarykla.com/wp-content/uploads/2023/11/MARK-WEB.jpg
END:VEVENT
BEGIN:VEVENT
DTSTART;TZID=Africa/Kampala:20240804T150000
DTEND;TZID=Africa/Kampala:20240804T170000
DTSTAMP:20260421T081625
CREATED:20231118T143922Z
LAST-MODIFIED:20231118T170812Z
UID:10735-1722783600-1722790800@calvarykla.com
SUMMARY:Kirundi Service
DESCRIPTION:Kirundi /Kinyarwanda service every Sunday starting at 3pm.
URL:https://calvarykla.com/event/kirundi-service/2024-08-04/
LOCATION:Calvary Chapel Kampala\, 41 William Street\, Kampala\, Kampala\, 256\, Uganda
CATEGORIES:Fellowships,Services
ATTACH;FMTTYPE=image/jpeg:https://calvarykla.com/wp-content/uploads/2023/11/Screen-Kir.jpg
END:VEVENT
BEGIN:VEVENT
DTSTART;TZID=Africa/Kampala:20240805T170000
DTEND;TZID=Africa/Kampala:20240805T190000
DTSTAMP:20260421T081625
CREATED:20231118T141705Z
LAST-MODIFIED:20241003T121132Z
UID:10412-1722877200-1722884400@calvarykla.com
SUMMARY:Men's Fellowship
DESCRIPTION:Men’s weekly study through the book of Romans
URL:https://calvarykla.com/event/mens-fellowship/2024-08-05/
LOCATION:Calvary Chapel Kampala\, 41 William Street\, Kampala\, Kampala\, 256\, Uganda
CATEGORIES:Fellowships
ATTACH;FMTTYPE=image/png:https://calvarykla.com/wp-content/uploads/2023/11/Men.png
END:VEVENT
BEGIN:VEVENT
DTSTART;TZID=Africa/Kampala:20240806T170000
DTEND;TZID=Africa/Kampala:20240806T190000
DTSTAMP:20260421T081625
CREATED:20231118T141936Z
LAST-MODIFIED:20241001T101001Z
UID:10455-1722963600-1722970800@calvarykla.com
SUMMARY:Men's Fellowship
DESCRIPTION:Men’s study through the book of Genesis
URL:https://calvarykla.com/event/mens-fellowship-2/2024-08-06/
LOCATION:Calvary Chapel Kampala\, 41 William Street\, Kampala\, Kampala\, 256\, Uganda
CATEGORIES:Fellowships
ATTACH;FMTTYPE=image/png:https://calvarykla.com/wp-content/uploads/2023/11/Men.png
END:VEVENT
BEGIN:VEVENT
DTSTART;TZID=Africa/Kampala:20240806T180000
DTEND;TZID=Africa/Kampala:20240806T193000
DTSTAMP:20260421T081625
CREATED:20231118T142658Z
LAST-MODIFIED:20240924T100524Z
UID:10895-1722967200-1722972600@calvarykla.com
SUMMARY:Women's Fellowship
DESCRIPTION:Every Tuesday at 6pm. Currently going through a book called Lies Women Believe: And the Truth that Sets Them Free by Dana Gresh and Nancy DeMoss Wolgemuth
URL:https://calvarykla.com/event/womens-fellowship/2024-08-06/
LOCATION:Calvary Chapel Kampala\, 41 William Street\, Kampala\, Kampala\, 256\, Uganda
CATEGORIES:Fellowships
ATTACH;FMTTYPE=image/jpeg:https://calvarykla.com/wp-content/uploads/2023/11/Ladies-Study.jpg
END:VEVENT
BEGIN:VEVENT
DTSTART;TZID=Africa/Kampala:20240807T180000
DTEND;TZID=Africa/Kampala:20240807T193000
DTSTAMP:20260421T081625
CREATED:20240904T173617Z
LAST-MODIFIED:20250425T125010Z
UID:12435-1723053600-1723059000@calvarykla.com
SUMMARY:Midweek Study Series
DESCRIPTION:Midweek study series through the book of Proverbs
URL:https://calvarykla.com/event/midweek-study-series-2/2024-08-07/
LOCATION:Calvary Chapel Kampala\, 41 William Street\, Kampala\, Kampala\, 256\, Uganda
CATEGORIES:Fellowships,Services
ATTACH;FMTTYPE=image/jpeg:https://calvarykla.com/wp-content/uploads/2023/03/PROVERBS-Wednesday-study-web.jpg
END:VEVENT
BEGIN:VEVENT
DTSTART;TZID=Africa/Kampala:20240808T160000
DTEND;TZID=Africa/Kampala:20240808T173000
DTSTAMP:20260421T081625
CREATED:20231118T132337Z
LAST-MODIFIED:20251204T131928Z
UID:10519-1723132800-1723138200@calvarykla.com
SUMMARY:Prayer Fellowship
DESCRIPTION:Rejoice always\, pray without ceasing\, in everything give thanks; for this is the will of God in Christ Jesus for you. I Thessalonians 5:16-18
URL:https://calvarykla.com/event/prayer-fellowship/2024-08-08/
LOCATION:Calvary Chapel Kampala\, 41 William Street\, Kampala\, Kampala\, 256\, Uganda
CATEGORIES:Fellowships
ATTACH;FMTTYPE=image/jpeg:https://calvarykla.com/wp-content/uploads/2023/11/Prayer-fellowship.jpg
END:VEVENT
BEGIN:VEVENT
DTSTART;TZID=Africa/Kampala:20240809T160000
DTEND;TZID=Africa/Kampala:20240809T173000
DTSTAMP:20260421T081625
CREATED:20231118T132224Z
LAST-MODIFIED:20251204T130629Z
UID:10535-1723219200-1723224600@calvarykla.com
SUMMARY:Missions
DESCRIPTION:Evangelism on the streets of Kampala
URL:https://calvarykla.com/event/missions-2/2024-08-09/
LOCATION:Calvary Chapel Kampala\, 41 William Street\, Kampala\, Kampala\, 256\, Uganda
CATEGORIES:Outreaches
ATTACH;FMTTYPE=image/png:https://calvarykla.com/wp-content/uploads/2023/11/Missions.png
END:VEVENT
BEGIN:VEVENT
DTSTART;TZID=Africa/Kampala:20240810T080000
DTEND;TZID=Africa/Kampala:20240810T120000
DTSTAMP:20260421T081625
CREATED:20231119T084917Z
LAST-MODIFIED:20231122T113949Z
UID:11738-1723276800-1723291200@calvarykla.com
SUMMARY:Frontline Ministry
DESCRIPTION:Our ministry to street children
URL:https://calvarykla.com/event/frontline-ministry/2024-08-10/
LOCATION:Calvary Chapel Kampala\, 41 William Street\, Kampala\, Kampala\, 256\, Uganda
CATEGORIES:Outreaches
ATTACH;FMTTYPE=image/jpeg:https://calvarykla.com/wp-content/uploads/2023/11/Frontline.jpg
END:VEVENT
BEGIN:VEVENT
DTSTART;TZID=Africa/Kampala:20240811T080000
DTEND;TZID=Africa/Kampala:20240811T140000
DTSTAMP:20260421T081625
CREATED:20231118T103844Z
LAST-MODIFIED:20240904T174710Z
UID:11553-1723363200-1723384800@calvarykla.com
SUMMARY:Sunday Sermon Series
DESCRIPTION:Our study through the gospel according to Mark. Every Sunday at 8am for Luganda and 10am & 12noon for English
URL:https://calvarykla.com/event/sunday-sermon-series/2024-08-11/
LOCATION:Calvary Chapel Kampala\, 41 William Street\, Kampala\, Kampala\, 256\, Uganda
CATEGORIES:Fellowships,Services
ATTACH;FMTTYPE=image/jpeg:https://calvarykla.com/wp-content/uploads/2023/11/MARK-WEB.jpg
END:VEVENT
BEGIN:VEVENT
DTSTART;TZID=Africa/Kampala:20240811T150000
DTEND;TZID=Africa/Kampala:20240811T170000
DTSTAMP:20260421T081625
CREATED:20231118T143922Z
LAST-MODIFIED:20231118T170830Z
UID:10740-1723388400-1723395600@calvarykla.com
SUMMARY:Kirundi Service
DESCRIPTION:Kirundi /Kinyarwanda service every Sunday starting at 3pm.
URL:https://calvarykla.com/event/kirundi-service/2024-08-11/
LOCATION:Calvary Chapel Kampala\, 41 William Street\, Kampala\, Kampala\, 256\, Uganda
CATEGORIES:Fellowships,Services
ATTACH;FMTTYPE=image/jpeg:https://calvarykla.com/wp-content/uploads/2023/11/Screen-Kir.jpg
END:VEVENT
BEGIN:VEVENT
DTSTART;TZID=Africa/Kampala:20240812T170000
DTEND;TZID=Africa/Kampala:20240812T190000
DTSTAMP:20260421T081625
CREATED:20231118T141705Z
LAST-MODIFIED:20241003T121140Z
UID:10416-1723482000-1723489200@calvarykla.com
SUMMARY:Men's Fellowship
DESCRIPTION:Men’s weekly study through the book of Romans
URL:https://calvarykla.com/event/mens-fellowship/2024-08-12/
LOCATION:Calvary Chapel Kampala\, 41 William Street\, Kampala\, Kampala\, 256\, Uganda
CATEGORIES:Fellowships
ATTACH;FMTTYPE=image/png:https://calvarykla.com/wp-content/uploads/2023/11/Men.png
END:VEVENT
BEGIN:VEVENT
DTSTART;TZID=Africa/Kampala:20240813T170000
DTEND;TZID=Africa/Kampala:20240813T190000
DTSTAMP:20260421T081625
CREATED:20231118T141936Z
LAST-MODIFIED:20241001T101008Z
UID:10460-1723568400-1723575600@calvarykla.com
SUMMARY:Men's Fellowship
DESCRIPTION:Men’s study through the book of Genesis
URL:https://calvarykla.com/event/mens-fellowship-2/2024-08-13/
LOCATION:Calvary Chapel Kampala\, 41 William Street\, Kampala\, Kampala\, 256\, Uganda
CATEGORIES:Fellowships
ATTACH;FMTTYPE=image/png:https://calvarykla.com/wp-content/uploads/2023/11/Men.png
END:VEVENT
BEGIN:VEVENT
DTSTART;TZID=Africa/Kampala:20240813T180000
DTEND;TZID=Africa/Kampala:20240813T193000
DTSTAMP:20260421T081625
CREATED:20231118T142658Z
LAST-MODIFIED:20240924T100529Z
UID:10896-1723572000-1723577400@calvarykla.com
SUMMARY:Women's Fellowship
DESCRIPTION:Every Tuesday at 6pm. Currently going through a book called Lies Women Believe: And the Truth that Sets Them Free by Dana Gresh and Nancy DeMoss Wolgemuth
URL:https://calvarykla.com/event/womens-fellowship/2024-08-13/
LOCATION:Calvary Chapel Kampala\, 41 William Street\, Kampala\, Kampala\, 256\, Uganda
CATEGORIES:Fellowships
ATTACH;FMTTYPE=image/jpeg:https://calvarykla.com/wp-content/uploads/2023/11/Ladies-Study.jpg
END:VEVENT
BEGIN:VEVENT
DTSTART;TZID=Africa/Kampala:20240814T180000
DTEND;TZID=Africa/Kampala:20240814T193000
DTSTAMP:20260421T081625
CREATED:20240904T173617Z
LAST-MODIFIED:20250425T125017Z
UID:12437-1723658400-1723663800@calvarykla.com
SUMMARY:Midweek Study Series
DESCRIPTION:Midweek study series through the book of Proverbs
URL:https://calvarykla.com/event/midweek-study-series-2/2024-08-14/
LOCATION:Calvary Chapel Kampala\, 41 William Street\, Kampala\, Kampala\, 256\, Uganda
CATEGORIES:Fellowships,Services
ATTACH;FMTTYPE=image/jpeg:https://calvarykla.com/wp-content/uploads/2023/03/PROVERBS-Wednesday-study-web.jpg
END:VEVENT
BEGIN:VEVENT
DTSTART;TZID=Africa/Kampala:20240815T160000
DTEND;TZID=Africa/Kampala:20240815T173000
DTSTAMP:20260421T081625
CREATED:20231118T132337Z
LAST-MODIFIED:20251204T131945Z
UID:10523-1723737600-1723743000@calvarykla.com
SUMMARY:Prayer Fellowship
DESCRIPTION:Rejoice always\, pray without ceasing\, in everything give thanks; for this is the will of God in Christ Jesus for you. I Thessalonians 5:16-18
URL:https://calvarykla.com/event/prayer-fellowship/2024-08-15/
LOCATION:Calvary Chapel Kampala\, 41 William Street\, Kampala\, Kampala\, 256\, Uganda
CATEGORIES:Fellowships
ATTACH;FMTTYPE=image/jpeg:https://calvarykla.com/wp-content/uploads/2023/11/Prayer-fellowship.jpg
END:VEVENT
BEGIN:VEVENT
DTSTART;TZID=Africa/Kampala:20240816T160000
DTEND;TZID=Africa/Kampala:20240816T173000
DTSTAMP:20260421T081625
CREATED:20231118T132224Z
LAST-MODIFIED:20251204T130649Z
UID:10540-1723824000-1723829400@calvarykla.com
SUMMARY:Missions
DESCRIPTION:Evangelism on the streets of Kampala
URL:https://calvarykla.com/event/missions-2/2024-08-16/
LOCATION:Calvary Chapel Kampala\, 41 William Street\, Kampala\, Kampala\, 256\, Uganda
CATEGORIES:Outreaches
ATTACH;FMTTYPE=image/png:https://calvarykla.com/wp-content/uploads/2023/11/Missions.png
END:VEVENT
BEGIN:VEVENT
DTSTART;TZID=Africa/Kampala:20240817T080000
DTEND;TZID=Africa/Kampala:20240817T120000
DTSTAMP:20260421T081625
CREATED:20231119T084917Z
LAST-MODIFIED:20231122T113957Z
UID:11739-1723881600-1723896000@calvarykla.com
SUMMARY:Frontline Ministry
DESCRIPTION:Our ministry to street children
URL:https://calvarykla.com/event/frontline-ministry/2024-08-17/
LOCATION:Calvary Chapel Kampala\, 41 William Street\, Kampala\, Kampala\, 256\, Uganda
CATEGORIES:Outreaches
ATTACH;FMTTYPE=image/jpeg:https://calvarykla.com/wp-content/uploads/2023/11/Frontline.jpg
END:VEVENT
BEGIN:VEVENT
DTSTART;TZID=Africa/Kampala:20240818T080000
DTEND;TZID=Africa/Kampala:20240818T140000
DTSTAMP:20260421T081625
CREATED:20240904T172901Z
LAST-MODIFIED:20241004T121555Z
UID:12321-1723968000-1723989600@calvarykla.com
SUMMARY:Sunday Sermon Series
DESCRIPTION:Our study through the book of Ruth. Every Sunday at 8am for Luganda and 10am & 12noon for English
URL:https://calvarykla.com/event/sunday-sermon-series-2/2024-08-18/
LOCATION:Calvary Chapel Kampala\, 41 William Street\, Kampala\, Kampala\, 256\, Uganda
CATEGORIES:Fellowships,Services
ATTACH;FMTTYPE=image/jpeg:https://calvarykla.com/wp-content/uploads/2023/02/Ruth-1.jpg
END:VEVENT
END:VCALENDAR