BEGIN:VCALENDAR
VERSION:2.0
PRODID:-//Calvary Chapel Kampala - ECPv5.16.3.1//NONSGML v1.0//EN
CALSCALE:GREGORIAN
METHOD:PUBLISH
X-ORIGINAL-URL:https://calvarykla.com
X-WR-CALDESC:Events for Calvary Chapel Kampala
REFRESH-INTERVAL;VALUE=DURATION:PT1H
X-Robots-Tag:noindex
X-PUBLISHED-TTL:PT1H
BEGIN:VTIMEZONE
TZID:Africa/Kampala
BEGIN:STANDARD
TZOFFSETFROM:+0300
TZOFFSETTO:+0300
TZNAME:EAT
DTSTART:20240101T000000
END:STANDARD
END:VTIMEZONE
BEGIN:VEVENT
DTSTART;TZID=Africa/Kampala:20241001T170000
DTEND;TZID=Africa/Kampala:20241001T190000
DTSTAMP:20260420T022230
CREATED:20241001T072838Z
LAST-MODIFIED:20241001T100208Z
UID:13019-1727802000-1727809200@calvarykla.com
SUMMARY:Men's Fellowship
DESCRIPTION:Men’s weekly bible study through the book of Exodus
URL:https://calvarykla.com/event/mens-fellowship-3/2024-10-01/
LOCATION:Calvary Chapel Kampala\, 41 William Street\, Kampala\, Kampala\, 256\, Uganda
CATEGORIES:Fellowships
ATTACH;FMTTYPE=image/png:https://calvarykla.com/wp-content/uploads/2024/10/Men-of-The-Word-Exodus.png
END:VEVENT
BEGIN:VEVENT
DTSTART;TZID=Africa/Kampala:20241001T180000
DTEND;TZID=Africa/Kampala:20241001T193000
DTSTAMP:20260420T022230
CREATED:20240917T123703Z
LAST-MODIFIED:20240924T100213Z
UID:12846-1727805600-1727811000@calvarykla.com
SUMMARY:Women's Fellowship
DESCRIPTION:Every Tuesday at 6pm. Currently going through a book called Money\, Possessions and Eternity by Randy Alcorn
URL:https://calvarykla.com/event/womens-fellowship-2/2024-10-01/
LOCATION:Calvary Chapel Kampala\, 41 William Street\, Kampala\, Kampala\, 256\, Uganda
CATEGORIES:Fellowships
ATTACH;FMTTYPE=image/jpeg:https://calvarykla.com/wp-content/uploads/2024/09/Ladies-Study.jpg
END:VEVENT
BEGIN:VEVENT
DTSTART;TZID=Africa/Kampala:20241002T180000
DTEND;TZID=Africa/Kampala:20241002T193000
DTSTAMP:20260420T022230
CREATED:20240904T173617Z
LAST-MODIFIED:20250425T125103Z
UID:12447-1727892000-1727897400@calvarykla.com
SUMMARY:Midweek Study Series
DESCRIPTION:Midweek study series through the book of Proverbs
URL:https://calvarykla.com/event/midweek-study-series-2/2024-10-02/
LOCATION:Calvary Chapel Kampala\, 41 William Street\, Kampala\, Kampala\, 256\, Uganda
CATEGORIES:Fellowships,Services
ATTACH;FMTTYPE=image/jpeg:https://calvarykla.com/wp-content/uploads/2023/03/PROVERBS-Wednesday-study-web.jpg
END:VEVENT
BEGIN:VEVENT
DTSTART;TZID=Africa/Kampala:20241003T160000
DTEND;TZID=Africa/Kampala:20241003T173000
DTSTAMP:20260420T022230
CREATED:20231118T132337Z
LAST-MODIFIED:20251204T132155Z
UID:10557-1727971200-1727976600@calvarykla.com
SUMMARY:Prayer Fellowship
DESCRIPTION:Rejoice always\, pray without ceasing\, in everything give thanks; for this is the will of God in Christ Jesus for you. I Thessalonians 5:16-18
URL:https://calvarykla.com/event/prayer-fellowship/2024-10-03/
LOCATION:Calvary Chapel Kampala\, 41 William Street\, Kampala\, Kampala\, 256\, Uganda
CATEGORIES:Fellowships
ATTACH;FMTTYPE=image/jpeg:https://calvarykla.com/wp-content/uploads/2023/11/Prayer-fellowship.jpg
END:VEVENT
BEGIN:VEVENT
DTSTART;TZID=Africa/Kampala:20241004T160000
DTEND;TZID=Africa/Kampala:20241004T173000
DTSTAMP:20260420T022230
CREATED:20231118T132224Z
LAST-MODIFIED:20251204T130827Z
UID:10564-1728057600-1728063000@calvarykla.com
SUMMARY:Missions
DESCRIPTION:Evangelism on the streets of Kampala
URL:https://calvarykla.com/event/missions-2/2024-10-04/
LOCATION:Calvary Chapel Kampala\, 41 William Street\, Kampala\, Kampala\, 256\, Uganda
CATEGORIES:Outreaches
ATTACH;FMTTYPE=image/png:https://calvarykla.com/wp-content/uploads/2023/11/Missions.png
END:VEVENT
BEGIN:VEVENT
DTSTART;TZID=Africa/Kampala:20241005T080000
DTEND;TZID=Africa/Kampala:20241005T120000
DTSTAMP:20260420T022230
CREATED:20231119T084917Z
LAST-MODIFIED:20231122T114104Z
UID:11746-1728115200-1728129600@calvarykla.com
SUMMARY:Frontline Ministry
DESCRIPTION:Our ministry to street children
URL:https://calvarykla.com/event/frontline-ministry/2024-10-05/
LOCATION:Calvary Chapel Kampala\, 41 William Street\, Kampala\, Kampala\, 256\, Uganda
CATEGORIES:Outreaches
ATTACH;FMTTYPE=image/jpeg:https://calvarykla.com/wp-content/uploads/2023/11/Frontline.jpg
END:VEVENT
BEGIN:VEVENT
DTSTART;TZID=Africa/Kampala:20241006T080000
DTEND;TZID=Africa/Kampala:20241006T140000
DTSTAMP:20260420T022230
CREATED:20241004T083929Z
LAST-MODIFIED:20251204T132316Z
UID:13451-1728201600-1728223200@calvarykla.com
SUMMARY:Sunday Sermon Series
DESCRIPTION:New sermon series through the book of 1 & 2 Samuel. Every Sunday at 8am for Luganda and 10am & 12noon for English
URL:https://calvarykla.com/event/sunday-sermon-series-3/2024-10-06/
LOCATION:Calvary Chapel Kampala\, 41 William Street\, Kampala\, Kampala\, 256\, Uganda
CATEGORIES:Fellowships,Services
ATTACH;FMTTYPE=image/jpeg:https://calvarykla.com/wp-content/uploads/2024/10/SAMUEL-Study-Banner.jpg
END:VEVENT
BEGIN:VEVENT
DTSTART;TZID=Africa/Kampala:20241006T150000
DTEND;TZID=Africa/Kampala:20241006T170000
DTSTAMP:20260420T022230
CREATED:20231118T143922Z
LAST-MODIFIED:20231118T171055Z
UID:10775-1728226800-1728234000@calvarykla.com
SUMMARY:Kirundi Service
DESCRIPTION:Kirundi /Kinyarwanda service every Sunday starting at 3pm.
URL:https://calvarykla.com/event/kirundi-service/2024-10-06/
LOCATION:Calvary Chapel Kampala\, 41 William Street\, Kampala\, Kampala\, 256\, Uganda
CATEGORIES:Fellowships,Services
ATTACH;FMTTYPE=image/jpeg:https://calvarykla.com/wp-content/uploads/2023/11/Screen-Kir.jpg
END:VEVENT
BEGIN:VEVENT
DTSTART;TZID=Africa/Kampala:20241007T170000
DTEND;TZID=Africa/Kampala:20241007T190000
DTSTAMP:20260420T022230
CREATED:20241001T073249Z
LAST-MODIFIED:20241001T100246Z
UID:13050-1728320400-1728327600@calvarykla.com
SUMMARY:Men's Fellowship
DESCRIPTION:Men’s weekly study through the book of Romans
URL:https://calvarykla.com/event/mens-fellowship-4/2024-10-07/
LOCATION:Calvary Chapel Kampala\, 41 William Street\, Kampala\, Kampala\, 256\, Uganda
CATEGORIES:Fellowships
ATTACH;FMTTYPE=image/png:https://calvarykla.com/wp-content/uploads/2024/10/Men-of-The-Word-Romans.png
END:VEVENT
BEGIN:VEVENT
DTSTART;TZID=Africa/Kampala:20241008T170000
DTEND;TZID=Africa/Kampala:20241008T190000
DTSTAMP:20260420T022230
CREATED:20241001T072838Z
LAST-MODIFIED:20241001T100209Z
UID:13023-1728406800-1728414000@calvarykla.com
SUMMARY:Men's Fellowship
DESCRIPTION:Men’s weekly bible study through the book of Exodus
URL:https://calvarykla.com/event/mens-fellowship-3/2024-10-08/
LOCATION:Calvary Chapel Kampala\, 41 William Street\, Kampala\, Kampala\, 256\, Uganda
CATEGORIES:Fellowships
ATTACH;FMTTYPE=image/png:https://calvarykla.com/wp-content/uploads/2024/10/Men-of-The-Word-Exodus.png
END:VEVENT
BEGIN:VEVENT
DTSTART;TZID=Africa/Kampala:20241008T180000
DTEND;TZID=Africa/Kampala:20241008T193000
DTSTAMP:20260420T022230
CREATED:20240917T123703Z
LAST-MODIFIED:20240924T100225Z
UID:12847-1728410400-1728415800@calvarykla.com
SUMMARY:Women's Fellowship
DESCRIPTION:Every Tuesday at 6pm. Currently going through a book called Money\, Possessions and Eternity by Randy Alcorn
URL:https://calvarykla.com/event/womens-fellowship-2/2024-10-08/
LOCATION:Calvary Chapel Kampala\, 41 William Street\, Kampala\, Kampala\, 256\, Uganda
CATEGORIES:Fellowships
ATTACH;FMTTYPE=image/jpeg:https://calvarykla.com/wp-content/uploads/2024/09/Ladies-Study.jpg
END:VEVENT
BEGIN:VEVENT
DTSTART;TZID=Africa/Kampala:20241009T180000
DTEND;TZID=Africa/Kampala:20241009T193000
DTSTAMP:20260420T022230
CREATED:20240904T173617Z
LAST-MODIFIED:20250425T125110Z
UID:12449-1728496800-1728502200@calvarykla.com
SUMMARY:Midweek Study Series
DESCRIPTION:Midweek study series through the book of Proverbs
URL:https://calvarykla.com/event/midweek-study-series-2/2024-10-09/
LOCATION:Calvary Chapel Kampala\, 41 William Street\, Kampala\, Kampala\, 256\, Uganda
CATEGORIES:Fellowships,Services
ATTACH;FMTTYPE=image/jpeg:https://calvarykla.com/wp-content/uploads/2023/03/PROVERBS-Wednesday-study-web.jpg
END:VEVENT
BEGIN:VEVENT
DTSTART;TZID=Africa/Kampala:20241010T160000
DTEND;TZID=Africa/Kampala:20241010T173000
DTSTAMP:20260420T022230
CREATED:20231118T132337Z
LAST-MODIFIED:20251204T132218Z
UID:10562-1728576000-1728581400@calvarykla.com
SUMMARY:Prayer Fellowship
DESCRIPTION:Rejoice always\, pray without ceasing\, in everything give thanks; for this is the will of God in Christ Jesus for you. I Thessalonians 5:16-18
URL:https://calvarykla.com/event/prayer-fellowship/2024-10-10/
LOCATION:Calvary Chapel Kampala\, 41 William Street\, Kampala\, Kampala\, 256\, Uganda
CATEGORIES:Fellowships
ATTACH;FMTTYPE=image/jpeg:https://calvarykla.com/wp-content/uploads/2023/11/Prayer-fellowship.jpg
END:VEVENT
BEGIN:VEVENT
DTSTART;TZID=Africa/Kampala:20241011T160000
DTEND;TZID=Africa/Kampala:20241011T173000
DTSTAMP:20260420T022230
CREATED:20231118T132224Z
LAST-MODIFIED:20251204T130848Z
UID:10568-1728662400-1728667800@calvarykla.com
SUMMARY:Missions
DESCRIPTION:Evangelism on the streets of Kampala
URL:https://calvarykla.com/event/missions-2/2024-10-11/
LOCATION:Calvary Chapel Kampala\, 41 William Street\, Kampala\, Kampala\, 256\, Uganda
CATEGORIES:Outreaches
ATTACH;FMTTYPE=image/png:https://calvarykla.com/wp-content/uploads/2023/11/Missions.png
END:VEVENT
BEGIN:VEVENT
DTSTART;TZID=Africa/Kampala:20241012T080000
DTEND;TZID=Africa/Kampala:20241012T120000
DTSTAMP:20260420T022230
CREATED:20231119T084917Z
LAST-MODIFIED:20231122T114113Z
UID:11747-1728720000-1728734400@calvarykla.com
SUMMARY:Frontline Ministry
DESCRIPTION:Our ministry to street children
URL:https://calvarykla.com/event/frontline-ministry/2024-10-12/
LOCATION:Calvary Chapel Kampala\, 41 William Street\, Kampala\, Kampala\, 256\, Uganda
CATEGORIES:Outreaches
ATTACH;FMTTYPE=image/jpeg:https://calvarykla.com/wp-content/uploads/2023/11/Frontline.jpg
END:VEVENT
BEGIN:VEVENT
DTSTART;TZID=Africa/Kampala:20241013T080000
DTEND;TZID=Africa/Kampala:20241013T140000
DTSTAMP:20260420T022230
CREATED:20241004T083929Z
LAST-MODIFIED:20251204T132319Z
UID:13461-1728806400-1728828000@calvarykla.com
SUMMARY:Sunday Sermon Series
DESCRIPTION:New sermon series through the book of 1 & 2 Samuel. Every Sunday at 8am for Luganda and 10am & 12noon for English
URL:https://calvarykla.com/event/sunday-sermon-series-3/2024-10-13/
LOCATION:Calvary Chapel Kampala\, 41 William Street\, Kampala\, Kampala\, 256\, Uganda
CATEGORIES:Fellowships,Services
ATTACH;FMTTYPE=image/jpeg:https://calvarykla.com/wp-content/uploads/2024/10/SAMUEL-Study-Banner.jpg
END:VEVENT
BEGIN:VEVENT
DTSTART;TZID=Africa/Kampala:20241013T150000
DTEND;TZID=Africa/Kampala:20241013T170000
DTSTAMP:20260420T022230
CREATED:20231118T143922Z
LAST-MODIFIED:20231118T171114Z
UID:10779-1728831600-1728838800@calvarykla.com
SUMMARY:Kirundi Service
DESCRIPTION:Kirundi /Kinyarwanda service every Sunday starting at 3pm.
URL:https://calvarykla.com/event/kirundi-service/2024-10-13/
LOCATION:Calvary Chapel Kampala\, 41 William Street\, Kampala\, Kampala\, 256\, Uganda
CATEGORIES:Fellowships,Services
ATTACH;FMTTYPE=image/jpeg:https://calvarykla.com/wp-content/uploads/2023/11/Screen-Kir.jpg
END:VEVENT
BEGIN:VEVENT
DTSTART;TZID=Africa/Kampala:20241014T170000
DTEND;TZID=Africa/Kampala:20241014T190000
DTSTAMP:20260420T022230
CREATED:20241001T073249Z
LAST-MODIFIED:20241001T100259Z
UID:13052-1728925200-1728932400@calvarykla.com
SUMMARY:Men's Fellowship
DESCRIPTION:Men’s weekly study through the book of Romans
URL:https://calvarykla.com/event/mens-fellowship-4/2024-10-14/
LOCATION:Calvary Chapel Kampala\, 41 William Street\, Kampala\, Kampala\, 256\, Uganda
CATEGORIES:Fellowships
ATTACH;FMTTYPE=image/png:https://calvarykla.com/wp-content/uploads/2024/10/Men-of-The-Word-Romans.png
END:VEVENT
BEGIN:VEVENT
DTSTART;TZID=Africa/Kampala:20241015T170000
DTEND;TZID=Africa/Kampala:20241015T190000
DTSTAMP:20260420T022230
CREATED:20241001T072838Z
LAST-MODIFIED:20241001T100215Z
UID:13024-1729011600-1729018800@calvarykla.com
SUMMARY:Men's Fellowship
DESCRIPTION:Men’s weekly bible study through the book of Exodus
URL:https://calvarykla.com/event/mens-fellowship-3/2024-10-15/
LOCATION:Calvary Chapel Kampala\, 41 William Street\, Kampala\, Kampala\, 256\, Uganda
CATEGORIES:Fellowships
ATTACH;FMTTYPE=image/png:https://calvarykla.com/wp-content/uploads/2024/10/Men-of-The-Word-Exodus.png
END:VEVENT
BEGIN:VEVENT
DTSTART;TZID=Africa/Kampala:20241015T180000
DTEND;TZID=Africa/Kampala:20241015T193000
DTSTAMP:20260420T022230
CREATED:20240917T123703Z
LAST-MODIFIED:20240924T100235Z
UID:12848-1729015200-1729020600@calvarykla.com
SUMMARY:Women's Fellowship
DESCRIPTION:Every Tuesday at 6pm. Currently going through a book called Money\, Possessions and Eternity by Randy Alcorn
URL:https://calvarykla.com/event/womens-fellowship-2/2024-10-15/
LOCATION:Calvary Chapel Kampala\, 41 William Street\, Kampala\, Kampala\, 256\, Uganda
CATEGORIES:Fellowships
ATTACH;FMTTYPE=image/jpeg:https://calvarykla.com/wp-content/uploads/2024/09/Ladies-Study.jpg
END:VEVENT
BEGIN:VEVENT
DTSTART;TZID=Africa/Kampala:20241016T180000
DTEND;TZID=Africa/Kampala:20241016T193000
DTSTAMP:20260420T022230
CREATED:20240904T173617Z
LAST-MODIFIED:20250425T125120Z
UID:12451-1729101600-1729107000@calvarykla.com
SUMMARY:Midweek Study Series
DESCRIPTION:Midweek study series through the book of Proverbs
URL:https://calvarykla.com/event/midweek-study-series-2/2024-10-16/
LOCATION:Calvary Chapel Kampala\, 41 William Street\, Kampala\, Kampala\, 256\, Uganda
CATEGORIES:Fellowships,Services
ATTACH;FMTTYPE=image/jpeg:https://calvarykla.com/wp-content/uploads/2023/03/PROVERBS-Wednesday-study-web.jpg
END:VEVENT
BEGIN:VEVENT
DTSTART;TZID=Africa/Kampala:20241017T160000
DTEND;TZID=Africa/Kampala:20241017T173000
DTSTAMP:20260420T022230
CREATED:20231118T132337Z
LAST-MODIFIED:20251204T132234Z
UID:10567-1729180800-1729186200@calvarykla.com
SUMMARY:Prayer Fellowship
DESCRIPTION:Rejoice always\, pray without ceasing\, in everything give thanks; for this is the will of God in Christ Jesus for you. I Thessalonians 5:16-18
URL:https://calvarykla.com/event/prayer-fellowship/2024-10-17/
LOCATION:Calvary Chapel Kampala\, 41 William Street\, Kampala\, Kampala\, 256\, Uganda
CATEGORIES:Fellowships
ATTACH;FMTTYPE=image/jpeg:https://calvarykla.com/wp-content/uploads/2023/11/Prayer-fellowship.jpg
END:VEVENT
BEGIN:VEVENT
DTSTART;TZID=Africa/Kampala:20241018T160000
DTEND;TZID=Africa/Kampala:20241018T173000
DTSTAMP:20260420T022230
CREATED:20231118T132224Z
LAST-MODIFIED:20251204T130912Z
UID:10573-1729267200-1729272600@calvarykla.com
SUMMARY:Missions
DESCRIPTION:Evangelism on the streets of Kampala
URL:https://calvarykla.com/event/missions-2/2024-10-18/
LOCATION:Calvary Chapel Kampala\, 41 William Street\, Kampala\, Kampala\, 256\, Uganda
CATEGORIES:Outreaches
ATTACH;FMTTYPE=image/png:https://calvarykla.com/wp-content/uploads/2023/11/Missions.png
END:VEVENT
BEGIN:VEVENT
DTSTART;TZID=Africa/Kampala:20241019T080000
DTEND;TZID=Africa/Kampala:20241019T120000
DTSTAMP:20260420T022230
CREATED:20231119T084917Z
LAST-MODIFIED:20231122T114122Z
UID:11748-1729324800-1729339200@calvarykla.com
SUMMARY:Frontline Ministry
DESCRIPTION:Our ministry to street children
URL:https://calvarykla.com/event/frontline-ministry/2024-10-19/
LOCATION:Calvary Chapel Kampala\, 41 William Street\, Kampala\, Kampala\, 256\, Uganda
CATEGORIES:Outreaches
ATTACH;FMTTYPE=image/jpeg:https://calvarykla.com/wp-content/uploads/2023/11/Frontline.jpg
END:VEVENT
BEGIN:VEVENT
DTSTART;TZID=Africa/Kampala:20241020T080000
DTEND;TZID=Africa/Kampala:20241020T140000
DTSTAMP:20260420T022230
CREATED:20241004T083929Z
LAST-MODIFIED:20251204T132334Z
UID:13462-1729411200-1729432800@calvarykla.com
SUMMARY:Sunday Sermon Series
DESCRIPTION:New sermon series through the book of 1 & 2 Samuel. Every Sunday at 8am for Luganda and 10am & 12noon for English
URL:https://calvarykla.com/event/sunday-sermon-series-3/2024-10-20/
LOCATION:Calvary Chapel Kampala\, 41 William Street\, Kampala\, Kampala\, 256\, Uganda
CATEGORIES:Fellowships,Services
ATTACH;FMTTYPE=image/jpeg:https://calvarykla.com/wp-content/uploads/2024/10/SAMUEL-Study-Banner.jpg
END:VEVENT
BEGIN:VEVENT
DTSTART;TZID=Africa/Kampala:20241020T150000
DTEND;TZID=Africa/Kampala:20241020T170000
DTSTAMP:20260420T022230
CREATED:20231118T143922Z
LAST-MODIFIED:20231118T171130Z
UID:10782-1729436400-1729443600@calvarykla.com
SUMMARY:Kirundi Service
DESCRIPTION:Kirundi /Kinyarwanda service every Sunday starting at 3pm.
URL:https://calvarykla.com/event/kirundi-service/2024-10-20/
LOCATION:Calvary Chapel Kampala\, 41 William Street\, Kampala\, Kampala\, 256\, Uganda
CATEGORIES:Fellowships,Services
ATTACH;FMTTYPE=image/jpeg:https://calvarykla.com/wp-content/uploads/2023/11/Screen-Kir.jpg
END:VEVENT
BEGIN:VEVENT
DTSTART;TZID=Africa/Kampala:20241021T170000
DTEND;TZID=Africa/Kampala:20241021T190000
DTSTAMP:20260420T022230
CREATED:20241001T073249Z
LAST-MODIFIED:20241001T100310Z
UID:13054-1729530000-1729537200@calvarykla.com
SUMMARY:Men's Fellowship
DESCRIPTION:Men’s weekly study through the book of Romans
URL:https://calvarykla.com/event/mens-fellowship-4/2024-10-21/
LOCATION:Calvary Chapel Kampala\, 41 William Street\, Kampala\, Kampala\, 256\, Uganda
CATEGORIES:Fellowships
ATTACH;FMTTYPE=image/png:https://calvarykla.com/wp-content/uploads/2024/10/Men-of-The-Word-Romans.png
END:VEVENT
BEGIN:VEVENT
DTSTART;TZID=Africa/Kampala:20241022T170000
DTEND;TZID=Africa/Kampala:20241022T190000
DTSTAMP:20260420T022230
CREATED:20241001T072838Z
LAST-MODIFIED:20241001T100220Z
UID:13025-1729616400-1729623600@calvarykla.com
SUMMARY:Men's Fellowship
DESCRIPTION:Men’s weekly bible study through the book of Exodus
URL:https://calvarykla.com/event/mens-fellowship-3/2024-10-22/
LOCATION:Calvary Chapel Kampala\, 41 William Street\, Kampala\, Kampala\, 256\, Uganda
CATEGORIES:Fellowships
ATTACH;FMTTYPE=image/png:https://calvarykla.com/wp-content/uploads/2024/10/Men-of-The-Word-Exodus.png
END:VEVENT
BEGIN:VEVENT
DTSTART;TZID=Africa/Kampala:20241022T180000
DTEND;TZID=Africa/Kampala:20241022T193000
DTSTAMP:20260420T022230
CREATED:20240917T123703Z
LAST-MODIFIED:20240924T100246Z
UID:12849-1729620000-1729625400@calvarykla.com
SUMMARY:Women's Fellowship
DESCRIPTION:Every Tuesday at 6pm. Currently going through a book called Money\, Possessions and Eternity by Randy Alcorn
URL:https://calvarykla.com/event/womens-fellowship-2/2024-10-22/
LOCATION:Calvary Chapel Kampala\, 41 William Street\, Kampala\, Kampala\, 256\, Uganda
CATEGORIES:Fellowships
ATTACH;FMTTYPE=image/jpeg:https://calvarykla.com/wp-content/uploads/2024/09/Ladies-Study.jpg
END:VEVENT
BEGIN:VEVENT
DTSTART;TZID=Africa/Kampala:20241023T180000
DTEND;TZID=Africa/Kampala:20241023T193000
DTSTAMP:20260420T022230
CREATED:20240904T173617Z
LAST-MODIFIED:20250425T125135Z
UID:12453-1729706400-1729711800@calvarykla.com
SUMMARY:Midweek Study Series
DESCRIPTION:Midweek study series through the book of Proverbs
URL:https://calvarykla.com/event/midweek-study-series-2/2024-10-23/
LOCATION:Calvary Chapel Kampala\, 41 William Street\, Kampala\, Kampala\, 256\, Uganda
CATEGORIES:Fellowships,Services
ATTACH;FMTTYPE=image/jpeg:https://calvarykla.com/wp-content/uploads/2023/03/PROVERBS-Wednesday-study-web.jpg
END:VEVENT
END:VCALENDAR