BEGIN:VCALENDAR
VERSION:2.0
PRODID:-//Calvary Chapel Kampala - ECPv5.16.3.1//NONSGML v1.0//EN
CALSCALE:GREGORIAN
METHOD:PUBLISH
X-ORIGINAL-URL:https://calvarykla.com
X-WR-CALDESC:Events for Calvary Chapel Kampala
REFRESH-INTERVAL;VALUE=DURATION:PT1H
X-Robots-Tag:noindex
X-PUBLISHED-TTL:PT1H
BEGIN:VTIMEZONE
TZID:Africa/Kampala
BEGIN:STANDARD
TZOFFSETFROM:+0300
TZOFFSETTO:+0300
TZNAME:EAT
DTSTART:20240101T000000
END:STANDARD
END:VTIMEZONE
BEGIN:VEVENT
DTSTART;TZID=Africa/Kampala:20240619T180000
DTEND;TZID=Africa/Kampala:20240619T193000
DTSTAMP:20260421T064621
CREATED:20240904T173617Z
LAST-MODIFIED:20250425T124934Z
UID:12347-1718820000-1718825400@calvarykla.com
SUMMARY:Midweek Study Series
DESCRIPTION:Midweek study series through the book of Proverbs
URL:https://calvarykla.com/event/midweek-study-series-2/2024-06-19/
LOCATION:Calvary Chapel Kampala\, 41 William Street\, Kampala\, Kampala\, 256\, Uganda
CATEGORIES:Fellowships,Services
ATTACH;FMTTYPE=image/jpeg:https://calvarykla.com/wp-content/uploads/2023/03/PROVERBS-Wednesday-study-web.jpg
END:VEVENT
BEGIN:VEVENT
DTSTART;TZID=Africa/Kampala:20240620T160000
DTEND;TZID=Africa/Kampala:20240620T173000
DTSTAMP:20260421T064621
CREATED:20231118T132337Z
LAST-MODIFIED:20251204T131733Z
UID:10486-1718899200-1718904600@calvarykla.com
SUMMARY:Prayer Fellowship
DESCRIPTION:Rejoice always\, pray without ceasing\, in everything give thanks; for this is the will of God in Christ Jesus for you. I Thessalonians 5:16-18
URL:https://calvarykla.com/event/prayer-fellowship/2024-06-20/
LOCATION:Calvary Chapel Kampala\, 41 William Street\, Kampala\, Kampala\, 256\, Uganda
CATEGORIES:Fellowships
ATTACH;FMTTYPE=image/jpeg:https://calvarykla.com/wp-content/uploads/2023/11/Prayer-fellowship.jpg
END:VEVENT
BEGIN:VEVENT
DTSTART;TZID=Africa/Kampala:20240621T160000
DTEND;TZID=Africa/Kampala:20240621T173000
DTSTAMP:20260421T064621
CREATED:20231118T132224Z
LAST-MODIFIED:20251204T130508Z
UID:10510-1718985600-1718991000@calvarykla.com
SUMMARY:Missions
DESCRIPTION:Evangelism on the streets of Kampala
URL:https://calvarykla.com/event/missions-2/2024-06-21/
LOCATION:Calvary Chapel Kampala\, 41 William Street\, Kampala\, Kampala\, 256\, Uganda
CATEGORIES:Outreaches
ATTACH;FMTTYPE=image/png:https://calvarykla.com/wp-content/uploads/2023/11/Missions.png
END:VEVENT
BEGIN:VEVENT
DTSTART;TZID=Africa/Kampala:20240622T080000
DTEND;TZID=Africa/Kampala:20240622T120000
DTSTAMP:20260421T064621
CREATED:20231119T084917Z
LAST-MODIFIED:20231122T113842Z
UID:11731-1719043200-1719057600@calvarykla.com
SUMMARY:Frontline Ministry
DESCRIPTION:Our ministry to street children
URL:https://calvarykla.com/event/frontline-ministry/2024-06-22/
LOCATION:Calvary Chapel Kampala\, 41 William Street\, Kampala\, Kampala\, 256\, Uganda
CATEGORIES:Outreaches
ATTACH;FMTTYPE=image/jpeg:https://calvarykla.com/wp-content/uploads/2023/11/Frontline.jpg
END:VEVENT
BEGIN:VEVENT
DTSTART;TZID=Africa/Kampala:20240623T080000
DTEND;TZID=Africa/Kampala:20240623T140000
DTSTAMP:20260421T064621
CREATED:20231118T103844Z
LAST-MODIFIED:20240904T174607Z
UID:11540-1719129600-1719151200@calvarykla.com
SUMMARY:Sunday Sermon Series
DESCRIPTION:Our study through the gospel according to Mark. Every Sunday at 8am for Luganda and 10am & 12noon for English
URL:https://calvarykla.com/event/sunday-sermon-series/2024-06-23/
LOCATION:Calvary Chapel Kampala\, 41 William Street\, Kampala\, Kampala\, 256\, Uganda
CATEGORIES:Fellowships,Services
ATTACH;FMTTYPE=image/jpeg:https://calvarykla.com/wp-content/uploads/2023/11/MARK-WEB.jpg
END:VEVENT
BEGIN:VEVENT
DTSTART;TZID=Africa/Kampala:20240623T150000
DTEND;TZID=Africa/Kampala:20240623T170000
DTSTAMP:20260421T064621
CREATED:20231118T143922Z
LAST-MODIFIED:20231118T170623Z
UID:10704-1719154800-1719162000@calvarykla.com
SUMMARY:Kirundi Service
DESCRIPTION:Kirundi /Kinyarwanda service every Sunday starting at 3pm.
URL:https://calvarykla.com/event/kirundi-service/2024-06-23/
LOCATION:Calvary Chapel Kampala\, 41 William Street\, Kampala\, Kampala\, 256\, Uganda
CATEGORIES:Fellowships,Services
ATTACH;FMTTYPE=image/jpeg:https://calvarykla.com/wp-content/uploads/2023/11/Screen-Kir.jpg
END:VEVENT
BEGIN:VEVENT
DTSTART;TZID=Africa/Kampala:20240624T170000
DTEND;TZID=Africa/Kampala:20240624T190000
DTSTAMP:20260421T064621
CREATED:20231118T141705Z
LAST-MODIFIED:20241002T092911Z
UID:10392-1719248400-1719255600@calvarykla.com
SUMMARY:Men's Fellowship
DESCRIPTION:Men’s weekly study through the book of Romans
URL:https://calvarykla.com/event/mens-fellowship/2024-06-24/
LOCATION:Calvary Chapel Kampala\, 41 William Street\, Kampala\, Kampala\, 256\, Uganda
CATEGORIES:Fellowships
ATTACH;FMTTYPE=image/png:https://calvarykla.com/wp-content/uploads/2023/11/Men.png
END:VEVENT
BEGIN:VEVENT
DTSTART;TZID=Africa/Kampala:20240625T170000
DTEND;TZID=Africa/Kampala:20240625T190000
DTSTAMP:20260421T064621
CREATED:20231118T141936Z
LAST-MODIFIED:20241001T100854Z
UID:10423-1719334800-1719342000@calvarykla.com
SUMMARY:Men's Fellowship
DESCRIPTION:Men’s study through the book of Genesis
URL:https://calvarykla.com/event/mens-fellowship-2/2024-06-25/
LOCATION:Calvary Chapel Kampala\, 41 William Street\, Kampala\, Kampala\, 256\, Uganda
CATEGORIES:Fellowships
ATTACH;FMTTYPE=image/png:https://calvarykla.com/wp-content/uploads/2023/11/Men.png
END:VEVENT
BEGIN:VEVENT
DTSTART;TZID=Africa/Kampala:20240625T180000
DTEND;TZID=Africa/Kampala:20240625T193000
DTSTAMP:20260421T064621
CREATED:20231118T142658Z
LAST-MODIFIED:20240924T100453Z
UID:10884-1719338400-1719343800@calvarykla.com
SUMMARY:Women's Fellowship
DESCRIPTION:Every Tuesday at 6pm. Currently going through a book called Lies Women Believe: And the Truth that Sets Them Free by Dana Gresh and Nancy DeMoss Wolgemuth
URL:https://calvarykla.com/event/womens-fellowship/2024-06-25/
LOCATION:Calvary Chapel Kampala\, 41 William Street\, Kampala\, Kampala\, 256\, Uganda
CATEGORIES:Fellowships
ATTACH;FMTTYPE=image/jpeg:https://calvarykla.com/wp-content/uploads/2023/11/Ladies-Study.jpg
END:VEVENT
BEGIN:VEVENT
DTSTART;TZID=Africa/Kampala:20240627T160000
DTEND;TZID=Africa/Kampala:20240627T173000
DTSTAMP:20260421T064621
CREATED:20231118T132337Z
LAST-MODIFIED:20251204T131752Z
UID:10491-1719504000-1719509400@calvarykla.com
SUMMARY:Prayer Fellowship
DESCRIPTION:Rejoice always\, pray without ceasing\, in everything give thanks; for this is the will of God in Christ Jesus for you. I Thessalonians 5:16-18
URL:https://calvarykla.com/event/prayer-fellowship/2024-06-27/
LOCATION:Calvary Chapel Kampala\, 41 William Street\, Kampala\, Kampala\, 256\, Uganda
CATEGORIES:Fellowships
ATTACH;FMTTYPE=image/jpeg:https://calvarykla.com/wp-content/uploads/2023/11/Prayer-fellowship.jpg
END:VEVENT
BEGIN:VEVENT
DTSTART;TZID=Africa/Kampala:20240628T160000
DTEND;TZID=Africa/Kampala:20240628T173000
DTSTAMP:20260421T064621
CREATED:20231118T130931Z
LAST-MODIFIED:20231118T170247Z
UID:10192-1719590400-1719595800@calvarykla.com
SUMMARY:Missions
DESCRIPTION:Fellowship and follow-up on the month’s activities.
URL:https://calvarykla.com/event/missions/2024-06-28/
LOCATION:Calvary Chapel Kampala\, 41 William Street\, Kampala\, Kampala\, 256\, Uganda
CATEGORIES:Fellowships,Outreaches
ATTACH;FMTTYPE=image/png:https://calvarykla.com/wp-content/uploads/2023/11/Missions.png
END:VEVENT
BEGIN:VEVENT
DTSTART;TZID=Africa/Kampala:20240629T080000
DTEND;TZID=Africa/Kampala:20240629T120000
DTSTAMP:20260421T064621
CREATED:20231119T084917Z
LAST-MODIFIED:20231122T113851Z
UID:11732-1719648000-1719662400@calvarykla.com
SUMMARY:Frontline Ministry
DESCRIPTION:Our ministry to street children
URL:https://calvarykla.com/event/frontline-ministry/2024-06-29/
LOCATION:Calvary Chapel Kampala\, 41 William Street\, Kampala\, Kampala\, 256\, Uganda
CATEGORIES:Outreaches
ATTACH;FMTTYPE=image/jpeg:https://calvarykla.com/wp-content/uploads/2023/11/Frontline.jpg
END:VEVENT
BEGIN:VEVENT
DTSTART;TZID=Africa/Kampala:20240630T080000
DTEND;TZID=Africa/Kampala:20240630T140000
DTSTAMP:20260421T064621
CREATED:20231118T103844Z
LAST-MODIFIED:20240904T174615Z
UID:11542-1719734400-1719756000@calvarykla.com
SUMMARY:Sunday Sermon Series
DESCRIPTION:Our study through the gospel according to Mark. Every Sunday at 8am for Luganda and 10am & 12noon for English
URL:https://calvarykla.com/event/sunday-sermon-series/2024-06-30/
LOCATION:Calvary Chapel Kampala\, 41 William Street\, Kampala\, Kampala\, 256\, Uganda
CATEGORIES:Fellowships,Services
ATTACH;FMTTYPE=image/jpeg:https://calvarykla.com/wp-content/uploads/2023/11/MARK-WEB.jpg
END:VEVENT
BEGIN:VEVENT
DTSTART;TZID=Africa/Kampala:20240630T150000
DTEND;TZID=Africa/Kampala:20240630T170000
DTSTAMP:20260421T064621
CREATED:20231118T143922Z
LAST-MODIFIED:20231118T170640Z
UID:10710-1719759600-1719766800@calvarykla.com
SUMMARY:Kirundi Service
DESCRIPTION:Kirundi /Kinyarwanda service every Sunday starting at 3pm.
URL:https://calvarykla.com/event/kirundi-service/2024-06-30/
LOCATION:Calvary Chapel Kampala\, 41 William Street\, Kampala\, Kampala\, 256\, Uganda
CATEGORIES:Fellowships,Services
ATTACH;FMTTYPE=image/jpeg:https://calvarykla.com/wp-content/uploads/2023/11/Screen-Kir.jpg
END:VEVENT
BEGIN:VEVENT
DTSTART;TZID=Africa/Kampala:20240701T170000
DTEND;TZID=Africa/Kampala:20240701T190000
DTSTAMP:20260421T064621
CREATED:20231118T141705Z
LAST-MODIFIED:20241002T092923Z
UID:10396-1719853200-1719860400@calvarykla.com
SUMMARY:Men's Fellowship
DESCRIPTION:Men’s weekly study through the book of Romans
URL:https://calvarykla.com/event/mens-fellowship/2024-07-01/
LOCATION:Calvary Chapel Kampala\, 41 William Street\, Kampala\, Kampala\, 256\, Uganda
CATEGORIES:Fellowships
ATTACH;FMTTYPE=image/png:https://calvarykla.com/wp-content/uploads/2023/11/Men.png
END:VEVENT
BEGIN:VEVENT
DTSTART;TZID=Africa/Kampala:20240702T170000
DTEND;TZID=Africa/Kampala:20240702T190000
DTSTAMP:20260421T064621
CREATED:20231118T141936Z
LAST-MODIFIED:20241001T100902Z
UID:10428-1719939600-1719946800@calvarykla.com
SUMMARY:Men's Fellowship
DESCRIPTION:Men’s study through the book of Genesis
URL:https://calvarykla.com/event/mens-fellowship-2/2024-07-02/
LOCATION:Calvary Chapel Kampala\, 41 William Street\, Kampala\, Kampala\, 256\, Uganda
CATEGORIES:Fellowships
ATTACH;FMTTYPE=image/png:https://calvarykla.com/wp-content/uploads/2023/11/Men.png
END:VEVENT
BEGIN:VEVENT
DTSTART;TZID=Africa/Kampala:20240702T180000
DTEND;TZID=Africa/Kampala:20240702T193000
DTSTAMP:20260421T064621
CREATED:20231118T142658Z
LAST-MODIFIED:20240924T100459Z
UID:10886-1719943200-1719948600@calvarykla.com
SUMMARY:Women's Fellowship
DESCRIPTION:Every Tuesday at 6pm. Currently going through a book called Lies Women Believe: And the Truth that Sets Them Free by Dana Gresh and Nancy DeMoss Wolgemuth
URL:https://calvarykla.com/event/womens-fellowship/2024-07-02/
LOCATION:Calvary Chapel Kampala\, 41 William Street\, Kampala\, Kampala\, 256\, Uganda
CATEGORIES:Fellowships
ATTACH;FMTTYPE=image/jpeg:https://calvarykla.com/wp-content/uploads/2023/11/Ladies-Study.jpg
END:VEVENT
BEGIN:VEVENT
DTSTART;TZID=Africa/Kampala:20240703T180000
DTEND;TZID=Africa/Kampala:20240703T193000
DTSTAMP:20260421T064621
CREATED:20240904T173617Z
LAST-MODIFIED:20250425T124936Z
UID:12427-1720029600-1720035000@calvarykla.com
SUMMARY:Midweek Study Series
DESCRIPTION:Midweek study series through the book of Proverbs
URL:https://calvarykla.com/event/midweek-study-series-2/2024-07-03/
LOCATION:Calvary Chapel Kampala\, 41 William Street\, Kampala\, Kampala\, 256\, Uganda
CATEGORIES:Fellowships,Services
ATTACH;FMTTYPE=image/jpeg:https://calvarykla.com/wp-content/uploads/2023/03/PROVERBS-Wednesday-study-web.jpg
END:VEVENT
BEGIN:VEVENT
DTSTART;TZID=Africa/Kampala:20240704T160000
DTEND;TZID=Africa/Kampala:20240704T173000
DTSTAMP:20260421T064621
CREATED:20231118T132337Z
LAST-MODIFIED:20251204T131815Z
UID:10496-1720108800-1720114200@calvarykla.com
SUMMARY:Prayer Fellowship
DESCRIPTION:Rejoice always\, pray without ceasing\, in everything give thanks; for this is the will of God in Christ Jesus for you. I Thessalonians 5:16-18
URL:https://calvarykla.com/event/prayer-fellowship/2024-07-04/
LOCATION:Calvary Chapel Kampala\, 41 William Street\, Kampala\, Kampala\, 256\, Uganda
CATEGORIES:Fellowships
ATTACH;FMTTYPE=image/jpeg:https://calvarykla.com/wp-content/uploads/2023/11/Prayer-fellowship.jpg
END:VEVENT
BEGIN:VEVENT
DTSTART;TZID=Africa/Kampala:20240705T160000
DTEND;TZID=Africa/Kampala:20240705T173000
DTSTAMP:20260421T064621
CREATED:20231118T132224Z
LAST-MODIFIED:20251204T130516Z
UID:10514-1720195200-1720200600@calvarykla.com
SUMMARY:Missions
DESCRIPTION:Evangelism on the streets of Kampala
URL:https://calvarykla.com/event/missions-2/2024-07-05/
LOCATION:Calvary Chapel Kampala\, 41 William Street\, Kampala\, Kampala\, 256\, Uganda
CATEGORIES:Outreaches
ATTACH;FMTTYPE=image/png:https://calvarykla.com/wp-content/uploads/2023/11/Missions.png
END:VEVENT
BEGIN:VEVENT
DTSTART;TZID=Africa/Kampala:20240706T080000
DTEND;TZID=Africa/Kampala:20240706T120000
DTSTAMP:20260421T064621
CREATED:20231119T084917Z
LAST-MODIFIED:20231122T113901Z
UID:11733-1720252800-1720267200@calvarykla.com
SUMMARY:Frontline Ministry
DESCRIPTION:Our ministry to street children
URL:https://calvarykla.com/event/frontline-ministry/2024-07-06/
LOCATION:Calvary Chapel Kampala\, 41 William Street\, Kampala\, Kampala\, 256\, Uganda
CATEGORIES:Outreaches
ATTACH;FMTTYPE=image/jpeg:https://calvarykla.com/wp-content/uploads/2023/11/Frontline.jpg
END:VEVENT
BEGIN:VEVENT
DTSTART;TZID=Africa/Kampala:20240707T080000
DTEND;TZID=Africa/Kampala:20240707T140000
DTSTAMP:20260421T064621
CREATED:20231118T103844Z
LAST-MODIFIED:20240904T174628Z
UID:11544-1720339200-1720360800@calvarykla.com
SUMMARY:Sunday Sermon Series
DESCRIPTION:Our study through the gospel according to Mark. Every Sunday at 8am for Luganda and 10am & 12noon for English
URL:https://calvarykla.com/event/sunday-sermon-series/2024-07-07/
LOCATION:Calvary Chapel Kampala\, 41 William Street\, Kampala\, Kampala\, 256\, Uganda
CATEGORIES:Fellowships,Services
ATTACH;FMTTYPE=image/jpeg:https://calvarykla.com/wp-content/uploads/2023/11/MARK-WEB.jpg
END:VEVENT
BEGIN:VEVENT
DTSTART;TZID=Africa/Kampala:20240707T150000
DTEND;TZID=Africa/Kampala:20240707T170000
DTSTAMP:20260421T064621
CREATED:20231118T143922Z
LAST-MODIFIED:20231118T170659Z
UID:10715-1720364400-1720371600@calvarykla.com
SUMMARY:Kirundi Service
DESCRIPTION:Kirundi /Kinyarwanda service every Sunday starting at 3pm.
URL:https://calvarykla.com/event/kirundi-service/2024-07-07/
LOCATION:Calvary Chapel Kampala\, 41 William Street\, Kampala\, Kampala\, 256\, Uganda
CATEGORIES:Fellowships,Services
ATTACH;FMTTYPE=image/jpeg:https://calvarykla.com/wp-content/uploads/2023/11/Screen-Kir.jpg
END:VEVENT
BEGIN:VEVENT
DTSTART;TZID=Africa/Kampala:20240708T170000
DTEND;TZID=Africa/Kampala:20240708T190000
DTSTAMP:20260421T064621
CREATED:20231118T141705Z
LAST-MODIFIED:20241002T092932Z
UID:10399-1720458000-1720465200@calvarykla.com
SUMMARY:Men's Fellowship
DESCRIPTION:Men’s weekly study through the book of Romans
URL:https://calvarykla.com/event/mens-fellowship/2024-07-08/
LOCATION:Calvary Chapel Kampala\, 41 William Street\, Kampala\, Kampala\, 256\, Uganda
CATEGORIES:Fellowships
ATTACH;FMTTYPE=image/png:https://calvarykla.com/wp-content/uploads/2023/11/Men.png
END:VEVENT
BEGIN:VEVENT
DTSTART;TZID=Africa/Kampala:20240709T170000
DTEND;TZID=Africa/Kampala:20240709T190000
DTSTAMP:20260421T064621
CREATED:20231118T141936Z
LAST-MODIFIED:20241001T100912Z
UID:10433-1720544400-1720551600@calvarykla.com
SUMMARY:Men's Fellowship
DESCRIPTION:Men’s study through the book of Genesis
URL:https://calvarykla.com/event/mens-fellowship-2/2024-07-09/
LOCATION:Calvary Chapel Kampala\, 41 William Street\, Kampala\, Kampala\, 256\, Uganda
CATEGORIES:Fellowships
ATTACH;FMTTYPE=image/png:https://calvarykla.com/wp-content/uploads/2023/11/Men.png
END:VEVENT
BEGIN:VEVENT
DTSTART;TZID=Africa/Kampala:20240709T180000
DTEND;TZID=Africa/Kampala:20240709T193000
DTSTAMP:20260421T064621
CREATED:20231118T142658Z
LAST-MODIFIED:20240924T100504Z
UID:10887-1720548000-1720553400@calvarykla.com
SUMMARY:Women's Fellowship
DESCRIPTION:Every Tuesday at 6pm. Currently going through a book called Lies Women Believe: And the Truth that Sets Them Free by Dana Gresh and Nancy DeMoss Wolgemuth
URL:https://calvarykla.com/event/womens-fellowship/2024-07-09/
LOCATION:Calvary Chapel Kampala\, 41 William Street\, Kampala\, Kampala\, 256\, Uganda
CATEGORIES:Fellowships
ATTACH;FMTTYPE=image/jpeg:https://calvarykla.com/wp-content/uploads/2023/11/Ladies-Study.jpg
END:VEVENT
BEGIN:VEVENT
DTSTART;TZID=Africa/Kampala:20240710T180000
DTEND;TZID=Africa/Kampala:20240710T193000
DTSTAMP:20260421T064621
CREATED:20240904T173617Z
LAST-MODIFIED:20250425T124945Z
UID:12429-1720634400-1720639800@calvarykla.com
SUMMARY:Midweek Study Series
DESCRIPTION:Midweek study series through the book of Proverbs
URL:https://calvarykla.com/event/midweek-study-series-2/2024-07-10/
LOCATION:Calvary Chapel Kampala\, 41 William Street\, Kampala\, Kampala\, 256\, Uganda
CATEGORIES:Fellowships,Services
ATTACH;FMTTYPE=image/jpeg:https://calvarykla.com/wp-content/uploads/2023/03/PROVERBS-Wednesday-study-web.jpg
END:VEVENT
BEGIN:VEVENT
DTSTART;TZID=Africa/Kampala:20240711T160000
DTEND;TZID=Africa/Kampala:20240711T173000
DTSTAMP:20260421T064621
CREATED:20231118T132337Z
LAST-MODIFIED:20251204T131830Z
UID:10501-1720713600-1720719000@calvarykla.com
SUMMARY:Prayer Fellowship
DESCRIPTION:Rejoice always\, pray without ceasing\, in everything give thanks; for this is the will of God in Christ Jesus for you. I Thessalonians 5:16-18
URL:https://calvarykla.com/event/prayer-fellowship/2024-07-11/
LOCATION:Calvary Chapel Kampala\, 41 William Street\, Kampala\, Kampala\, 256\, Uganda
CATEGORIES:Fellowships
ATTACH;FMTTYPE=image/jpeg:https://calvarykla.com/wp-content/uploads/2023/11/Prayer-fellowship.jpg
END:VEVENT
BEGIN:VEVENT
DTSTART;TZID=Africa/Kampala:20240712T160000
DTEND;TZID=Africa/Kampala:20240712T173000
DTSTAMP:20260421T064621
CREATED:20231118T132224Z
LAST-MODIFIED:20251204T130525Z
UID:10518-1720800000-1720805400@calvarykla.com
SUMMARY:Missions
DESCRIPTION:Evangelism on the streets of Kampala
URL:https://calvarykla.com/event/missions-2/2024-07-12/
LOCATION:Calvary Chapel Kampala\, 41 William Street\, Kampala\, Kampala\, 256\, Uganda
CATEGORIES:Outreaches
ATTACH;FMTTYPE=image/png:https://calvarykla.com/wp-content/uploads/2023/11/Missions.png
END:VEVENT
BEGIN:VEVENT
DTSTART;TZID=Africa/Kampala:20240713T080000
DTEND;TZID=Africa/Kampala:20240713T120000
DTSTAMP:20260421T064621
CREATED:20231119T084917Z
LAST-MODIFIED:20231122T113910Z
UID:11734-1720857600-1720872000@calvarykla.com
SUMMARY:Frontline Ministry
DESCRIPTION:Our ministry to street children
URL:https://calvarykla.com/event/frontline-ministry/2024-07-13/
LOCATION:Calvary Chapel Kampala\, 41 William Street\, Kampala\, Kampala\, 256\, Uganda
CATEGORIES:Outreaches
ATTACH;FMTTYPE=image/jpeg:https://calvarykla.com/wp-content/uploads/2023/11/Frontline.jpg
END:VEVENT
END:VCALENDAR