BEGIN:VCALENDAR
VERSION:2.0
PRODID:-//Calvary Chapel Kampala - ECPv5.16.3.1//NONSGML v1.0//EN
CALSCALE:GREGORIAN
METHOD:PUBLISH
X-WR-CALNAME:Calvary Chapel Kampala
X-ORIGINAL-URL:https://calvarykla.com
X-WR-CALDESC:Events for Calvary Chapel Kampala
REFRESH-INTERVAL;VALUE=DURATION:PT1H
X-Robots-Tag:noindex
X-PUBLISHED-TTL:PT1H
BEGIN:VTIMEZONE
TZID:Africa/Kampala
BEGIN:STANDARD
TZOFFSETFROM:+0300
TZOFFSETTO:+0300
TZNAME:EAT
DTSTART:20270101T000000
END:STANDARD
END:VTIMEZONE
BEGIN:VEVENT
DTSTART;TZID=Africa/Kampala:20270425T150000
DTEND;TZID=Africa/Kampala:20270425T170000
DTSTAMP:20260420T091840
CREATED:20231118T143922Z
LAST-MODIFIED:20231118T143922Z
UID:14324-1808665200-1808672400@calvarykla.com
SUMMARY:Kirundi Service
DESCRIPTION:Kirundi /Kinyarwanda service every Sunday starting at 3pm.
URL:https://calvarykla.com/event/kirundi-service/2027-04-25/
LOCATION:Calvary Chapel Kampala\, 41 William Street\, Kampala\, Kampala\, 256\, Uganda
CATEGORIES:Fellowships,Services
ATTACH;FMTTYPE=image/jpeg:https://calvarykla.com/wp-content/uploads/2023/11/Screen-Kir.jpg
END:VEVENT
BEGIN:VEVENT
DTSTART;TZID=Africa/Kampala:20270426T170000
DTEND;TZID=Africa/Kampala:20270426T190000
DTSTAMP:20260420T091840
CREATED:20241001T073249Z
LAST-MODIFIED:20241001T073249Z
UID:14326-1808758800-1808766000@calvarykla.com
SUMMARY:Men's Fellowship
DESCRIPTION:Men’s weekly study through the book of Romans
URL:https://calvarykla.com/event/mens-fellowship-4/2027-04-26/
LOCATION:Calvary Chapel Kampala\, 41 William Street\, Kampala\, Kampala\, 256\, Uganda
CATEGORIES:Fellowships
ATTACH;FMTTYPE=image/png:https://calvarykla.com/wp-content/uploads/2024/10/Men-of-The-Word-Romans.png
END:VEVENT
BEGIN:VEVENT
DTSTART;TZID=Africa/Kampala:20270427T170000
DTEND;TZID=Africa/Kampala:20270427T190000
DTSTAMP:20260420T091840
CREATED:20241001T072838Z
LAST-MODIFIED:20241001T072838Z
UID:14328-1808845200-1808852400@calvarykla.com
SUMMARY:Men's Fellowship
DESCRIPTION:Men’s weekly bible study through the book of Exodus
URL:https://calvarykla.com/event/mens-fellowship-3/2027-04-27/
LOCATION:Calvary Chapel Kampala\, 41 William Street\, Kampala\, Kampala\, 256\, Uganda
CATEGORIES:Fellowships
ATTACH;FMTTYPE=image/png:https://calvarykla.com/wp-content/uploads/2024/10/Men-of-The-Word-Exodus.png
END:VEVENT
BEGIN:VEVENT
DTSTART;TZID=Africa/Kampala:20270427T180000
DTEND;TZID=Africa/Kampala:20270427T193000
DTSTAMP:20260420T091840
CREATED:20240917T123703Z
LAST-MODIFIED:20240917T123703Z
UID:14327-1808848800-1808854200@calvarykla.com
SUMMARY:Women's Fellowship
DESCRIPTION:Every Tuesday at 6pm. Currently going through a book called Money\, Possessions and Eternity by Randy Alcorn
URL:https://calvarykla.com/event/womens-fellowship-2/2027-04-27/
LOCATION:Calvary Chapel Kampala\, 41 William Street\, Kampala\, Kampala\, 256\, Uganda
CATEGORIES:Fellowships
ATTACH;FMTTYPE=image/jpeg:https://calvarykla.com/wp-content/uploads/2024/09/Ladies-Study.jpg
END:VEVENT
BEGIN:VEVENT
DTSTART;TZID=Africa/Kampala:20270428T180000
DTEND;TZID=Africa/Kampala:20270428T200000
DTSTAMP:20260420T091840
CREATED:20231118T124641Z
LAST-MODIFIED:20260204T081358Z
UID:14329-1808935200-1808942400@calvarykla.com
SUMMARY:GLOW
DESCRIPTION:A time of praise\, prayer\, worship\, and testimonies every last Wednesday of the month. #God Loves Our Worship
URL:https://calvarykla.com/event/glow/2027-04-28/
LOCATION:Calvary Chapel Kampala\, 41 William Street\, Kampala\, Kampala\, 256\, Uganda
CATEGORIES:Fellowships,Services
ATTACH;FMTTYPE=image/jpeg:https://calvarykla.com/wp-content/uploads/2023/11/Glow.jpg
END:VEVENT
BEGIN:VEVENT
DTSTART;TZID=Africa/Kampala:20270429T160000
DTEND;TZID=Africa/Kampala:20270429T173000
DTSTAMP:20260420T091840
CREATED:20231118T132337Z
LAST-MODIFIED:20251205T091342Z
UID:14339-1809014400-1809019800@calvarykla.com
SUMMARY:Prayer Fellowship
DESCRIPTION:Rejoice always\, pray without ceasing\, in everything give thanks; for this is the will of God in Christ Jesus for you. I Thessalonians 5:16-18
URL:https://calvarykla.com/event/prayer-fellowship/2027-04-29/
LOCATION:Calvary Chapel Kampala\, 41 William Street\, Kampala\, Kampala\, 256\, Uganda
CATEGORIES:Fellowships
ATTACH;FMTTYPE=image/jpeg:https://calvarykla.com/wp-content/uploads/2023/11/Prayer-fellowship.jpg
END:VEVENT
BEGIN:VEVENT
DTSTART;TZID=Africa/Kampala:20270430T160000
DTEND;TZID=Africa/Kampala:20270430T173000
DTSTAMP:20260420T091840
CREATED:20231118T130931Z
LAST-MODIFIED:20231118T130931Z
UID:14340-1809100800-1809106200@calvarykla.com
SUMMARY:Missions
DESCRIPTION:Fellowship and follow-up on the month’s activities.
URL:https://calvarykla.com/event/missions/2027-04-30/
LOCATION:Calvary Chapel Kampala\, 41 William Street\, Kampala\, Kampala\, 256\, Uganda
CATEGORIES:Fellowships,Outreaches
ATTACH;FMTTYPE=image/png:https://calvarykla.com/wp-content/uploads/2023/11/Missions.png
END:VEVENT
BEGIN:VEVENT
DTSTART;TZID=Africa/Kampala:20270501T080000
DTEND;TZID=Africa/Kampala:20270501T120000
DTSTAMP:20260420T091840
CREATED:20231119T084917Z
LAST-MODIFIED:20231119T084917Z
UID:14341-1809158400-1809172800@calvarykla.com
SUMMARY:Frontline Ministry
DESCRIPTION:Our ministry to street children
URL:https://calvarykla.com/event/frontline-ministry/2027-05-01/
LOCATION:Calvary Chapel Kampala\, 41 William Street\, Kampala\, Kampala\, 256\, Uganda
CATEGORIES:Outreaches
ATTACH;FMTTYPE=image/jpeg:https://calvarykla.com/wp-content/uploads/2023/11/Frontline.jpg
END:VEVENT
BEGIN:VEVENT
DTSTART;TZID=Africa/Kampala:20270502T080000
DTEND;TZID=Africa/Kampala:20270502T095000
DTSTAMP:20260420T091840
CREATED:20251204T125706Z
LAST-MODIFIED:20251204T125706Z
UID:14882-1809244800-1809251400@calvarykla.com
SUMMARY:Sunday Sermon Series
DESCRIPTION:Join us as we explore the basics of the Christian faith\, particularly love\, truth\, and obedience from the books of 1\, 2 and 3 John
URL:https://calvarykla.com/event/sunday-sermon-series-5/2027-05-02/
LOCATION:Calvary Chapel Kampala\, 41 William Street\, Kampala\, Kampala\, 256\, Uganda
CATEGORIES:Fellowships,Services
ATTACH;FMTTYPE=image/jpeg:https://calvarykla.com/wp-content/uploads/2025/12/Yokaana-Study-Banner.jpg
END:VEVENT
BEGIN:VEVENT
DTSTART;TZID=Africa/Kampala:20270502T100000
DTEND;TZID=Africa/Kampala:20270502T140000
DTSTAMP:20260420T091840
CREATED:20251204T125137Z
LAST-MODIFIED:20251204T125137Z
UID:14915-1809252000-1809266400@calvarykla.com
SUMMARY:Sunday Sermon Series
DESCRIPTION:Join us as we explore the basics of the Christian faith\, particularly love\, truth\, and obedience from the books of 1\, 2 and 3 John
URL:https://calvarykla.com/event/sunday-sermon-series-4/2027-05-02/
LOCATION:Calvary Chapel Kampala\, 41 William Street\, Kampala\, Kampala\, 256\, Uganda
CATEGORIES:Fellowships,Services
ATTACH;FMTTYPE=image/jpeg:https://calvarykla.com/wp-content/uploads/2025/12/1-2-3-John-Study-Banner-online.jpg
END:VEVENT
BEGIN:VEVENT
DTSTART;TZID=Africa/Kampala:20270502T150000
DTEND;TZID=Africa/Kampala:20270502T170000
DTSTAMP:20260420T091840
CREATED:20231118T143922Z
LAST-MODIFIED:20231118T143922Z
UID:14342-1809270000-1809277200@calvarykla.com
SUMMARY:Kirundi Service
DESCRIPTION:Kirundi /Kinyarwanda service every Sunday starting at 3pm.
URL:https://calvarykla.com/event/kirundi-service/2027-05-02/
LOCATION:Calvary Chapel Kampala\, 41 William Street\, Kampala\, Kampala\, 256\, Uganda
CATEGORIES:Fellowships,Services
ATTACH;FMTTYPE=image/jpeg:https://calvarykla.com/wp-content/uploads/2023/11/Screen-Kir.jpg
END:VEVENT
BEGIN:VEVENT
DTSTART;TZID=Africa/Kampala:20270503T170000
DTEND;TZID=Africa/Kampala:20270503T190000
DTSTAMP:20260420T091840
CREATED:20241001T073249Z
LAST-MODIFIED:20241001T073249Z
UID:14348-1809363600-1809370800@calvarykla.com
SUMMARY:Men's Fellowship
DESCRIPTION:Men’s weekly study through the book of Romans
URL:https://calvarykla.com/event/mens-fellowship-4/2027-05-03/
LOCATION:Calvary Chapel Kampala\, 41 William Street\, Kampala\, Kampala\, 256\, Uganda
CATEGORIES:Fellowships
ATTACH;FMTTYPE=image/png:https://calvarykla.com/wp-content/uploads/2024/10/Men-of-The-Word-Romans.png
END:VEVENT
BEGIN:VEVENT
DTSTART;TZID=Africa/Kampala:20270504T170000
DTEND;TZID=Africa/Kampala:20270504T190000
DTSTAMP:20260420T091840
CREATED:20241001T072838Z
LAST-MODIFIED:20241001T072838Z
UID:14350-1809450000-1809457200@calvarykla.com
SUMMARY:Men's Fellowship
DESCRIPTION:Men’s weekly bible study through the book of Exodus
URL:https://calvarykla.com/event/mens-fellowship-3/2027-05-04/
LOCATION:Calvary Chapel Kampala\, 41 William Street\, Kampala\, Kampala\, 256\, Uganda
CATEGORIES:Fellowships
ATTACH;FMTTYPE=image/png:https://calvarykla.com/wp-content/uploads/2024/10/Men-of-The-Word-Exodus.png
END:VEVENT
BEGIN:VEVENT
DTSTART;TZID=Africa/Kampala:20270504T180000
DTEND;TZID=Africa/Kampala:20270504T193000
DTSTAMP:20260420T091840
CREATED:20240917T123703Z
LAST-MODIFIED:20240917T123703Z
UID:14349-1809453600-1809459000@calvarykla.com
SUMMARY:Women's Fellowship
DESCRIPTION:Every Tuesday at 6pm. Currently going through a book called Money\, Possessions and Eternity by Randy Alcorn
URL:https://calvarykla.com/event/womens-fellowship-2/2027-05-04/
LOCATION:Calvary Chapel Kampala\, 41 William Street\, Kampala\, Kampala\, 256\, Uganda
CATEGORIES:Fellowships
ATTACH;FMTTYPE=image/jpeg:https://calvarykla.com/wp-content/uploads/2024/09/Ladies-Study.jpg
END:VEVENT
BEGIN:VEVENT
DTSTART;TZID=Africa/Kampala:20270505T180000
DTEND;TZID=Africa/Kampala:20270505T193000
DTSTAMP:20260420T091840
CREATED:20251204T123128Z
LAST-MODIFIED:20251204T123128Z
UID:15066-1809540000-1809545400@calvarykla.com
SUMMARY:Midweek Study Series
DESCRIPTION:Join us for our new midweek series about the Names of God\, studying to know Him\, discover who we are in Him\, and find our purpose in Him.
URL:https://calvarykla.com/event/midweek-study-series-4/2027-05-05/
LOCATION:Calvary Chapel Kampala\, 41 William Street\, Kampala\, Kampala\, 256\, Uganda
CATEGORIES:Fellowships,Services
ATTACH;FMTTYPE=image/jpeg:https://calvarykla.com/wp-content/uploads/2025/12/Names-of-God-BANNER-ONLINE.jpg
END:VEVENT
BEGIN:VEVENT
DTSTART;TZID=Africa/Kampala:20270506T160000
DTEND;TZID=Africa/Kampala:20270506T173000
DTSTAMP:20260420T091840
CREATED:20231118T132337Z
LAST-MODIFIED:20251205T091346Z
UID:14355-1809619200-1809624600@calvarykla.com
SUMMARY:Prayer Fellowship
DESCRIPTION:Rejoice always\, pray without ceasing\, in everything give thanks; for this is the will of God in Christ Jesus for you. I Thessalonians 5:16-18
URL:https://calvarykla.com/event/prayer-fellowship/2027-05-06/
LOCATION:Calvary Chapel Kampala\, 41 William Street\, Kampala\, Kampala\, 256\, Uganda
CATEGORIES:Fellowships
ATTACH;FMTTYPE=image/jpeg:https://calvarykla.com/wp-content/uploads/2023/11/Prayer-fellowship.jpg
END:VEVENT
BEGIN:VEVENT
DTSTART;TZID=Africa/Kampala:20270507T160000
DTEND;TZID=Africa/Kampala:20270507T173000
DTSTAMP:20260420T091840
CREATED:20231118T132224Z
LAST-MODIFIED:20251205T090120Z
UID:14357-1809705600-1809711000@calvarykla.com
SUMMARY:Missions
DESCRIPTION:Evangelism on the streets of Kampala
URL:https://calvarykla.com/event/missions-2/2027-05-07/
LOCATION:Calvary Chapel Kampala\, 41 William Street\, Kampala\, Kampala\, 256\, Uganda
CATEGORIES:Outreaches
ATTACH;FMTTYPE=image/png:https://calvarykla.com/wp-content/uploads/2023/11/Missions.png
END:VEVENT
BEGIN:VEVENT
DTSTART;TZID=Africa/Kampala:20270508T080000
DTEND;TZID=Africa/Kampala:20270508T120000
DTSTAMP:20260420T091840
CREATED:20231119T084917Z
LAST-MODIFIED:20231119T084917Z
UID:14358-1809763200-1809777600@calvarykla.com
SUMMARY:Frontline Ministry
DESCRIPTION:Our ministry to street children
URL:https://calvarykla.com/event/frontline-ministry/2027-05-08/
LOCATION:Calvary Chapel Kampala\, 41 William Street\, Kampala\, Kampala\, 256\, Uganda
CATEGORIES:Outreaches
ATTACH;FMTTYPE=image/jpeg:https://calvarykla.com/wp-content/uploads/2023/11/Frontline.jpg
END:VEVENT
BEGIN:VEVENT
DTSTART;TZID=Africa/Kampala:20270509T080000
DTEND;TZID=Africa/Kampala:20270509T095000
DTSTAMP:20260420T091840
CREATED:20251204T125706Z
LAST-MODIFIED:20251204T125706Z
UID:14885-1809849600-1809856200@calvarykla.com
SUMMARY:Sunday Sermon Series
DESCRIPTION:Join us as we explore the basics of the Christian faith\, particularly love\, truth\, and obedience from the books of 1\, 2 and 3 John
URL:https://calvarykla.com/event/sunday-sermon-series-5/2027-05-09/
LOCATION:Calvary Chapel Kampala\, 41 William Street\, Kampala\, Kampala\, 256\, Uganda
CATEGORIES:Fellowships,Services
ATTACH;FMTTYPE=image/jpeg:https://calvarykla.com/wp-content/uploads/2025/12/Yokaana-Study-Banner.jpg
END:VEVENT
BEGIN:VEVENT
DTSTART;TZID=Africa/Kampala:20270509T100000
DTEND;TZID=Africa/Kampala:20270509T140000
DTSTAMP:20260420T091840
CREATED:20251204T125137Z
LAST-MODIFIED:20251204T125137Z
UID:14916-1809856800-1809871200@calvarykla.com
SUMMARY:Sunday Sermon Series
DESCRIPTION:Join us as we explore the basics of the Christian faith\, particularly love\, truth\, and obedience from the books of 1\, 2 and 3 John
URL:https://calvarykla.com/event/sunday-sermon-series-4/2027-05-09/
LOCATION:Calvary Chapel Kampala\, 41 William Street\, Kampala\, Kampala\, 256\, Uganda
CATEGORIES:Fellowships,Services
ATTACH;FMTTYPE=image/jpeg:https://calvarykla.com/wp-content/uploads/2025/12/1-2-3-John-Study-Banner-online.jpg
END:VEVENT
BEGIN:VEVENT
DTSTART;TZID=Africa/Kampala:20270509T150000
DTEND;TZID=Africa/Kampala:20270509T170000
DTSTAMP:20260420T091840
CREATED:20231118T143922Z
LAST-MODIFIED:20231118T143922Z
UID:14359-1809874800-1809882000@calvarykla.com
SUMMARY:Kirundi Service
DESCRIPTION:Kirundi /Kinyarwanda service every Sunday starting at 3pm.
URL:https://calvarykla.com/event/kirundi-service/2027-05-09/
LOCATION:Calvary Chapel Kampala\, 41 William Street\, Kampala\, Kampala\, 256\, Uganda
CATEGORIES:Fellowships,Services
ATTACH;FMTTYPE=image/jpeg:https://calvarykla.com/wp-content/uploads/2023/11/Screen-Kir.jpg
END:VEVENT
BEGIN:VEVENT
DTSTART;TZID=Africa/Kampala:20270510T170000
DTEND;TZID=Africa/Kampala:20270510T190000
DTSTAMP:20260420T091840
CREATED:20241001T073249Z
LAST-MODIFIED:20241001T073249Z
UID:14361-1809968400-1809975600@calvarykla.com
SUMMARY:Men's Fellowship
DESCRIPTION:Men’s weekly study through the book of Romans
URL:https://calvarykla.com/event/mens-fellowship-4/2027-05-10/
LOCATION:Calvary Chapel Kampala\, 41 William Street\, Kampala\, Kampala\, 256\, Uganda
CATEGORIES:Fellowships
ATTACH;FMTTYPE=image/png:https://calvarykla.com/wp-content/uploads/2024/10/Men-of-The-Word-Romans.png
END:VEVENT
BEGIN:VEVENT
DTSTART;TZID=Africa/Kampala:20270511T170000
DTEND;TZID=Africa/Kampala:20270511T190000
DTSTAMP:20260420T091840
CREATED:20241001T072838Z
LAST-MODIFIED:20241001T072838Z
UID:14363-1810054800-1810062000@calvarykla.com
SUMMARY:Men's Fellowship
DESCRIPTION:Men’s weekly bible study through the book of Exodus
URL:https://calvarykla.com/event/mens-fellowship-3/2027-05-11/
LOCATION:Calvary Chapel Kampala\, 41 William Street\, Kampala\, Kampala\, 256\, Uganda
CATEGORIES:Fellowships
ATTACH;FMTTYPE=image/png:https://calvarykla.com/wp-content/uploads/2024/10/Men-of-The-Word-Exodus.png
END:VEVENT
BEGIN:VEVENT
DTSTART;TZID=Africa/Kampala:20270511T180000
DTEND;TZID=Africa/Kampala:20270511T193000
DTSTAMP:20260420T091840
CREATED:20240917T123703Z
LAST-MODIFIED:20240917T123703Z
UID:14362-1810058400-1810063800@calvarykla.com
SUMMARY:Women's Fellowship
DESCRIPTION:Every Tuesday at 6pm. Currently going through a book called Money\, Possessions and Eternity by Randy Alcorn
URL:https://calvarykla.com/event/womens-fellowship-2/2027-05-11/
LOCATION:Calvary Chapel Kampala\, 41 William Street\, Kampala\, Kampala\, 256\, Uganda
CATEGORIES:Fellowships
ATTACH;FMTTYPE=image/jpeg:https://calvarykla.com/wp-content/uploads/2024/09/Ladies-Study.jpg
END:VEVENT
BEGIN:VEVENT
DTSTART;TZID=Africa/Kampala:20270512T180000
DTEND;TZID=Africa/Kampala:20270512T193000
DTSTAMP:20260420T091840
CREATED:20251204T123128Z
LAST-MODIFIED:20251204T123128Z
UID:15067-1810144800-1810150200@calvarykla.com
SUMMARY:Midweek Study Series
DESCRIPTION:Join us for our new midweek series about the Names of God\, studying to know Him\, discover who we are in Him\, and find our purpose in Him.
URL:https://calvarykla.com/event/midweek-study-series-4/2027-05-12/
LOCATION:Calvary Chapel Kampala\, 41 William Street\, Kampala\, Kampala\, 256\, Uganda
CATEGORIES:Fellowships,Services
ATTACH;FMTTYPE=image/jpeg:https://calvarykla.com/wp-content/uploads/2025/12/Names-of-God-BANNER-ONLINE.jpg
END:VEVENT
BEGIN:VEVENT
DTSTART;TZID=Africa/Kampala:20270513T160000
DTEND;TZID=Africa/Kampala:20270513T173000
DTSTAMP:20260420T091840
CREATED:20231118T132337Z
LAST-MODIFIED:20251205T091352Z
UID:14368-1810224000-1810229400@calvarykla.com
SUMMARY:Prayer Fellowship
DESCRIPTION:Rejoice always\, pray without ceasing\, in everything give thanks; for this is the will of God in Christ Jesus for you. I Thessalonians 5:16-18
URL:https://calvarykla.com/event/prayer-fellowship/2027-05-13/
LOCATION:Calvary Chapel Kampala\, 41 William Street\, Kampala\, Kampala\, 256\, Uganda
CATEGORIES:Fellowships
ATTACH;FMTTYPE=image/jpeg:https://calvarykla.com/wp-content/uploads/2023/11/Prayer-fellowship.jpg
END:VEVENT
BEGIN:VEVENT
DTSTART;TZID=Africa/Kampala:20270514T160000
DTEND;TZID=Africa/Kampala:20270514T173000
DTSTAMP:20260420T091840
CREATED:20231118T132224Z
LAST-MODIFIED:20251205T090136Z
UID:14369-1810310400-1810315800@calvarykla.com
SUMMARY:Missions
DESCRIPTION:Evangelism on the streets of Kampala
URL:https://calvarykla.com/event/missions-2/2027-05-14/
LOCATION:Calvary Chapel Kampala\, 41 William Street\, Kampala\, Kampala\, 256\, Uganda
CATEGORIES:Outreaches
ATTACH;FMTTYPE=image/png:https://calvarykla.com/wp-content/uploads/2023/11/Missions.png
END:VEVENT
BEGIN:VEVENT
DTSTART;TZID=Africa/Kampala:20270515T080000
DTEND;TZID=Africa/Kampala:20270515T120000
DTSTAMP:20260420T091840
CREATED:20231119T084917Z
LAST-MODIFIED:20231119T084917Z
UID:14371-1810368000-1810382400@calvarykla.com
SUMMARY:Frontline Ministry
DESCRIPTION:Our ministry to street children
URL:https://calvarykla.com/event/frontline-ministry/2027-05-15/
LOCATION:Calvary Chapel Kampala\, 41 William Street\, Kampala\, Kampala\, 256\, Uganda
CATEGORIES:Outreaches
ATTACH;FMTTYPE=image/jpeg:https://calvarykla.com/wp-content/uploads/2023/11/Frontline.jpg
END:VEVENT
BEGIN:VEVENT
DTSTART;TZID=Africa/Kampala:20270516T080000
DTEND;TZID=Africa/Kampala:20270516T095000
DTSTAMP:20260420T091840
CREATED:20251204T125706Z
LAST-MODIFIED:20251204T125706Z
UID:14888-1810454400-1810461000@calvarykla.com
SUMMARY:Sunday Sermon Series
DESCRIPTION:Join us as we explore the basics of the Christian faith\, particularly love\, truth\, and obedience from the books of 1\, 2 and 3 John
URL:https://calvarykla.com/event/sunday-sermon-series-5/2027-05-16/
LOCATION:Calvary Chapel Kampala\, 41 William Street\, Kampala\, Kampala\, 256\, Uganda
CATEGORIES:Fellowships,Services
ATTACH;FMTTYPE=image/jpeg:https://calvarykla.com/wp-content/uploads/2025/12/Yokaana-Study-Banner.jpg
END:VEVENT
BEGIN:VEVENT
DTSTART;TZID=Africa/Kampala:20270516T100000
DTEND;TZID=Africa/Kampala:20270516T140000
DTSTAMP:20260420T091840
CREATED:20251204T125137Z
LAST-MODIFIED:20251204T125137Z
UID:14917-1810461600-1810476000@calvarykla.com
SUMMARY:Sunday Sermon Series
DESCRIPTION:Join us as we explore the basics of the Christian faith\, particularly love\, truth\, and obedience from the books of 1\, 2 and 3 John
URL:https://calvarykla.com/event/sunday-sermon-series-4/2027-05-16/
LOCATION:Calvary Chapel Kampala\, 41 William Street\, Kampala\, Kampala\, 256\, Uganda
CATEGORIES:Fellowships,Services
ATTACH;FMTTYPE=image/jpeg:https://calvarykla.com/wp-content/uploads/2025/12/1-2-3-John-Study-Banner-online.jpg
END:VEVENT
END:VCALENDAR