BEGIN:VCALENDAR
VERSION:2.0
PRODID:-//Calvary Chapel Kampala - ECPv5.16.3.1//NONSGML v1.0//EN
CALSCALE:GREGORIAN
METHOD:PUBLISH
X-ORIGINAL-URL:https://calvarykla.com
X-WR-CALDESC:Events for Calvary Chapel Kampala
REFRESH-INTERVAL;VALUE=DURATION:PT1H
X-Robots-Tag:noindex
X-PUBLISHED-TTL:PT1H
BEGIN:VTIMEZONE
TZID:Africa/Kampala
BEGIN:STANDARD
TZOFFSETFROM:+0300
TZOFFSETTO:+0300
TZNAME:EAT
DTSTART:20260101T000000
END:STANDARD
END:VTIMEZONE
BEGIN:VEVENT
DTSTART;TZID=Africa/Kampala:20260215T100000
DTEND;TZID=Africa/Kampala:20260215T140000
DTSTAMP:20260421T051834
CREATED:20251204T125137Z
LAST-MODIFIED:20251204T132942Z
UID:14721-1771149600-1771164000@calvarykla.com
SUMMARY:Sunday Sermon Series
DESCRIPTION:Join us as we explore the basics of the Christian faith\, particularly love\, truth\, and obedience from the books of 1\, 2 and 3 John
URL:https://calvarykla.com/event/sunday-sermon-series-4/2026-02-15/
LOCATION:Calvary Chapel Kampala\, 41 William Street\, Kampala\, Kampala\, 256\, Uganda
CATEGORIES:Fellowships,Services
ATTACH;FMTTYPE=image/jpeg:https://calvarykla.com/wp-content/uploads/2025/12/1-2-3-John-Study-Banner-online.jpg
END:VEVENT
BEGIN:VEVENT
DTSTART;TZID=Africa/Kampala:20260215T150000
DTEND;TZID=Africa/Kampala:20260215T170000
DTSTAMP:20260421T051834
CREATED:20231118T143922Z
LAST-MODIFIED:20231118T143922Z
UID:12044-1771167600-1771174800@calvarykla.com
SUMMARY:Kirundi Service
DESCRIPTION:Kirundi /Kinyarwanda service every Sunday starting at 3pm.
URL:https://calvarykla.com/event/kirundi-service/2026-02-15/
LOCATION:Calvary Chapel Kampala\, 41 William Street\, Kampala\, Kampala\, 256\, Uganda
CATEGORIES:Fellowships,Services
ATTACH;FMTTYPE=image/jpeg:https://calvarykla.com/wp-content/uploads/2023/11/Screen-Kir.jpg
END:VEVENT
BEGIN:VEVENT
DTSTART;TZID=Africa/Kampala:20260216T170000
DTEND;TZID=Africa/Kampala:20260216T190000
DTSTAMP:20260421T051834
CREATED:20241001T073249Z
LAST-MODIFIED:20241001T101800Z
UID:13197-1771261200-1771268400@calvarykla.com
SUMMARY:Men's Fellowship
DESCRIPTION:Men’s weekly study through the book of Romans
URL:https://calvarykla.com/event/mens-fellowship-4/2026-02-16/
LOCATION:Calvary Chapel Kampala\, 41 William Street\, Kampala\, Kampala\, 256\, Uganda
CATEGORIES:Fellowships
ATTACH;FMTTYPE=image/png:https://calvarykla.com/wp-content/uploads/2024/10/Men-of-The-Word-Romans.png
END:VEVENT
BEGIN:VEVENT
DTSTART;TZID=Africa/Kampala:20260217T170000
DTEND;TZID=Africa/Kampala:20260217T190000
DTSTAMP:20260421T051834
CREATED:20241001T072838Z
LAST-MODIFIED:20241001T101706Z
UID:13142-1771347600-1771354800@calvarykla.com
SUMMARY:Men's Fellowship
DESCRIPTION:Men’s weekly bible study through the book of Exodus
URL:https://calvarykla.com/event/mens-fellowship-3/2026-02-17/
LOCATION:Calvary Chapel Kampala\, 41 William Street\, Kampala\, Kampala\, 256\, Uganda
CATEGORIES:Fellowships
ATTACH;FMTTYPE=image/png:https://calvarykla.com/wp-content/uploads/2024/10/Men-of-The-Word-Exodus.png
END:VEVENT
BEGIN:VEVENT
DTSTART;TZID=Africa/Kampala:20260217T180000
DTEND;TZID=Africa/Kampala:20260217T193000
DTSTAMP:20260421T051834
CREATED:20240917T123703Z
LAST-MODIFIED:20240917T123703Z
UID:12927-1771351200-1771356600@calvarykla.com
SUMMARY:Women's Fellowship
DESCRIPTION:Every Tuesday at 6pm. Currently going through a book called Money\, Possessions and Eternity by Randy Alcorn
URL:https://calvarykla.com/event/womens-fellowship-2/2026-02-17/
LOCATION:Calvary Chapel Kampala\, 41 William Street\, Kampala\, Kampala\, 256\, Uganda
CATEGORIES:Fellowships
ATTACH;FMTTYPE=image/jpeg:https://calvarykla.com/wp-content/uploads/2024/09/Ladies-Study.jpg
END:VEVENT
BEGIN:VEVENT
DTSTART;TZID=Africa/Kampala:20260218T180000
DTEND;TZID=Africa/Kampala:20260218T193000
DTSTAMP:20260421T051834
CREATED:20251204T123128Z
LAST-MODIFIED:20251205T090607Z
UID:14688-1771437600-1771443000@calvarykla.com
SUMMARY:Midweek Study Series
DESCRIPTION:Join us for our new midweek series about the Names of God\, studying to know Him\, discover who we are in Him\, and find our purpose in Him.
URL:https://calvarykla.com/event/midweek-study-series-4/2026-02-18/
LOCATION:Calvary Chapel Kampala\, 41 William Street\, Kampala\, Kampala\, 256\, Uganda
CATEGORIES:Fellowships,Services
ATTACH;FMTTYPE=image/jpeg:https://calvarykla.com/wp-content/uploads/2025/12/Names-of-God-BANNER-ONLINE.jpg
END:VEVENT
BEGIN:VEVENT
DTSTART;TZID=Africa/Kampala:20260219T160000
DTEND;TZID=Africa/Kampala:20260219T173000
DTSTAMP:20260421T051834
CREATED:20231118T132337Z
LAST-MODIFIED:20251205T090439Z
UID:12049-1771516800-1771522200@calvarykla.com
SUMMARY:Prayer Fellowship
DESCRIPTION:Rejoice always\, pray without ceasing\, in everything give thanks; for this is the will of God in Christ Jesus for you. I Thessalonians 5:16-18
URL:https://calvarykla.com/event/prayer-fellowship/2026-02-19/
LOCATION:Calvary Chapel Kampala\, 41 William Street\, Kampala\, Kampala\, 256\, Uganda
CATEGORIES:Fellowships
ATTACH;FMTTYPE=image/jpeg:https://calvarykla.com/wp-content/uploads/2023/11/Prayer-fellowship.jpg
END:VEVENT
BEGIN:VEVENT
DTSTART;TZID=Africa/Kampala:20260220T160000
DTEND;TZID=Africa/Kampala:20260220T173000
DTSTAMP:20260421T051834
CREATED:20231118T132224Z
LAST-MODIFIED:20251204T132533Z
UID:12050-1771603200-1771608600@calvarykla.com
SUMMARY:Missions
DESCRIPTION:Evangelism on the streets of Kampala
URL:https://calvarykla.com/event/missions-2/2026-02-20/
LOCATION:Calvary Chapel Kampala\, 41 William Street\, Kampala\, Kampala\, 256\, Uganda
CATEGORIES:Outreaches
ATTACH;FMTTYPE=image/png:https://calvarykla.com/wp-content/uploads/2023/11/Missions.png
END:VEVENT
BEGIN:VEVENT
DTSTART;TZID=Africa/Kampala:20260221T080000
DTEND;TZID=Africa/Kampala:20260221T120000
DTSTAMP:20260421T051834
CREATED:20231119T084917Z
LAST-MODIFIED:20231119T084917Z
UID:12051-1771660800-1771675200@calvarykla.com
SUMMARY:Frontline Ministry
DESCRIPTION:Our ministry to street children
URL:https://calvarykla.com/event/frontline-ministry/2026-02-21/
LOCATION:Calvary Chapel Kampala\, 41 William Street\, Kampala\, Kampala\, 256\, Uganda
CATEGORIES:Outreaches
ATTACH;FMTTYPE=image/jpeg:https://calvarykla.com/wp-content/uploads/2023/11/Frontline.jpg
END:VEVENT
BEGIN:VEVENT
DTSTART;TZID=Africa/Kampala:20260222T080000
DTEND;TZID=Africa/Kampala:20260222T095000
DTSTAMP:20260421T051834
CREATED:20251204T125706Z
LAST-MODIFIED:20251204T125706Z
UID:14744-1771747200-1771753800@calvarykla.com
SUMMARY:Sunday Sermon Series
DESCRIPTION:Join us as we explore the basics of the Christian faith\, particularly love\, truth\, and obedience from the books of 1\, 2 and 3 John
URL:https://calvarykla.com/event/sunday-sermon-series-5/2026-02-22/
LOCATION:Calvary Chapel Kampala\, 41 William Street\, Kampala\, Kampala\, 256\, Uganda
CATEGORIES:Fellowships,Services
ATTACH;FMTTYPE=image/jpeg:https://calvarykla.com/wp-content/uploads/2025/12/Yokaana-Study-Banner.jpg
END:VEVENT
BEGIN:VEVENT
DTSTART;TZID=Africa/Kampala:20260222T100000
DTEND;TZID=Africa/Kampala:20260222T140000
DTSTAMP:20260421T051834
CREATED:20251204T125137Z
LAST-MODIFIED:20251204T133004Z
UID:14722-1771754400-1771768800@calvarykla.com
SUMMARY:Sunday Sermon Series
DESCRIPTION:Join us as we explore the basics of the Christian faith\, particularly love\, truth\, and obedience from the books of 1\, 2 and 3 John
URL:https://calvarykla.com/event/sunday-sermon-series-4/2026-02-22/
LOCATION:Calvary Chapel Kampala\, 41 William Street\, Kampala\, Kampala\, 256\, Uganda
CATEGORIES:Fellowships,Services
ATTACH;FMTTYPE=image/jpeg:https://calvarykla.com/wp-content/uploads/2025/12/1-2-3-John-Study-Banner-online.jpg
END:VEVENT
BEGIN:VEVENT
DTSTART;TZID=Africa/Kampala:20260222T150000
DTEND;TZID=Africa/Kampala:20260222T170000
DTSTAMP:20260421T051834
CREATED:20231118T143922Z
LAST-MODIFIED:20231118T143922Z
UID:12053-1771772400-1771779600@calvarykla.com
SUMMARY:Kirundi Service
DESCRIPTION:Kirundi /Kinyarwanda service every Sunday starting at 3pm.
URL:https://calvarykla.com/event/kirundi-service/2026-02-22/
LOCATION:Calvary Chapel Kampala\, 41 William Street\, Kampala\, Kampala\, 256\, Uganda
CATEGORIES:Fellowships,Services
ATTACH;FMTTYPE=image/jpeg:https://calvarykla.com/wp-content/uploads/2023/11/Screen-Kir.jpg
END:VEVENT
BEGIN:VEVENT
DTSTART;TZID=Africa/Kampala:20260223T170000
DTEND;TZID=Africa/Kampala:20260223T190000
DTSTAMP:20260421T051834
CREATED:20241001T073249Z
LAST-MODIFIED:20241001T101810Z
UID:13199-1771866000-1771873200@calvarykla.com
SUMMARY:Men's Fellowship
DESCRIPTION:Men’s weekly study through the book of Romans
URL:https://calvarykla.com/event/mens-fellowship-4/2026-02-23/
LOCATION:Calvary Chapel Kampala\, 41 William Street\, Kampala\, Kampala\, 256\, Uganda
CATEGORIES:Fellowships
ATTACH;FMTTYPE=image/png:https://calvarykla.com/wp-content/uploads/2024/10/Men-of-The-Word-Romans.png
END:VEVENT
BEGIN:VEVENT
DTSTART;TZID=Africa/Kampala:20260224T170000
DTEND;TZID=Africa/Kampala:20260224T190000
DTSTAMP:20260421T051834
CREATED:20241001T072838Z
LAST-MODIFIED:20241001T101719Z
UID:13144-1771952400-1771959600@calvarykla.com
SUMMARY:Men's Fellowship
DESCRIPTION:Men’s weekly bible study through the book of Exodus
URL:https://calvarykla.com/event/mens-fellowship-3/2026-02-24/
LOCATION:Calvary Chapel Kampala\, 41 William Street\, Kampala\, Kampala\, 256\, Uganda
CATEGORIES:Fellowships
ATTACH;FMTTYPE=image/png:https://calvarykla.com/wp-content/uploads/2024/10/Men-of-The-Word-Exodus.png
END:VEVENT
BEGIN:VEVENT
DTSTART;TZID=Africa/Kampala:20260224T180000
DTEND;TZID=Africa/Kampala:20260224T193000
DTSTAMP:20260421T051834
CREATED:20240917T123703Z
LAST-MODIFIED:20240917T123703Z
UID:12928-1771956000-1771961400@calvarykla.com
SUMMARY:Women's Fellowship
DESCRIPTION:Every Tuesday at 6pm. Currently going through a book called Money\, Possessions and Eternity by Randy Alcorn
URL:https://calvarykla.com/event/womens-fellowship-2/2026-02-24/
LOCATION:Calvary Chapel Kampala\, 41 William Street\, Kampala\, Kampala\, 256\, Uganda
CATEGORIES:Fellowships
ATTACH;FMTTYPE=image/jpeg:https://calvarykla.com/wp-content/uploads/2024/09/Ladies-Study.jpg
END:VEVENT
BEGIN:VEVENT
DTSTART;TZID=Africa/Kampala:20260225T180000
DTEND;TZID=Africa/Kampala:20260225T200000
DTSTAMP:20260421T051834
CREATED:20231118T124641Z
LAST-MODIFIED:20260203T110019Z
UID:10158-1772042400-1772049600@calvarykla.com
SUMMARY:GLOW
DESCRIPTION:A time of praise\, prayer\, worship\, and testimonies every last Wednesday of the month. #God Loves Our Worship
URL:https://calvarykla.com/event/glow/2026-02-25/
LOCATION:Calvary Chapel Kampala\, 41 William Street\, Kampala\, Kampala\, 256\, Uganda
CATEGORIES:Fellowships,Services
ATTACH;FMTTYPE=image/jpeg:https://calvarykla.com/wp-content/uploads/2023/11/Glow.jpg
END:VEVENT
BEGIN:VEVENT
DTSTART;TZID=Africa/Kampala:20260226T160000
DTEND;TZID=Africa/Kampala:20260226T173000
DTSTAMP:20260421T051834
CREATED:20231118T132337Z
LAST-MODIFIED:20251205T090501Z
UID:12058-1772121600-1772127000@calvarykla.com
SUMMARY:Prayer Fellowship
DESCRIPTION:Rejoice always\, pray without ceasing\, in everything give thanks; for this is the will of God in Christ Jesus for you. I Thessalonians 5:16-18
URL:https://calvarykla.com/event/prayer-fellowship/2026-02-26/
LOCATION:Calvary Chapel Kampala\, 41 William Street\, Kampala\, Kampala\, 256\, Uganda
CATEGORIES:Fellowships
ATTACH;FMTTYPE=image/jpeg:https://calvarykla.com/wp-content/uploads/2023/11/Prayer-fellowship.jpg
END:VEVENT
BEGIN:VEVENT
DTSTART;TZID=Africa/Kampala:20260227T160000
DTEND;TZID=Africa/Kampala:20260227T173000
DTSTAMP:20260421T051834
CREATED:20231118T130931Z
LAST-MODIFIED:20231118T130931Z
UID:12059-1772208000-1772213400@calvarykla.com
SUMMARY:Missions
DESCRIPTION:Fellowship and follow-up on the month’s activities.
URL:https://calvarykla.com/event/missions/2026-02-27/
LOCATION:Calvary Chapel Kampala\, 41 William Street\, Kampala\, Kampala\, 256\, Uganda
CATEGORIES:Fellowships,Outreaches
ATTACH;FMTTYPE=image/png:https://calvarykla.com/wp-content/uploads/2023/11/Missions.png
END:VEVENT
BEGIN:VEVENT
DTSTART;TZID=Africa/Kampala:20260228T080000
DTEND;TZID=Africa/Kampala:20260228T120000
DTSTAMP:20260421T051834
CREATED:20231119T084917Z
LAST-MODIFIED:20231119T084917Z
UID:12060-1772265600-1772280000@calvarykla.com
SUMMARY:Frontline Ministry
DESCRIPTION:Our ministry to street children
URL:https://calvarykla.com/event/frontline-ministry/2026-02-28/
LOCATION:Calvary Chapel Kampala\, 41 William Street\, Kampala\, Kampala\, 256\, Uganda
CATEGORIES:Outreaches
ATTACH;FMTTYPE=image/jpeg:https://calvarykla.com/wp-content/uploads/2023/11/Frontline.jpg
END:VEVENT
BEGIN:VEVENT
DTSTART;TZID=Africa/Kampala:20260301T080000
DTEND;TZID=Africa/Kampala:20260301T095000
DTSTAMP:20260421T051834
CREATED:20251204T125706Z
LAST-MODIFIED:20251204T125706Z
UID:14745-1772352000-1772358600@calvarykla.com
SUMMARY:Sunday Sermon Series
DESCRIPTION:Join us as we explore the basics of the Christian faith\, particularly love\, truth\, and obedience from the books of 1\, 2 and 3 John
URL:https://calvarykla.com/event/sunday-sermon-series-5/2026-03-01/
LOCATION:Calvary Chapel Kampala\, 41 William Street\, Kampala\, Kampala\, 256\, Uganda
CATEGORIES:Fellowships,Services
ATTACH;FMTTYPE=image/jpeg:https://calvarykla.com/wp-content/uploads/2025/12/Yokaana-Study-Banner.jpg
END:VEVENT
BEGIN:VEVENT
DTSTART;TZID=Africa/Kampala:20260301T100000
DTEND;TZID=Africa/Kampala:20260301T140000
DTSTAMP:20260421T051834
CREATED:20251204T125137Z
LAST-MODIFIED:20251204T133038Z
UID:14723-1772359200-1772373600@calvarykla.com
SUMMARY:Sunday Sermon Series
DESCRIPTION:Join us as we explore the basics of the Christian faith\, particularly love\, truth\, and obedience from the books of 1\, 2 and 3 John
URL:https://calvarykla.com/event/sunday-sermon-series-4/2026-03-01/
LOCATION:Calvary Chapel Kampala\, 41 William Street\, Kampala\, Kampala\, 256\, Uganda
CATEGORIES:Fellowships,Services
ATTACH;FMTTYPE=image/jpeg:https://calvarykla.com/wp-content/uploads/2025/12/1-2-3-John-Study-Banner-online.jpg
END:VEVENT
BEGIN:VEVENT
DTSTART;TZID=Africa/Kampala:20260301T150000
DTEND;TZID=Africa/Kampala:20260301T170000
DTSTAMP:20260421T051834
CREATED:20231118T143922Z
LAST-MODIFIED:20231118T143922Z
UID:12062-1772377200-1772384400@calvarykla.com
SUMMARY:Kirundi Service
DESCRIPTION:Kirundi /Kinyarwanda service every Sunday starting at 3pm.
URL:https://calvarykla.com/event/kirundi-service/2026-03-01/
LOCATION:Calvary Chapel Kampala\, 41 William Street\, Kampala\, Kampala\, 256\, Uganda
CATEGORIES:Fellowships,Services
ATTACH;FMTTYPE=image/jpeg:https://calvarykla.com/wp-content/uploads/2023/11/Screen-Kir.jpg
END:VEVENT
BEGIN:VEVENT
DTSTART;TZID=Africa/Kampala:20260302T170000
DTEND;TZID=Africa/Kampala:20260302T190000
DTSTAMP:20260421T051834
CREATED:20241001T073249Z
LAST-MODIFIED:20241001T101823Z
UID:13200-1772470800-1772478000@calvarykla.com
SUMMARY:Men's Fellowship
DESCRIPTION:Men’s weekly study through the book of Romans
URL:https://calvarykla.com/event/mens-fellowship-4/2026-03-02/
LOCATION:Calvary Chapel Kampala\, 41 William Street\, Kampala\, Kampala\, 256\, Uganda
CATEGORIES:Fellowships
ATTACH;FMTTYPE=image/png:https://calvarykla.com/wp-content/uploads/2024/10/Men-of-The-Word-Romans.png
END:VEVENT
BEGIN:VEVENT
DTSTART;TZID=Africa/Kampala:20260303T170000
DTEND;TZID=Africa/Kampala:20260303T190000
DTSTAMP:20260421T051834
CREATED:20241001T072838Z
LAST-MODIFIED:20241001T101739Z
UID:13146-1772557200-1772564400@calvarykla.com
SUMMARY:Men's Fellowship
DESCRIPTION:Men’s weekly bible study through the book of Exodus
URL:https://calvarykla.com/event/mens-fellowship-3/2026-03-03/
LOCATION:Calvary Chapel Kampala\, 41 William Street\, Kampala\, Kampala\, 256\, Uganda
CATEGORIES:Fellowships
ATTACH;FMTTYPE=image/png:https://calvarykla.com/wp-content/uploads/2024/10/Men-of-The-Word-Exodus.png
END:VEVENT
BEGIN:VEVENT
DTSTART;TZID=Africa/Kampala:20260303T180000
DTEND;TZID=Africa/Kampala:20260303T193000
DTSTAMP:20260421T051834
CREATED:20240917T123703Z
LAST-MODIFIED:20240917T123703Z
UID:12929-1772560800-1772566200@calvarykla.com
SUMMARY:Women's Fellowship
DESCRIPTION:Every Tuesday at 6pm. Currently going through a book called Money\, Possessions and Eternity by Randy Alcorn
URL:https://calvarykla.com/event/womens-fellowship-2/2026-03-03/
LOCATION:Calvary Chapel Kampala\, 41 William Street\, Kampala\, Kampala\, 256\, Uganda
CATEGORIES:Fellowships
ATTACH;FMTTYPE=image/jpeg:https://calvarykla.com/wp-content/uploads/2024/09/Ladies-Study.jpg
END:VEVENT
BEGIN:VEVENT
DTSTART;TZID=Africa/Kampala:20260304T180000
DTEND;TZID=Africa/Kampala:20260304T193000
DTSTAMP:20260421T051834
CREATED:20251204T123128Z
LAST-MODIFIED:20251205T090621Z
UID:14689-1772647200-1772652600@calvarykla.com
SUMMARY:Midweek Study Series
DESCRIPTION:Join us for our new midweek series about the Names of God\, studying to know Him\, discover who we are in Him\, and find our purpose in Him.
URL:https://calvarykla.com/event/midweek-study-series-4/2026-03-04/
LOCATION:Calvary Chapel Kampala\, 41 William Street\, Kampala\, Kampala\, 256\, Uganda
CATEGORIES:Fellowships,Services
ATTACH;FMTTYPE=image/jpeg:https://calvarykla.com/wp-content/uploads/2025/12/Names-of-God-BANNER-ONLINE.jpg
END:VEVENT
BEGIN:VEVENT
DTSTART;TZID=Africa/Kampala:20260305T160000
DTEND;TZID=Africa/Kampala:20260305T173000
DTSTAMP:20260421T051834
CREATED:20231118T132337Z
LAST-MODIFIED:20251205T090521Z
UID:12067-1772726400-1772731800@calvarykla.com
SUMMARY:Prayer Fellowship
DESCRIPTION:Rejoice always\, pray without ceasing\, in everything give thanks; for this is the will of God in Christ Jesus for you. I Thessalonians 5:16-18
URL:https://calvarykla.com/event/prayer-fellowship/2026-03-05/
LOCATION:Calvary Chapel Kampala\, 41 William Street\, Kampala\, Kampala\, 256\, Uganda
CATEGORIES:Fellowships
ATTACH;FMTTYPE=image/jpeg:https://calvarykla.com/wp-content/uploads/2023/11/Prayer-fellowship.jpg
END:VEVENT
BEGIN:VEVENT
DTSTART;TZID=Africa/Kampala:20260306T160000
DTEND;TZID=Africa/Kampala:20260306T173000
DTSTAMP:20260421T051834
CREATED:20231118T132224Z
LAST-MODIFIED:20251204T132557Z
UID:12068-1772812800-1772818200@calvarykla.com
SUMMARY:Missions
DESCRIPTION:Evangelism on the streets of Kampala
URL:https://calvarykla.com/event/missions-2/2026-03-06/
LOCATION:Calvary Chapel Kampala\, 41 William Street\, Kampala\, Kampala\, 256\, Uganda
CATEGORIES:Outreaches
ATTACH;FMTTYPE=image/png:https://calvarykla.com/wp-content/uploads/2023/11/Missions.png
END:VEVENT
BEGIN:VEVENT
DTSTART;TZID=Africa/Kampala:20260307T080000
DTEND;TZID=Africa/Kampala:20260307T120000
DTSTAMP:20260421T051834
CREATED:20231119T084917Z
LAST-MODIFIED:20231119T084917Z
UID:12069-1772870400-1772884800@calvarykla.com
SUMMARY:Frontline Ministry
DESCRIPTION:Our ministry to street children
URL:https://calvarykla.com/event/frontline-ministry/2026-03-07/
LOCATION:Calvary Chapel Kampala\, 41 William Street\, Kampala\, Kampala\, 256\, Uganda
CATEGORIES:Outreaches
ATTACH;FMTTYPE=image/jpeg:https://calvarykla.com/wp-content/uploads/2023/11/Frontline.jpg
END:VEVENT
BEGIN:VEVENT
DTSTART;TZID=Africa/Kampala:20260308T080000
DTEND;TZID=Africa/Kampala:20260308T095000
DTSTAMP:20260421T051834
CREATED:20251204T125706Z
LAST-MODIFIED:20251204T125706Z
UID:14746-1772956800-1772963400@calvarykla.com
SUMMARY:Sunday Sermon Series
DESCRIPTION:Join us as we explore the basics of the Christian faith\, particularly love\, truth\, and obedience from the books of 1\, 2 and 3 John
URL:https://calvarykla.com/event/sunday-sermon-series-5/2026-03-08/
LOCATION:Calvary Chapel Kampala\, 41 William Street\, Kampala\, Kampala\, 256\, Uganda
CATEGORIES:Fellowships,Services
ATTACH;FMTTYPE=image/jpeg:https://calvarykla.com/wp-content/uploads/2025/12/Yokaana-Study-Banner.jpg
END:VEVENT
END:VCALENDAR