BEGIN:VCALENDAR
VERSION:2.0
PRODID:-//Calvary Chapel Kampala - ECPv5.16.3.1//NONSGML v1.0//EN
CALSCALE:GREGORIAN
METHOD:PUBLISH
X-ORIGINAL-URL:https://calvarykla.com
X-WR-CALDESC:Events for Calvary Chapel Kampala
REFRESH-INTERVAL;VALUE=DURATION:PT1H
X-Robots-Tag:noindex
X-PUBLISHED-TTL:PT1H
BEGIN:VTIMEZONE
TZID:Africa/Kampala
BEGIN:STANDARD
TZOFFSETFROM:+0300
TZOFFSETTO:+0300
TZNAME:EAT
DTSTART:20270101T000000
END:STANDARD
END:VTIMEZONE
BEGIN:VEVENT
DTSTART;TZID=Africa/Kampala:20271121T100000
DTEND;TZID=Africa/Kampala:20271121T140000
DTSTAMP:20260421T070114
CREATED:20251204T125137Z
LAST-MODIFIED:20251204T125137Z
UID:14954-1826791200-1826805600@calvarykla.com
SUMMARY:Sunday Sermon Series
DESCRIPTION:Join us as we explore the basics of the Christian faith\, particularly love\, truth\, and obedience from the books of 1\, 2 and 3 John
URL:https://calvarykla.com/event/sunday-sermon-series-4/2027-11-21/
LOCATION:Calvary Chapel Kampala\, 41 William Street\, Kampala\, Kampala\, 256\, Uganda
CATEGORIES:Fellowships,Services
ATTACH;FMTTYPE=image/jpeg:https://calvarykla.com/wp-content/uploads/2025/12/1-2-3-John-Study-Banner-online.jpg
END:VEVENT
BEGIN:VEVENT
DTSTART;TZID=Africa/Kampala:20271121T150000
DTEND;TZID=Africa/Kampala:20271121T170000
DTSTAMP:20260421T070114
CREATED:20231118T143922Z
LAST-MODIFIED:20231118T143922Z
UID:14635-1826809200-1826816400@calvarykla.com
SUMMARY:Kirundi Service
DESCRIPTION:Kirundi /Kinyarwanda service every Sunday starting at 3pm.
URL:https://calvarykla.com/event/kirundi-service/2027-11-21/
LOCATION:Calvary Chapel Kampala\, 41 William Street\, Kampala\, Kampala\, 256\, Uganda
CATEGORIES:Fellowships,Services
ATTACH;FMTTYPE=image/jpeg:https://calvarykla.com/wp-content/uploads/2023/11/Screen-Kir.jpg
END:VEVENT
BEGIN:VEVENT
DTSTART;TZID=Africa/Kampala:20271122T170000
DTEND;TZID=Africa/Kampala:20271122T190000
DTSTAMP:20260421T070114
CREATED:20241001T073249Z
LAST-MODIFIED:20241001T073249Z
UID:14637-1826902800-1826910000@calvarykla.com
SUMMARY:Men's Fellowship
DESCRIPTION:Men’s weekly study through the book of Romans
URL:https://calvarykla.com/event/mens-fellowship-4/2027-11-22/
LOCATION:Calvary Chapel Kampala\, 41 William Street\, Kampala\, Kampala\, 256\, Uganda
CATEGORIES:Fellowships
ATTACH;FMTTYPE=image/png:https://calvarykla.com/wp-content/uploads/2024/10/Men-of-The-Word-Romans.png
END:VEVENT
BEGIN:VEVENT
DTSTART;TZID=Africa/Kampala:20271123T170000
DTEND;TZID=Africa/Kampala:20271123T190000
DTSTAMP:20260421T070114
CREATED:20241001T072838Z
LAST-MODIFIED:20241001T072838Z
UID:14639-1826989200-1826996400@calvarykla.com
SUMMARY:Men's Fellowship
DESCRIPTION:Men’s weekly bible study through the book of Exodus
URL:https://calvarykla.com/event/mens-fellowship-3/2027-11-23/
LOCATION:Calvary Chapel Kampala\, 41 William Street\, Kampala\, Kampala\, 256\, Uganda
CATEGORIES:Fellowships
ATTACH;FMTTYPE=image/png:https://calvarykla.com/wp-content/uploads/2024/10/Men-of-The-Word-Exodus.png
END:VEVENT
BEGIN:VEVENT
DTSTART;TZID=Africa/Kampala:20271123T180000
DTEND;TZID=Africa/Kampala:20271123T193000
DTSTAMP:20260421T070114
CREATED:20240917T123703Z
LAST-MODIFIED:20240917T123703Z
UID:14638-1826992800-1826998200@calvarykla.com
SUMMARY:Women's Fellowship
DESCRIPTION:Every Tuesday at 6pm. Currently going through a book called Money\, Possessions and Eternity by Randy Alcorn
URL:https://calvarykla.com/event/womens-fellowship-2/2027-11-23/
LOCATION:Calvary Chapel Kampala\, 41 William Street\, Kampala\, Kampala\, 256\, Uganda
CATEGORIES:Fellowships
ATTACH;FMTTYPE=image/jpeg:https://calvarykla.com/wp-content/uploads/2024/09/Ladies-Study.jpg
END:VEVENT
BEGIN:VEVENT
DTSTART;TZID=Africa/Kampala:20271124T180000
DTEND;TZID=Africa/Kampala:20271124T200000
DTSTAMP:20260421T070114
CREATED:20231118T124641Z
LAST-MODIFIED:20260204T081536Z
UID:14640-1827079200-1827086400@calvarykla.com
SUMMARY:GLOW
DESCRIPTION:A time of praise\, prayer\, worship\, and testimonies every last Wednesday of the month. #God Loves Our Worship
URL:https://calvarykla.com/event/glow/2027-11-24/
LOCATION:Calvary Chapel Kampala\, 41 William Street\, Kampala\, Kampala\, 256\, Uganda
CATEGORIES:Fellowships,Services
ATTACH;FMTTYPE=image/jpeg:https://calvarykla.com/wp-content/uploads/2023/11/Glow.jpg
END:VEVENT
BEGIN:VEVENT
DTSTART;TZID=Africa/Kampala:20271125T160000
DTEND;TZID=Africa/Kampala:20271125T173000
DTSTAMP:20260421T070114
CREATED:20231118T132337Z
LAST-MODIFIED:20251205T091734Z
UID:14641-1827158400-1827163800@calvarykla.com
SUMMARY:Prayer Fellowship
DESCRIPTION:Rejoice always\, pray without ceasing\, in everything give thanks; for this is the will of God in Christ Jesus for you. I Thessalonians 5:16-18
URL:https://calvarykla.com/event/prayer-fellowship/2027-11-25/
LOCATION:Calvary Chapel Kampala\, 41 William Street\, Kampala\, Kampala\, 256\, Uganda
CATEGORIES:Fellowships
ATTACH;FMTTYPE=image/jpeg:https://calvarykla.com/wp-content/uploads/2023/11/Prayer-fellowship.jpg
END:VEVENT
BEGIN:VEVENT
DTSTART;TZID=Africa/Kampala:20271126T160000
DTEND;TZID=Africa/Kampala:20271126T173000
DTSTAMP:20260421T070114
CREATED:20231118T130931Z
LAST-MODIFIED:20231118T130931Z
UID:14642-1827244800-1827250200@calvarykla.com
SUMMARY:Missions
DESCRIPTION:Fellowship and follow-up on the month’s activities.
URL:https://calvarykla.com/event/missions/2027-11-26/
LOCATION:Calvary Chapel Kampala\, 41 William Street\, Kampala\, Kampala\, 256\, Uganda
CATEGORIES:Fellowships,Outreaches
ATTACH;FMTTYPE=image/png:https://calvarykla.com/wp-content/uploads/2023/11/Missions.png
END:VEVENT
BEGIN:VEVENT
DTSTART;TZID=Africa/Kampala:20271127T080000
DTEND;TZID=Africa/Kampala:20271127T120000
DTSTAMP:20260421T070114
CREATED:20231119T084917Z
LAST-MODIFIED:20231119T084917Z
UID:14643-1827302400-1827316800@calvarykla.com
SUMMARY:Frontline Ministry
DESCRIPTION:Our ministry to street children
URL:https://calvarykla.com/event/frontline-ministry/2027-11-27/
LOCATION:Calvary Chapel Kampala\, 41 William Street\, Kampala\, Kampala\, 256\, Uganda
CATEGORIES:Outreaches
ATTACH;FMTTYPE=image/jpeg:https://calvarykla.com/wp-content/uploads/2023/11/Frontline.jpg
END:VEVENT
BEGIN:VEVENT
DTSTART;TZID=Africa/Kampala:20271128T080000
DTEND;TZID=Africa/Kampala:20271128T095000
DTSTAMP:20260421T070114
CREATED:20251204T125706Z
LAST-MODIFIED:20251204T125706Z
UID:15037-1827388800-1827395400@calvarykla.com
SUMMARY:Sunday Sermon Series
DESCRIPTION:Join us as we explore the basics of the Christian faith\, particularly love\, truth\, and obedience from the books of 1\, 2 and 3 John
URL:https://calvarykla.com/event/sunday-sermon-series-5/2027-11-28/
LOCATION:Calvary Chapel Kampala\, 41 William Street\, Kampala\, Kampala\, 256\, Uganda
CATEGORIES:Fellowships,Services
ATTACH;FMTTYPE=image/jpeg:https://calvarykla.com/wp-content/uploads/2025/12/Yokaana-Study-Banner.jpg
END:VEVENT
BEGIN:VEVENT
DTSTART;TZID=Africa/Kampala:20271128T100000
DTEND;TZID=Africa/Kampala:20271128T140000
DTSTAMP:20260421T070114
CREATED:20251204T125137Z
LAST-MODIFIED:20251204T125137Z
UID:14956-1827396000-1827410400@calvarykla.com
SUMMARY:Sunday Sermon Series
DESCRIPTION:Join us as we explore the basics of the Christian faith\, particularly love\, truth\, and obedience from the books of 1\, 2 and 3 John
URL:https://calvarykla.com/event/sunday-sermon-series-4/2027-11-28/
LOCATION:Calvary Chapel Kampala\, 41 William Street\, Kampala\, Kampala\, 256\, Uganda
CATEGORIES:Fellowships,Services
ATTACH;FMTTYPE=image/jpeg:https://calvarykla.com/wp-content/uploads/2025/12/1-2-3-John-Study-Banner-online.jpg
END:VEVENT
BEGIN:VEVENT
DTSTART;TZID=Africa/Kampala:20271128T150000
DTEND;TZID=Africa/Kampala:20271128T170000
DTSTAMP:20260421T070114
CREATED:20231118T143922Z
LAST-MODIFIED:20231118T143922Z
UID:14644-1827414000-1827421200@calvarykla.com
SUMMARY:Kirundi Service
DESCRIPTION:Kirundi /Kinyarwanda service every Sunday starting at 3pm.
URL:https://calvarykla.com/event/kirundi-service/2027-11-28/
LOCATION:Calvary Chapel Kampala\, 41 William Street\, Kampala\, Kampala\, 256\, Uganda
CATEGORIES:Fellowships,Services
ATTACH;FMTTYPE=image/jpeg:https://calvarykla.com/wp-content/uploads/2023/11/Screen-Kir.jpg
END:VEVENT
BEGIN:VEVENT
DTSTART;TZID=Africa/Kampala:20271129T170000
DTEND;TZID=Africa/Kampala:20271129T190000
DTSTAMP:20260421T070114
CREATED:20241001T073249Z
LAST-MODIFIED:20241001T073249Z
UID:14646-1827507600-1827514800@calvarykla.com
SUMMARY:Men's Fellowship
DESCRIPTION:Men’s weekly study through the book of Romans
URL:https://calvarykla.com/event/mens-fellowship-4/2027-11-29/
LOCATION:Calvary Chapel Kampala\, 41 William Street\, Kampala\, Kampala\, 256\, Uganda
CATEGORIES:Fellowships
ATTACH;FMTTYPE=image/png:https://calvarykla.com/wp-content/uploads/2024/10/Men-of-The-Word-Romans.png
END:VEVENT
BEGIN:VEVENT
DTSTART;TZID=Africa/Kampala:20271130T170000
DTEND;TZID=Africa/Kampala:20271130T190000
DTSTAMP:20260421T070114
CREATED:20241001T072838Z
LAST-MODIFIED:20241001T072838Z
UID:14648-1827594000-1827601200@calvarykla.com
SUMMARY:Men's Fellowship
DESCRIPTION:Men’s weekly bible study through the book of Exodus
URL:https://calvarykla.com/event/mens-fellowship-3/2027-11-30/
LOCATION:Calvary Chapel Kampala\, 41 William Street\, Kampala\, Kampala\, 256\, Uganda
CATEGORIES:Fellowships
ATTACH;FMTTYPE=image/png:https://calvarykla.com/wp-content/uploads/2024/10/Men-of-The-Word-Exodus.png
END:VEVENT
BEGIN:VEVENT
DTSTART;TZID=Africa/Kampala:20271130T180000
DTEND;TZID=Africa/Kampala:20271130T193000
DTSTAMP:20260421T070114
CREATED:20240917T123703Z
LAST-MODIFIED:20240917T123703Z
UID:14647-1827597600-1827603000@calvarykla.com
SUMMARY:Women's Fellowship
DESCRIPTION:Every Tuesday at 6pm. Currently going through a book called Money\, Possessions and Eternity by Randy Alcorn
URL:https://calvarykla.com/event/womens-fellowship-2/2027-11-30/
LOCATION:Calvary Chapel Kampala\, 41 William Street\, Kampala\, Kampala\, 256\, Uganda
CATEGORIES:Fellowships
ATTACH;FMTTYPE=image/jpeg:https://calvarykla.com/wp-content/uploads/2024/09/Ladies-Study.jpg
END:VEVENT
BEGIN:VEVENT
DTSTART;TZID=Africa/Kampala:20271201T180000
DTEND;TZID=Africa/Kampala:20271201T193000
DTSTAMP:20260421T070114
CREATED:20251204T123128Z
LAST-MODIFIED:20251204T123128Z
UID:15107-1827684000-1827689400@calvarykla.com
SUMMARY:Midweek Study Series
DESCRIPTION:Join us for our new midweek series about the Names of God\, studying to know Him\, discover who we are in Him\, and find our purpose in Him.
URL:https://calvarykla.com/event/midweek-study-series-4/2027-12-01/
LOCATION:Calvary Chapel Kampala\, 41 William Street\, Kampala\, Kampala\, 256\, Uganda
CATEGORIES:Fellowships,Services
ATTACH;FMTTYPE=image/jpeg:https://calvarykla.com/wp-content/uploads/2025/12/Names-of-God-BANNER-ONLINE.jpg
END:VEVENT
BEGIN:VEVENT
DTSTART;TZID=Africa/Kampala:20271202T160000
DTEND;TZID=Africa/Kampala:20271202T173000
DTSTAMP:20260421T070114
CREATED:20231118T132337Z
LAST-MODIFIED:20251205T091748Z
UID:14650-1827763200-1827768600@calvarykla.com
SUMMARY:Prayer Fellowship
DESCRIPTION:Rejoice always\, pray without ceasing\, in everything give thanks; for this is the will of God in Christ Jesus for you. I Thessalonians 5:16-18
URL:https://calvarykla.com/event/prayer-fellowship/2027-12-02/
LOCATION:Calvary Chapel Kampala\, 41 William Street\, Kampala\, Kampala\, 256\, Uganda
CATEGORIES:Fellowships
ATTACH;FMTTYPE=image/jpeg:https://calvarykla.com/wp-content/uploads/2023/11/Prayer-fellowship.jpg
END:VEVENT
BEGIN:VEVENT
DTSTART;TZID=Africa/Kampala:20271203T160000
DTEND;TZID=Africa/Kampala:20271203T173000
DTSTAMP:20260421T070114
CREATED:20231118T132224Z
LAST-MODIFIED:20251205T090707Z
UID:14652-1827849600-1827855000@calvarykla.com
SUMMARY:Missions
DESCRIPTION:Evangelism on the streets of Kampala
URL:https://calvarykla.com/event/missions-2/2027-12-03/
LOCATION:Calvary Chapel Kampala\, 41 William Street\, Kampala\, Kampala\, 256\, Uganda
CATEGORIES:Outreaches
ATTACH;FMTTYPE=image/png:https://calvarykla.com/wp-content/uploads/2023/11/Missions.png
END:VEVENT
BEGIN:VEVENT
DTSTART;TZID=Africa/Kampala:20271204T080000
DTEND;TZID=Africa/Kampala:20271204T120000
DTSTAMP:20260421T070114
CREATED:20231119T084917Z
LAST-MODIFIED:20231119T084917Z
UID:15227-1827907200-1827921600@calvarykla.com
SUMMARY:Frontline Ministry
DESCRIPTION:Our ministry to street children
URL:https://calvarykla.com/event/frontline-ministry/2027-12-04/
LOCATION:Calvary Chapel Kampala\, 41 William Street\, Kampala\, Kampala\, 256\, Uganda
CATEGORIES:Outreaches
ATTACH;FMTTYPE=image/jpeg:https://calvarykla.com/wp-content/uploads/2023/11/Frontline.jpg
END:VEVENT
BEGIN:VEVENT
DTSTART;TZID=Africa/Kampala:20271205T080000
DTEND;TZID=Africa/Kampala:20271205T095000
DTSTAMP:20260421T070114
CREATED:20251204T125706Z
LAST-MODIFIED:20251204T125706Z
UID:15230-1827993600-1828000200@calvarykla.com
SUMMARY:Sunday Sermon Series
DESCRIPTION:Join us as we explore the basics of the Christian faith\, particularly love\, truth\, and obedience from the books of 1\, 2 and 3 John
URL:https://calvarykla.com/event/sunday-sermon-series-5/2027-12-05/
LOCATION:Calvary Chapel Kampala\, 41 William Street\, Kampala\, Kampala\, 256\, Uganda
CATEGORIES:Fellowships,Services
ATTACH;FMTTYPE=image/jpeg:https://calvarykla.com/wp-content/uploads/2025/12/Yokaana-Study-Banner.jpg
END:VEVENT
BEGIN:VEVENT
DTSTART;TZID=Africa/Kampala:20271205T100000
DTEND;TZID=Africa/Kampala:20271205T140000
DTSTAMP:20260421T070115
CREATED:20251204T125137Z
LAST-MODIFIED:20251204T125137Z
UID:15229-1828000800-1828015200@calvarykla.com
SUMMARY:Sunday Sermon Series
DESCRIPTION:Join us as we explore the basics of the Christian faith\, particularly love\, truth\, and obedience from the books of 1\, 2 and 3 John
URL:https://calvarykla.com/event/sunday-sermon-series-4/2027-12-05/
LOCATION:Calvary Chapel Kampala\, 41 William Street\, Kampala\, Kampala\, 256\, Uganda
CATEGORIES:Fellowships,Services
ATTACH;FMTTYPE=image/jpeg:https://calvarykla.com/wp-content/uploads/2025/12/1-2-3-John-Study-Banner-online.jpg
END:VEVENT
BEGIN:VEVENT
DTSTART;TZID=Africa/Kampala:20271205T150000
DTEND;TZID=Africa/Kampala:20271205T170000
DTSTAMP:20260421T070115
CREATED:20231118T143922Z
LAST-MODIFIED:20231118T143922Z
UID:15228-1828018800-1828026000@calvarykla.com
SUMMARY:Kirundi Service
DESCRIPTION:Kirundi /Kinyarwanda service every Sunday starting at 3pm.
URL:https://calvarykla.com/event/kirundi-service/2027-12-05/
LOCATION:Calvary Chapel Kampala\, 41 William Street\, Kampala\, Kampala\, 256\, Uganda
CATEGORIES:Fellowships,Services
ATTACH;FMTTYPE=image/jpeg:https://calvarykla.com/wp-content/uploads/2023/11/Screen-Kir.jpg
END:VEVENT
BEGIN:VEVENT
DTSTART;TZID=Africa/Kampala:20271206T170000
DTEND;TZID=Africa/Kampala:20271206T190000
DTSTAMP:20260421T070115
CREATED:20241001T073249Z
LAST-MODIFIED:20241001T073249Z
UID:15231-1828112400-1828119600@calvarykla.com
SUMMARY:Men's Fellowship
DESCRIPTION:Men’s weekly study through the book of Romans
URL:https://calvarykla.com/event/mens-fellowship-4/2027-12-06/
LOCATION:Calvary Chapel Kampala\, 41 William Street\, Kampala\, Kampala\, 256\, Uganda
CATEGORIES:Fellowships
ATTACH;FMTTYPE=image/png:https://calvarykla.com/wp-content/uploads/2024/10/Men-of-The-Word-Romans.png
END:VEVENT
BEGIN:VEVENT
DTSTART;TZID=Africa/Kampala:20271207T170000
DTEND;TZID=Africa/Kampala:20271207T190000
DTSTAMP:20260421T070115
CREATED:20241001T072838Z
LAST-MODIFIED:20241001T072838Z
UID:15233-1828198800-1828206000@calvarykla.com
SUMMARY:Men's Fellowship
DESCRIPTION:Men’s weekly bible study through the book of Exodus
URL:https://calvarykla.com/event/mens-fellowship-3/2027-12-07/
LOCATION:Calvary Chapel Kampala\, 41 William Street\, Kampala\, Kampala\, 256\, Uganda
CATEGORIES:Fellowships
ATTACH;FMTTYPE=image/png:https://calvarykla.com/wp-content/uploads/2024/10/Men-of-The-Word-Exodus.png
END:VEVENT
BEGIN:VEVENT
DTSTART;TZID=Africa/Kampala:20271207T180000
DTEND;TZID=Africa/Kampala:20271207T193000
DTSTAMP:20260421T070115
CREATED:20240917T123703Z
LAST-MODIFIED:20240917T123703Z
UID:15232-1828202400-1828207800@calvarykla.com
SUMMARY:Women's Fellowship
DESCRIPTION:Every Tuesday at 6pm. Currently going through a book called Money\, Possessions and Eternity by Randy Alcorn
URL:https://calvarykla.com/event/womens-fellowship-2/2027-12-07/
LOCATION:Calvary Chapel Kampala\, 41 William Street\, Kampala\, Kampala\, 256\, Uganda
CATEGORIES:Fellowships
ATTACH;FMTTYPE=image/jpeg:https://calvarykla.com/wp-content/uploads/2024/09/Ladies-Study.jpg
END:VEVENT
BEGIN:VEVENT
DTSTART;TZID=Africa/Kampala:20271208T180000
DTEND;TZID=Africa/Kampala:20271208T193000
DTSTAMP:20260421T070115
CREATED:20251204T123128Z
LAST-MODIFIED:20251204T123128Z
UID:15236-1828288800-1828294200@calvarykla.com
SUMMARY:Midweek Study Series
DESCRIPTION:Join us for our new midweek series about the Names of God\, studying to know Him\, discover who we are in Him\, and find our purpose in Him.
URL:https://calvarykla.com/event/midweek-study-series-4/2027-12-08/
LOCATION:Calvary Chapel Kampala\, 41 William Street\, Kampala\, Kampala\, 256\, Uganda
CATEGORIES:Fellowships,Services
ATTACH;FMTTYPE=image/jpeg:https://calvarykla.com/wp-content/uploads/2025/12/Names-of-God-BANNER-ONLINE.jpg
END:VEVENT
BEGIN:VEVENT
DTSTART;TZID=Africa/Kampala:20271209T160000
DTEND;TZID=Africa/Kampala:20271209T173000
DTSTAMP:20260421T070115
CREATED:20231118T132337Z
LAST-MODIFIED:20231118T132337Z
UID:15234-1828368000-1828373400@calvarykla.com
SUMMARY:Prayer Fellowship
DESCRIPTION:Rejoice always\, pray without ceasing\, in everything give thanks; for this is the will of God in Christ Jesus for you. I Thessalonians 5:16-18
URL:https://calvarykla.com/event/prayer-fellowship/2027-12-09/
LOCATION:Calvary Chapel Kampala\, 41 William Street\, Kampala\, Kampala\, 256\, Uganda
CATEGORIES:Fellowships
ATTACH;FMTTYPE=image/jpeg:https://calvarykla.com/wp-content/uploads/2023/11/Prayer-fellowship.jpg
END:VEVENT
BEGIN:VEVENT
DTSTART;TZID=Africa/Kampala:20271210T160000
DTEND;TZID=Africa/Kampala:20271210T173000
DTSTAMP:20260421T070115
CREATED:20231118T132224Z
LAST-MODIFIED:20231118T132224Z
UID:15235-1828454400-1828459800@calvarykla.com
SUMMARY:Missions
DESCRIPTION:Evangelism on the streets of Kampala
URL:https://calvarykla.com/event/missions-2/2027-12-10/
LOCATION:Calvary Chapel Kampala\, 41 William Street\, Kampala\, Kampala\, 256\, Uganda
CATEGORIES:Outreaches
ATTACH;FMTTYPE=image/png:https://calvarykla.com/wp-content/uploads/2023/11/Missions.png
END:VEVENT
BEGIN:VEVENT
DTSTART;TZID=Africa/Kampala:20271211T080000
DTEND;TZID=Africa/Kampala:20271211T120000
DTSTAMP:20260421T070115
CREATED:20231119T084917Z
LAST-MODIFIED:20231119T084917Z
UID:15237-1828512000-1828526400@calvarykla.com
SUMMARY:Frontline Ministry
DESCRIPTION:Our ministry to street children
URL:https://calvarykla.com/event/frontline-ministry/2027-12-11/
LOCATION:Calvary Chapel Kampala\, 41 William Street\, Kampala\, Kampala\, 256\, Uganda
CATEGORIES:Outreaches
ATTACH;FMTTYPE=image/jpeg:https://calvarykla.com/wp-content/uploads/2023/11/Frontline.jpg
END:VEVENT
BEGIN:VEVENT
DTSTART;TZID=Africa/Kampala:20271212T080000
DTEND;TZID=Africa/Kampala:20271212T095000
DTSTAMP:20260421T070115
CREATED:20251204T125706Z
LAST-MODIFIED:20251204T125706Z
UID:15240-1828598400-1828605000@calvarykla.com
SUMMARY:Sunday Sermon Series
DESCRIPTION:Join us as we explore the basics of the Christian faith\, particularly love\, truth\, and obedience from the books of 1\, 2 and 3 John
URL:https://calvarykla.com/event/sunday-sermon-series-5/2027-12-12/
LOCATION:Calvary Chapel Kampala\, 41 William Street\, Kampala\, Kampala\, 256\, Uganda
CATEGORIES:Fellowships,Services
ATTACH;FMTTYPE=image/jpeg:https://calvarykla.com/wp-content/uploads/2025/12/Yokaana-Study-Banner.jpg
END:VEVENT
END:VCALENDAR