BEGIN:VCALENDAR
VERSION:2.0
PRODID:-//Calvary Chapel Kampala - ECPv5.16.3.1//NONSGML v1.0//EN
CALSCALE:GREGORIAN
METHOD:PUBLISH
X-ORIGINAL-URL:https://calvarykla.com
X-WR-CALDESC:Events for Calvary Chapel Kampala
REFRESH-INTERVAL;VALUE=DURATION:PT1H
X-Robots-Tag:noindex
X-PUBLISHED-TTL:PT1H
BEGIN:VTIMEZONE
TZID:Africa/Kampala
BEGIN:STANDARD
TZOFFSETFROM:+0300
TZOFFSETTO:+0300
TZNAME:EAT
DTSTART:20270101T000000
END:STANDARD
END:VTIMEZONE
BEGIN:VEVENT
DTSTART;TZID=Africa/Kampala:20270526T180000
DTEND;TZID=Africa/Kampala:20270526T200000
DTSTAMP:20260420T061005
CREATED:20231118T124641Z
LAST-MODIFIED:20260204T081411Z
UID:14386-1811354400-1811361600@calvarykla.com
SUMMARY:GLOW
DESCRIPTION:A time of praise\, prayer\, worship\, and testimonies every last Wednesday of the month. #God Loves Our Worship
URL:https://calvarykla.com/event/glow/2027-05-26/
LOCATION:Calvary Chapel Kampala\, 41 William Street\, Kampala\, Kampala\, 256\, Uganda
CATEGORIES:Fellowships,Services
ATTACH;FMTTYPE=image/jpeg:https://calvarykla.com/wp-content/uploads/2023/11/Glow.jpg
END:VEVENT
BEGIN:VEVENT
DTSTART;TZID=Africa/Kampala:20270527T160000
DTEND;TZID=Africa/Kampala:20270527T173000
DTSTAMP:20260420T061005
CREATED:20231118T132337Z
LAST-MODIFIED:20251205T091409Z
UID:14387-1811433600-1811439000@calvarykla.com
SUMMARY:Prayer Fellowship
DESCRIPTION:Rejoice always\, pray without ceasing\, in everything give thanks; for this is the will of God in Christ Jesus for you. I Thessalonians 5:16-18
URL:https://calvarykla.com/event/prayer-fellowship/2027-05-27/
LOCATION:Calvary Chapel Kampala\, 41 William Street\, Kampala\, Kampala\, 256\, Uganda
CATEGORIES:Fellowships
ATTACH;FMTTYPE=image/jpeg:https://calvarykla.com/wp-content/uploads/2023/11/Prayer-fellowship.jpg
END:VEVENT
BEGIN:VEVENT
DTSTART;TZID=Africa/Kampala:20270528T160000
DTEND;TZID=Africa/Kampala:20270528T173000
DTSTAMP:20260420T061005
CREATED:20231118T130931Z
LAST-MODIFIED:20231118T130931Z
UID:14388-1811520000-1811525400@calvarykla.com
SUMMARY:Missions
DESCRIPTION:Fellowship and follow-up on the month’s activities.
URL:https://calvarykla.com/event/missions/2027-05-28/
LOCATION:Calvary Chapel Kampala\, 41 William Street\, Kampala\, Kampala\, 256\, Uganda
CATEGORIES:Fellowships,Outreaches
ATTACH;FMTTYPE=image/png:https://calvarykla.com/wp-content/uploads/2023/11/Missions.png
END:VEVENT
BEGIN:VEVENT
DTSTART;TZID=Africa/Kampala:20270529T080000
DTEND;TZID=Africa/Kampala:20270529T120000
DTSTAMP:20260420T061005
CREATED:20231119T084917Z
LAST-MODIFIED:20231119T084917Z
UID:14389-1811577600-1811592000@calvarykla.com
SUMMARY:Frontline Ministry
DESCRIPTION:Our ministry to street children
URL:https://calvarykla.com/event/frontline-ministry/2027-05-29/
LOCATION:Calvary Chapel Kampala\, 41 William Street\, Kampala\, Kampala\, 256\, Uganda
CATEGORIES:Outreaches
ATTACH;FMTTYPE=image/jpeg:https://calvarykla.com/wp-content/uploads/2023/11/Frontline.jpg
END:VEVENT
BEGIN:VEVENT
DTSTART;TZID=Africa/Kampala:20270530T080000
DTEND;TZID=Africa/Kampala:20270530T095000
DTSTAMP:20260420T061005
CREATED:20251204T125706Z
LAST-MODIFIED:20251204T125706Z
UID:14893-1811664000-1811670600@calvarykla.com
SUMMARY:Sunday Sermon Series
DESCRIPTION:Join us as we explore the basics of the Christian faith\, particularly love\, truth\, and obedience from the books of 1\, 2 and 3 John
URL:https://calvarykla.com/event/sunday-sermon-series-5/2027-05-30/
LOCATION:Calvary Chapel Kampala\, 41 William Street\, Kampala\, Kampala\, 256\, Uganda
CATEGORIES:Fellowships,Services
ATTACH;FMTTYPE=image/jpeg:https://calvarykla.com/wp-content/uploads/2025/12/Yokaana-Study-Banner.jpg
END:VEVENT
BEGIN:VEVENT
DTSTART;TZID=Africa/Kampala:20270530T100000
DTEND;TZID=Africa/Kampala:20270530T140000
DTSTAMP:20260420T061005
CREATED:20251204T125137Z
LAST-MODIFIED:20251204T125137Z
UID:14919-1811671200-1811685600@calvarykla.com
SUMMARY:Sunday Sermon Series
DESCRIPTION:Join us as we explore the basics of the Christian faith\, particularly love\, truth\, and obedience from the books of 1\, 2 and 3 John
URL:https://calvarykla.com/event/sunday-sermon-series-4/2027-05-30/
LOCATION:Calvary Chapel Kampala\, 41 William Street\, Kampala\, Kampala\, 256\, Uganda
CATEGORIES:Fellowships,Services
ATTACH;FMTTYPE=image/jpeg:https://calvarykla.com/wp-content/uploads/2025/12/1-2-3-John-Study-Banner-online.jpg
END:VEVENT
BEGIN:VEVENT
DTSTART;TZID=Africa/Kampala:20270530T150000
DTEND;TZID=Africa/Kampala:20270530T170000
DTSTAMP:20260420T061005
CREATED:20231118T143922Z
LAST-MODIFIED:20231118T143922Z
UID:14390-1811689200-1811696400@calvarykla.com
SUMMARY:Kirundi Service
DESCRIPTION:Kirundi /Kinyarwanda service every Sunday starting at 3pm.
URL:https://calvarykla.com/event/kirundi-service/2027-05-30/
LOCATION:Calvary Chapel Kampala\, 41 William Street\, Kampala\, Kampala\, 256\, Uganda
CATEGORIES:Fellowships,Services
ATTACH;FMTTYPE=image/jpeg:https://calvarykla.com/wp-content/uploads/2023/11/Screen-Kir.jpg
END:VEVENT
BEGIN:VEVENT
DTSTART;TZID=Africa/Kampala:20270531T170000
DTEND;TZID=Africa/Kampala:20270531T190000
DTSTAMP:20260420T061005
CREATED:20241001T073249Z
LAST-MODIFIED:20241001T073249Z
UID:14392-1811782800-1811790000@calvarykla.com
SUMMARY:Men's Fellowship
DESCRIPTION:Men’s weekly study through the book of Romans
URL:https://calvarykla.com/event/mens-fellowship-4/2027-05-31/
LOCATION:Calvary Chapel Kampala\, 41 William Street\, Kampala\, Kampala\, 256\, Uganda
CATEGORIES:Fellowships
ATTACH;FMTTYPE=image/png:https://calvarykla.com/wp-content/uploads/2024/10/Men-of-The-Word-Romans.png
END:VEVENT
BEGIN:VEVENT
DTSTART;TZID=Africa/Kampala:20270601T170000
DTEND;TZID=Africa/Kampala:20270601T190000
DTSTAMP:20260420T061005
CREATED:20241001T072838Z
LAST-MODIFIED:20241001T072838Z
UID:14394-1811869200-1811876400@calvarykla.com
SUMMARY:Men's Fellowship
DESCRIPTION:Men’s weekly bible study through the book of Exodus
URL:https://calvarykla.com/event/mens-fellowship-3/2027-06-01/
LOCATION:Calvary Chapel Kampala\, 41 William Street\, Kampala\, Kampala\, 256\, Uganda
CATEGORIES:Fellowships
ATTACH;FMTTYPE=image/png:https://calvarykla.com/wp-content/uploads/2024/10/Men-of-The-Word-Exodus.png
END:VEVENT
BEGIN:VEVENT
DTSTART;TZID=Africa/Kampala:20270601T180000
DTEND;TZID=Africa/Kampala:20270601T193000
DTSTAMP:20260420T061005
CREATED:20240917T123703Z
LAST-MODIFIED:20240917T123703Z
UID:14393-1811872800-1811878200@calvarykla.com
SUMMARY:Women's Fellowship
DESCRIPTION:Every Tuesday at 6pm. Currently going through a book called Money\, Possessions and Eternity by Randy Alcorn
URL:https://calvarykla.com/event/womens-fellowship-2/2027-06-01/
LOCATION:Calvary Chapel Kampala\, 41 William Street\, Kampala\, Kampala\, 256\, Uganda
CATEGORIES:Fellowships
ATTACH;FMTTYPE=image/jpeg:https://calvarykla.com/wp-content/uploads/2024/09/Ladies-Study.jpg
END:VEVENT
BEGIN:VEVENT
DTSTART;TZID=Africa/Kampala:20270602T180000
DTEND;TZID=Africa/Kampala:20270602T193000
DTSTAMP:20260420T061005
CREATED:20251204T123128Z
LAST-MODIFIED:20251204T123128Z
UID:15071-1811959200-1811964600@calvarykla.com
SUMMARY:Midweek Study Series
DESCRIPTION:Join us for our new midweek series about the Names of God\, studying to know Him\, discover who we are in Him\, and find our purpose in Him.
URL:https://calvarykla.com/event/midweek-study-series-4/2027-06-02/
LOCATION:Calvary Chapel Kampala\, 41 William Street\, Kampala\, Kampala\, 256\, Uganda
CATEGORIES:Fellowships,Services
ATTACH;FMTTYPE=image/jpeg:https://calvarykla.com/wp-content/uploads/2025/12/Names-of-God-BANNER-ONLINE.jpg
END:VEVENT
BEGIN:VEVENT
DTSTART;TZID=Africa/Kampala:20270603T160000
DTEND;TZID=Africa/Kampala:20270603T173000
DTSTAMP:20260420T061005
CREATED:20231118T132337Z
LAST-MODIFIED:20251205T091413Z
UID:14396-1812038400-1812043800@calvarykla.com
SUMMARY:Prayer Fellowship
DESCRIPTION:Rejoice always\, pray without ceasing\, in everything give thanks; for this is the will of God in Christ Jesus for you. I Thessalonians 5:16-18
URL:https://calvarykla.com/event/prayer-fellowship/2027-06-03/
LOCATION:Calvary Chapel Kampala\, 41 William Street\, Kampala\, Kampala\, 256\, Uganda
CATEGORIES:Fellowships
ATTACH;FMTTYPE=image/jpeg:https://calvarykla.com/wp-content/uploads/2023/11/Prayer-fellowship.jpg
END:VEVENT
BEGIN:VEVENT
DTSTART;TZID=Africa/Kampala:20270604T160000
DTEND;TZID=Africa/Kampala:20270604T173000
DTSTAMP:20260420T061005
CREATED:20231118T132224Z
LAST-MODIFIED:20251205T090212Z
UID:14397-1812124800-1812130200@calvarykla.com
SUMMARY:Missions
DESCRIPTION:Evangelism on the streets of Kampala
URL:https://calvarykla.com/event/missions-2/2027-06-04/
LOCATION:Calvary Chapel Kampala\, 41 William Street\, Kampala\, Kampala\, 256\, Uganda
CATEGORIES:Outreaches
ATTACH;FMTTYPE=image/png:https://calvarykla.com/wp-content/uploads/2023/11/Missions.png
END:VEVENT
BEGIN:VEVENT
DTSTART;TZID=Africa/Kampala:20270605T080000
DTEND;TZID=Africa/Kampala:20270605T120000
DTSTAMP:20260420T061006
CREATED:20231119T084917Z
LAST-MODIFIED:20231119T084917Z
UID:14398-1812182400-1812196800@calvarykla.com
SUMMARY:Frontline Ministry
DESCRIPTION:Our ministry to street children
URL:https://calvarykla.com/event/frontline-ministry/2027-06-05/
LOCATION:Calvary Chapel Kampala\, 41 William Street\, Kampala\, Kampala\, 256\, Uganda
CATEGORIES:Outreaches
ATTACH;FMTTYPE=image/jpeg:https://calvarykla.com/wp-content/uploads/2023/11/Frontline.jpg
END:VEVENT
BEGIN:VEVENT
DTSTART;TZID=Africa/Kampala:20270606T080000
DTEND;TZID=Africa/Kampala:20270606T095000
DTSTAMP:20260420T061006
CREATED:20251204T125706Z
LAST-MODIFIED:20251204T125706Z
UID:14896-1812268800-1812275400@calvarykla.com
SUMMARY:Sunday Sermon Series
DESCRIPTION:Join us as we explore the basics of the Christian faith\, particularly love\, truth\, and obedience from the books of 1\, 2 and 3 John
URL:https://calvarykla.com/event/sunday-sermon-series-5/2027-06-06/
LOCATION:Calvary Chapel Kampala\, 41 William Street\, Kampala\, Kampala\, 256\, Uganda
CATEGORIES:Fellowships,Services
ATTACH;FMTTYPE=image/jpeg:https://calvarykla.com/wp-content/uploads/2025/12/Yokaana-Study-Banner.jpg
END:VEVENT
BEGIN:VEVENT
DTSTART;TZID=Africa/Kampala:20270606T100000
DTEND;TZID=Africa/Kampala:20270606T140000
DTSTAMP:20260420T061006
CREATED:20251204T125137Z
LAST-MODIFIED:20251204T125137Z
UID:14920-1812276000-1812290400@calvarykla.com
SUMMARY:Sunday Sermon Series
DESCRIPTION:Join us as we explore the basics of the Christian faith\, particularly love\, truth\, and obedience from the books of 1\, 2 and 3 John
URL:https://calvarykla.com/event/sunday-sermon-series-4/2027-06-06/
LOCATION:Calvary Chapel Kampala\, 41 William Street\, Kampala\, Kampala\, 256\, Uganda
CATEGORIES:Fellowships,Services
ATTACH;FMTTYPE=image/jpeg:https://calvarykla.com/wp-content/uploads/2025/12/1-2-3-John-Study-Banner-online.jpg
END:VEVENT
BEGIN:VEVENT
DTSTART;TZID=Africa/Kampala:20270606T150000
DTEND;TZID=Africa/Kampala:20270606T170000
DTSTAMP:20260420T061006
CREATED:20231118T143922Z
LAST-MODIFIED:20231118T143922Z
UID:14399-1812294000-1812301200@calvarykla.com
SUMMARY:Kirundi Service
DESCRIPTION:Kirundi /Kinyarwanda service every Sunday starting at 3pm.
URL:https://calvarykla.com/event/kirundi-service/2027-06-06/
LOCATION:Calvary Chapel Kampala\, 41 William Street\, Kampala\, Kampala\, 256\, Uganda
CATEGORIES:Fellowships,Services
ATTACH;FMTTYPE=image/jpeg:https://calvarykla.com/wp-content/uploads/2023/11/Screen-Kir.jpg
END:VEVENT
BEGIN:VEVENT
DTSTART;TZID=Africa/Kampala:20270607T170000
DTEND;TZID=Africa/Kampala:20270607T190000
DTSTAMP:20260420T061006
CREATED:20241001T073249Z
LAST-MODIFIED:20241001T073249Z
UID:14401-1812387600-1812394800@calvarykla.com
SUMMARY:Men's Fellowship
DESCRIPTION:Men’s weekly study through the book of Romans
URL:https://calvarykla.com/event/mens-fellowship-4/2027-06-07/
LOCATION:Calvary Chapel Kampala\, 41 William Street\, Kampala\, Kampala\, 256\, Uganda
CATEGORIES:Fellowships
ATTACH;FMTTYPE=image/png:https://calvarykla.com/wp-content/uploads/2024/10/Men-of-The-Word-Romans.png
END:VEVENT
BEGIN:VEVENT
DTSTART;TZID=Africa/Kampala:20270608T170000
DTEND;TZID=Africa/Kampala:20270608T190000
DTSTAMP:20260420T061006
CREATED:20241001T072838Z
LAST-MODIFIED:20241001T072838Z
UID:14403-1812474000-1812481200@calvarykla.com
SUMMARY:Men's Fellowship
DESCRIPTION:Men’s weekly bible study through the book of Exodus
URL:https://calvarykla.com/event/mens-fellowship-3/2027-06-08/
LOCATION:Calvary Chapel Kampala\, 41 William Street\, Kampala\, Kampala\, 256\, Uganda
CATEGORIES:Fellowships
ATTACH;FMTTYPE=image/png:https://calvarykla.com/wp-content/uploads/2024/10/Men-of-The-Word-Exodus.png
END:VEVENT
BEGIN:VEVENT
DTSTART;TZID=Africa/Kampala:20270608T180000
DTEND;TZID=Africa/Kampala:20270608T193000
DTSTAMP:20260420T061006
CREATED:20240917T123703Z
LAST-MODIFIED:20240917T123703Z
UID:14402-1812477600-1812483000@calvarykla.com
SUMMARY:Women's Fellowship
DESCRIPTION:Every Tuesday at 6pm. Currently going through a book called Money\, Possessions and Eternity by Randy Alcorn
URL:https://calvarykla.com/event/womens-fellowship-2/2027-06-08/
LOCATION:Calvary Chapel Kampala\, 41 William Street\, Kampala\, Kampala\, 256\, Uganda
CATEGORIES:Fellowships
ATTACH;FMTTYPE=image/jpeg:https://calvarykla.com/wp-content/uploads/2024/09/Ladies-Study.jpg
END:VEVENT
BEGIN:VEVENT
DTSTART;TZID=Africa/Kampala:20270609T180000
DTEND;TZID=Africa/Kampala:20270609T193000
DTSTAMP:20260420T061006
CREATED:20251204T123128Z
LAST-MODIFIED:20251204T123128Z
UID:15073-1812564000-1812569400@calvarykla.com
SUMMARY:Midweek Study Series
DESCRIPTION:Join us for our new midweek series about the Names of God\, studying to know Him\, discover who we are in Him\, and find our purpose in Him.
URL:https://calvarykla.com/event/midweek-study-series-4/2027-06-09/
LOCATION:Calvary Chapel Kampala\, 41 William Street\, Kampala\, Kampala\, 256\, Uganda
CATEGORIES:Fellowships,Services
ATTACH;FMTTYPE=image/jpeg:https://calvarykla.com/wp-content/uploads/2025/12/Names-of-God-BANNER-ONLINE.jpg
END:VEVENT
BEGIN:VEVENT
DTSTART;TZID=Africa/Kampala:20270610T160000
DTEND;TZID=Africa/Kampala:20270610T173000
DTSTAMP:20260420T061006
CREATED:20231118T132337Z
LAST-MODIFIED:20251205T091418Z
UID:14405-1812643200-1812648600@calvarykla.com
SUMMARY:Prayer Fellowship
DESCRIPTION:Rejoice always\, pray without ceasing\, in everything give thanks; for this is the will of God in Christ Jesus for you. I Thessalonians 5:16-18
URL:https://calvarykla.com/event/prayer-fellowship/2027-06-10/
LOCATION:Calvary Chapel Kampala\, 41 William Street\, Kampala\, Kampala\, 256\, Uganda
CATEGORIES:Fellowships
ATTACH;FMTTYPE=image/jpeg:https://calvarykla.com/wp-content/uploads/2023/11/Prayer-fellowship.jpg
END:VEVENT
BEGIN:VEVENT
DTSTART;TZID=Africa/Kampala:20270611T160000
DTEND;TZID=Africa/Kampala:20270611T173000
DTSTAMP:20260420T061006
CREATED:20231118T132224Z
LAST-MODIFIED:20251205T090231Z
UID:14418-1812729600-1812735000@calvarykla.com
SUMMARY:Missions
DESCRIPTION:Evangelism on the streets of Kampala
URL:https://calvarykla.com/event/missions-2/2027-06-11/
LOCATION:Calvary Chapel Kampala\, 41 William Street\, Kampala\, Kampala\, 256\, Uganda
CATEGORIES:Outreaches
ATTACH;FMTTYPE=image/png:https://calvarykla.com/wp-content/uploads/2023/11/Missions.png
END:VEVENT
BEGIN:VEVENT
DTSTART;TZID=Africa/Kampala:20270612T080000
DTEND;TZID=Africa/Kampala:20270612T120000
DTSTAMP:20260420T061006
CREATED:20231119T084917Z
LAST-MODIFIED:20231119T084917Z
UID:14419-1812787200-1812801600@calvarykla.com
SUMMARY:Frontline Ministry
DESCRIPTION:Our ministry to street children
URL:https://calvarykla.com/event/frontline-ministry/2027-06-12/
LOCATION:Calvary Chapel Kampala\, 41 William Street\, Kampala\, Kampala\, 256\, Uganda
CATEGORIES:Outreaches
ATTACH;FMTTYPE=image/jpeg:https://calvarykla.com/wp-content/uploads/2023/11/Frontline.jpg
END:VEVENT
BEGIN:VEVENT
DTSTART;TZID=Africa/Kampala:20270613T080000
DTEND;TZID=Africa/Kampala:20270613T095000
DTSTAMP:20260420T061006
CREATED:20251204T125706Z
LAST-MODIFIED:20251204T125706Z
UID:14994-1812873600-1812880200@calvarykla.com
SUMMARY:Sunday Sermon Series
DESCRIPTION:Join us as we explore the basics of the Christian faith\, particularly love\, truth\, and obedience from the books of 1\, 2 and 3 John
URL:https://calvarykla.com/event/sunday-sermon-series-5/2027-06-13/
LOCATION:Calvary Chapel Kampala\, 41 William Street\, Kampala\, Kampala\, 256\, Uganda
CATEGORIES:Fellowships,Services
ATTACH;FMTTYPE=image/jpeg:https://calvarykla.com/wp-content/uploads/2025/12/Yokaana-Study-Banner.jpg
END:VEVENT
BEGIN:VEVENT
DTSTART;TZID=Africa/Kampala:20270613T100000
DTEND;TZID=Africa/Kampala:20270613T140000
DTSTAMP:20260420T061006
CREATED:20251204T125137Z
LAST-MODIFIED:20251204T125137Z
UID:14921-1812880800-1812895200@calvarykla.com
SUMMARY:Sunday Sermon Series
DESCRIPTION:Join us as we explore the basics of the Christian faith\, particularly love\, truth\, and obedience from the books of 1\, 2 and 3 John
URL:https://calvarykla.com/event/sunday-sermon-series-4/2027-06-13/
LOCATION:Calvary Chapel Kampala\, 41 William Street\, Kampala\, Kampala\, 256\, Uganda
CATEGORIES:Fellowships,Services
ATTACH;FMTTYPE=image/jpeg:https://calvarykla.com/wp-content/uploads/2025/12/1-2-3-John-Study-Banner-online.jpg
END:VEVENT
BEGIN:VEVENT
DTSTART;TZID=Africa/Kampala:20270613T150000
DTEND;TZID=Africa/Kampala:20270613T170000
DTSTAMP:20260420T061006
CREATED:20231118T143922Z
LAST-MODIFIED:20231118T143922Z
UID:14420-1812898800-1812906000@calvarykla.com
SUMMARY:Kirundi Service
DESCRIPTION:Kirundi /Kinyarwanda service every Sunday starting at 3pm.
URL:https://calvarykla.com/event/kirundi-service/2027-06-13/
LOCATION:Calvary Chapel Kampala\, 41 William Street\, Kampala\, Kampala\, 256\, Uganda
CATEGORIES:Fellowships,Services
ATTACH;FMTTYPE=image/jpeg:https://calvarykla.com/wp-content/uploads/2023/11/Screen-Kir.jpg
END:VEVENT
BEGIN:VEVENT
DTSTART;TZID=Africa/Kampala:20270614T170000
DTEND;TZID=Africa/Kampala:20270614T190000
DTSTAMP:20260420T061006
CREATED:20241001T073249Z
LAST-MODIFIED:20241001T073249Z
UID:14422-1812992400-1812999600@calvarykla.com
SUMMARY:Men's Fellowship
DESCRIPTION:Men’s weekly study through the book of Romans
URL:https://calvarykla.com/event/mens-fellowship-4/2027-06-14/
LOCATION:Calvary Chapel Kampala\, 41 William Street\, Kampala\, Kampala\, 256\, Uganda
CATEGORIES:Fellowships
ATTACH;FMTTYPE=image/png:https://calvarykla.com/wp-content/uploads/2024/10/Men-of-The-Word-Romans.png
END:VEVENT
BEGIN:VEVENT
DTSTART;TZID=Africa/Kampala:20270615T170000
DTEND;TZID=Africa/Kampala:20270615T190000
DTSTAMP:20260420T061006
CREATED:20241001T072838Z
LAST-MODIFIED:20241001T072838Z
UID:14424-1813078800-1813086000@calvarykla.com
SUMMARY:Men's Fellowship
DESCRIPTION:Men’s weekly bible study through the book of Exodus
URL:https://calvarykla.com/event/mens-fellowship-3/2027-06-15/
LOCATION:Calvary Chapel Kampala\, 41 William Street\, Kampala\, Kampala\, 256\, Uganda
CATEGORIES:Fellowships
ATTACH;FMTTYPE=image/png:https://calvarykla.com/wp-content/uploads/2024/10/Men-of-The-Word-Exodus.png
END:VEVENT
BEGIN:VEVENT
DTSTART;TZID=Africa/Kampala:20270615T180000
DTEND;TZID=Africa/Kampala:20270615T193000
DTSTAMP:20260420T061006
CREATED:20240917T123703Z
LAST-MODIFIED:20240917T123703Z
UID:14423-1813082400-1813087800@calvarykla.com
SUMMARY:Women's Fellowship
DESCRIPTION:Every Tuesday at 6pm. Currently going through a book called Money\, Possessions and Eternity by Randy Alcorn
URL:https://calvarykla.com/event/womens-fellowship-2/2027-06-15/
LOCATION:Calvary Chapel Kampala\, 41 William Street\, Kampala\, Kampala\, 256\, Uganda
CATEGORIES:Fellowships
ATTACH;FMTTYPE=image/jpeg:https://calvarykla.com/wp-content/uploads/2024/09/Ladies-Study.jpg
END:VEVENT
END:VCALENDAR