BEGIN:VCALENDAR
VERSION:2.0
PRODID:-//Calvary Chapel Kampala - ECPv5.16.3.1//NONSGML v1.0//EN
CALSCALE:GREGORIAN
METHOD:PUBLISH
X-WR-CALNAME:Calvary Chapel Kampala
X-ORIGINAL-URL:https://calvarykla.com
X-WR-CALDESC:Events for Calvary Chapel Kampala
REFRESH-INTERVAL;VALUE=DURATION:PT1H
X-Robots-Tag:noindex
X-PUBLISHED-TTL:PT1H
BEGIN:VTIMEZONE
TZID:Africa/Kampala
BEGIN:STANDARD
TZOFFSETFROM:+0300
TZOFFSETTO:+0300
TZNAME:EAT
DTSTART:20240101T000000
END:STANDARD
END:VTIMEZONE
BEGIN:VEVENT
DTSTART;TZID=Africa/Kampala:20241027T080000
DTEND;TZID=Africa/Kampala:20241027T140000
DTSTAMP:20260420T132208
CREATED:20241004T083929Z
LAST-MODIFIED:20251204T132354Z
UID:13463-1730016000-1730037600@calvarykla.com
SUMMARY:Sunday Sermon Series
DESCRIPTION:New sermon series through the book of 1 & 2 Samuel. Every Sunday at 8am for Luganda and 10am & 12noon for English
URL:https://calvarykla.com/event/sunday-sermon-series-3/2024-10-27/
LOCATION:Calvary Chapel Kampala\, 41 William Street\, Kampala\, Kampala\, 256\, Uganda
CATEGORIES:Fellowships,Services
ATTACH;FMTTYPE=image/jpeg:https://calvarykla.com/wp-content/uploads/2024/10/SAMUEL-Study-Banner.jpg
END:VEVENT
BEGIN:VEVENT
DTSTART;TZID=Africa/Kampala:20241027T150000
DTEND;TZID=Africa/Kampala:20241027T170000
DTSTAMP:20260420T132208
CREATED:20231118T143922Z
LAST-MODIFIED:20231118T171149Z
UID:10785-1730041200-1730048400@calvarykla.com
SUMMARY:Kirundi Service
DESCRIPTION:Kirundi /Kinyarwanda service every Sunday starting at 3pm.
URL:https://calvarykla.com/event/kirundi-service/2024-10-27/
LOCATION:Calvary Chapel Kampala\, 41 William Street\, Kampala\, Kampala\, 256\, Uganda
CATEGORIES:Fellowships,Services
ATTACH;FMTTYPE=image/jpeg:https://calvarykla.com/wp-content/uploads/2023/11/Screen-Kir.jpg
END:VEVENT
BEGIN:VEVENT
DTSTART;TZID=Africa/Kampala:20241103T080000
DTEND;TZID=Africa/Kampala:20241103T140000
DTSTAMP:20260420T132208
CREATED:20241004T083929Z
LAST-MODIFIED:20251204T132416Z
UID:13464-1730620800-1730642400@calvarykla.com
SUMMARY:Sunday Sermon Series
DESCRIPTION:New sermon series through the book of 1 & 2 Samuel. Every Sunday at 8am for Luganda and 10am & 12noon for English
URL:https://calvarykla.com/event/sunday-sermon-series-3/2024-11-03/
LOCATION:Calvary Chapel Kampala\, 41 William Street\, Kampala\, Kampala\, 256\, Uganda
CATEGORIES:Fellowships,Services
ATTACH;FMTTYPE=image/jpeg:https://calvarykla.com/wp-content/uploads/2024/10/SAMUEL-Study-Banner.jpg
END:VEVENT
BEGIN:VEVENT
DTSTART;TZID=Africa/Kampala:20241103T150000
DTEND;TZID=Africa/Kampala:20241103T170000
DTSTAMP:20260420T132208
CREATED:20231118T143922Z
LAST-MODIFIED:20231118T171210Z
UID:10788-1730646000-1730653200@calvarykla.com
SUMMARY:Kirundi Service
DESCRIPTION:Kirundi /Kinyarwanda service every Sunday starting at 3pm.
URL:https://calvarykla.com/event/kirundi-service/2024-11-03/
LOCATION:Calvary Chapel Kampala\, 41 William Street\, Kampala\, Kampala\, 256\, Uganda
CATEGORIES:Fellowships,Services
ATTACH;FMTTYPE=image/jpeg:https://calvarykla.com/wp-content/uploads/2023/11/Screen-Kir.jpg
END:VEVENT
BEGIN:VEVENT
DTSTART;TZID=Africa/Kampala:20241106T180000
DTEND;TZID=Africa/Kampala:20241106T193000
DTSTAMP:20260420T132208
CREATED:20240904T173617Z
LAST-MODIFIED:20250425T125150Z
UID:12455-1730916000-1730921400@calvarykla.com
SUMMARY:Midweek Study Series
DESCRIPTION:Midweek study series through the book of Proverbs
URL:https://calvarykla.com/event/midweek-study-series-2/2024-11-06/
LOCATION:Calvary Chapel Kampala\, 41 William Street\, Kampala\, Kampala\, 256\, Uganda
CATEGORIES:Fellowships,Services
ATTACH;FMTTYPE=image/jpeg:https://calvarykla.com/wp-content/uploads/2023/03/PROVERBS-Wednesday-study-web.jpg
END:VEVENT
BEGIN:VEVENT
DTSTART;TZID=Africa/Kampala:20241110T080000
DTEND;TZID=Africa/Kampala:20241110T140000
DTSTAMP:20260420T132208
CREATED:20241004T083929Z
LAST-MODIFIED:20251204T132436Z
UID:13465-1731225600-1731247200@calvarykla.com
SUMMARY:Sunday Sermon Series
DESCRIPTION:New sermon series through the book of 1 & 2 Samuel. Every Sunday at 8am for Luganda and 10am & 12noon for English
URL:https://calvarykla.com/event/sunday-sermon-series-3/2024-11-10/
LOCATION:Calvary Chapel Kampala\, 41 William Street\, Kampala\, Kampala\, 256\, Uganda
CATEGORIES:Fellowships,Services
ATTACH;FMTTYPE=image/jpeg:https://calvarykla.com/wp-content/uploads/2024/10/SAMUEL-Study-Banner.jpg
END:VEVENT
BEGIN:VEVENT
DTSTART;TZID=Africa/Kampala:20241110T150000
DTEND;TZID=Africa/Kampala:20241110T170000
DTSTAMP:20260420T132208
CREATED:20231118T143922Z
LAST-MODIFIED:20231118T171227Z
UID:10791-1731250800-1731258000@calvarykla.com
SUMMARY:Kirundi Service
DESCRIPTION:Kirundi /Kinyarwanda service every Sunday starting at 3pm.
URL:https://calvarykla.com/event/kirundi-service/2024-11-10/
LOCATION:Calvary Chapel Kampala\, 41 William Street\, Kampala\, Kampala\, 256\, Uganda
CATEGORIES:Fellowships,Services
ATTACH;FMTTYPE=image/jpeg:https://calvarykla.com/wp-content/uploads/2023/11/Screen-Kir.jpg
END:VEVENT
BEGIN:VEVENT
DTSTART;TZID=Africa/Kampala:20241113T180000
DTEND;TZID=Africa/Kampala:20241113T193000
DTSTAMP:20260420T132208
CREATED:20240904T173617Z
LAST-MODIFIED:20250425T125200Z
UID:12457-1731520800-1731526200@calvarykla.com
SUMMARY:Midweek Study Series
DESCRIPTION:Midweek study series through the book of Proverbs
URL:https://calvarykla.com/event/midweek-study-series-2/2024-11-13/
LOCATION:Calvary Chapel Kampala\, 41 William Street\, Kampala\, Kampala\, 256\, Uganda
CATEGORIES:Fellowships,Services
ATTACH;FMTTYPE=image/jpeg:https://calvarykla.com/wp-content/uploads/2023/03/PROVERBS-Wednesday-study-web.jpg
END:VEVENT
BEGIN:VEVENT
DTSTART;TZID=Africa/Kampala:20241117T080000
DTEND;TZID=Africa/Kampala:20241117T140000
DTSTAMP:20260420T132208
CREATED:20241004T083929Z
LAST-MODIFIED:20251204T132453Z
UID:13466-1731830400-1731852000@calvarykla.com
SUMMARY:Sunday Sermon Series
DESCRIPTION:New sermon series through the book of 1 & 2 Samuel. Every Sunday at 8am for Luganda and 10am & 12noon for English
URL:https://calvarykla.com/event/sunday-sermon-series-3/2024-11-17/
LOCATION:Calvary Chapel Kampala\, 41 William Street\, Kampala\, Kampala\, 256\, Uganda
CATEGORIES:Fellowships,Services
ATTACH;FMTTYPE=image/jpeg:https://calvarykla.com/wp-content/uploads/2024/10/SAMUEL-Study-Banner.jpg
END:VEVENT
BEGIN:VEVENT
DTSTART;TZID=Africa/Kampala:20241117T150000
DTEND;TZID=Africa/Kampala:20241117T170000
DTSTAMP:20260420T132208
CREATED:20231118T143922Z
LAST-MODIFIED:20231118T171246Z
UID:10794-1731855600-1731862800@calvarykla.com
SUMMARY:Kirundi Service
DESCRIPTION:Kirundi /Kinyarwanda service every Sunday starting at 3pm.
URL:https://calvarykla.com/event/kirundi-service/2024-11-17/
LOCATION:Calvary Chapel Kampala\, 41 William Street\, Kampala\, Kampala\, 256\, Uganda
CATEGORIES:Fellowships,Services
ATTACH;FMTTYPE=image/jpeg:https://calvarykla.com/wp-content/uploads/2023/11/Screen-Kir.jpg
END:VEVENT
BEGIN:VEVENT
DTSTART;TZID=Africa/Kampala:20241120T180000
DTEND;TZID=Africa/Kampala:20241120T193000
DTSTAMP:20260420T132208
CREATED:20240904T173617Z
LAST-MODIFIED:20250425T125207Z
UID:12459-1732125600-1732131000@calvarykla.com
SUMMARY:Midweek Study Series
DESCRIPTION:Midweek study series through the book of Proverbs
URL:https://calvarykla.com/event/midweek-study-series-2/2024-11-20/
LOCATION:Calvary Chapel Kampala\, 41 William Street\, Kampala\, Kampala\, 256\, Uganda
CATEGORIES:Fellowships,Services
ATTACH;FMTTYPE=image/jpeg:https://calvarykla.com/wp-content/uploads/2023/03/PROVERBS-Wednesday-study-web.jpg
END:VEVENT
BEGIN:VEVENT
DTSTART;TZID=Africa/Kampala:20241124T080000
DTEND;TZID=Africa/Kampala:20241124T140000
DTSTAMP:20260420T132208
CREATED:20241004T083929Z
LAST-MODIFIED:20251204T132518Z
UID:13467-1732435200-1732456800@calvarykla.com
SUMMARY:Sunday Sermon Series
DESCRIPTION:New sermon series through the book of 1 & 2 Samuel. Every Sunday at 8am for Luganda and 10am & 12noon for English
URL:https://calvarykla.com/event/sunday-sermon-series-3/2024-11-24/
LOCATION:Calvary Chapel Kampala\, 41 William Street\, Kampala\, Kampala\, 256\, Uganda
CATEGORIES:Fellowships,Services
ATTACH;FMTTYPE=image/jpeg:https://calvarykla.com/wp-content/uploads/2024/10/SAMUEL-Study-Banner.jpg
END:VEVENT
BEGIN:VEVENT
DTSTART;TZID=Africa/Kampala:20241124T150000
DTEND;TZID=Africa/Kampala:20241124T170000
DTSTAMP:20260420T132208
CREATED:20231118T143922Z
LAST-MODIFIED:20231118T171306Z
UID:10798-1732460400-1732467600@calvarykla.com
SUMMARY:Kirundi Service
DESCRIPTION:Kirundi /Kinyarwanda service every Sunday starting at 3pm.
URL:https://calvarykla.com/event/kirundi-service/2024-11-24/
LOCATION:Calvary Chapel Kampala\, 41 William Street\, Kampala\, Kampala\, 256\, Uganda
CATEGORIES:Fellowships,Services
ATTACH;FMTTYPE=image/jpeg:https://calvarykla.com/wp-content/uploads/2023/11/Screen-Kir.jpg
END:VEVENT
BEGIN:VEVENT
DTSTART;TZID=Africa/Kampala:20241201T080000
DTEND;TZID=Africa/Kampala:20241201T140000
DTSTAMP:20260420T132208
CREATED:20241004T083929Z
LAST-MODIFIED:20251204T132541Z
UID:13485-1733040000-1733061600@calvarykla.com
SUMMARY:Sunday Sermon Series
DESCRIPTION:New sermon series through the book of 1 & 2 Samuel. Every Sunday at 8am for Luganda and 10am & 12noon for English
URL:https://calvarykla.com/event/sunday-sermon-series-3/2024-12-01/
LOCATION:Calvary Chapel Kampala\, 41 William Street\, Kampala\, Kampala\, 256\, Uganda
CATEGORIES:Fellowships,Services
ATTACH;FMTTYPE=image/jpeg:https://calvarykla.com/wp-content/uploads/2024/10/SAMUEL-Study-Banner.jpg
END:VEVENT
BEGIN:VEVENT
DTSTART;TZID=Africa/Kampala:20241201T150000
DTEND;TZID=Africa/Kampala:20241201T170000
DTSTAMP:20260420T132208
CREATED:20231118T143922Z
LAST-MODIFIED:20231118T171329Z
UID:10801-1733065200-1733072400@calvarykla.com
SUMMARY:Kirundi Service
DESCRIPTION:Kirundi /Kinyarwanda service every Sunday starting at 3pm.
URL:https://calvarykla.com/event/kirundi-service/2024-12-01/
LOCATION:Calvary Chapel Kampala\, 41 William Street\, Kampala\, Kampala\, 256\, Uganda
CATEGORIES:Fellowships,Services
ATTACH;FMTTYPE=image/jpeg:https://calvarykla.com/wp-content/uploads/2023/11/Screen-Kir.jpg
END:VEVENT
BEGIN:VEVENT
DTSTART;TZID=Africa/Kampala:20241204T180000
DTEND;TZID=Africa/Kampala:20241204T193000
DTSTAMP:20260420T132208
CREATED:20240904T173617Z
LAST-MODIFIED:20250425T125215Z
UID:12461-1733335200-1733340600@calvarykla.com
SUMMARY:Midweek Study Series
DESCRIPTION:Midweek study series through the book of Proverbs
URL:https://calvarykla.com/event/midweek-study-series-2/2024-12-04/
LOCATION:Calvary Chapel Kampala\, 41 William Street\, Kampala\, Kampala\, 256\, Uganda
CATEGORIES:Fellowships,Services
ATTACH;FMTTYPE=image/jpeg:https://calvarykla.com/wp-content/uploads/2023/03/PROVERBS-Wednesday-study-web.jpg
END:VEVENT
BEGIN:VEVENT
DTSTART;TZID=Africa/Kampala:20241208T080000
DTEND;TZID=Africa/Kampala:20241208T140000
DTSTAMP:20260420T132208
CREATED:20241004T083929Z
LAST-MODIFIED:20251204T132602Z
UID:13486-1733644800-1733666400@calvarykla.com
SUMMARY:Sunday Sermon Series
DESCRIPTION:New sermon series through the book of 1 & 2 Samuel. Every Sunday at 8am for Luganda and 10am & 12noon for English
URL:https://calvarykla.com/event/sunday-sermon-series-3/2024-12-08/
LOCATION:Calvary Chapel Kampala\, 41 William Street\, Kampala\, Kampala\, 256\, Uganda
CATEGORIES:Fellowships,Services
ATTACH;FMTTYPE=image/jpeg:https://calvarykla.com/wp-content/uploads/2024/10/SAMUEL-Study-Banner.jpg
END:VEVENT
BEGIN:VEVENT
DTSTART;TZID=Africa/Kampala:20241208T150000
DTEND;TZID=Africa/Kampala:20241208T170000
DTSTAMP:20260420T132208
CREATED:20231118T143922Z
LAST-MODIFIED:20231118T171400Z
UID:10804-1733670000-1733677200@calvarykla.com
SUMMARY:Kirundi Service
DESCRIPTION:Kirundi /Kinyarwanda service every Sunday starting at 3pm.
URL:https://calvarykla.com/event/kirundi-service/2024-12-08/
LOCATION:Calvary Chapel Kampala\, 41 William Street\, Kampala\, Kampala\, 256\, Uganda
CATEGORIES:Fellowships,Services
ATTACH;FMTTYPE=image/jpeg:https://calvarykla.com/wp-content/uploads/2023/11/Screen-Kir.jpg
END:VEVENT
BEGIN:VEVENT
DTSTART;TZID=Africa/Kampala:20241211T180000
DTEND;TZID=Africa/Kampala:20241211T193000
DTSTAMP:20260420T132208
CREATED:20240904T173617Z
LAST-MODIFIED:20250425T125225Z
UID:12462-1733940000-1733945400@calvarykla.com
SUMMARY:Midweek Study Series
DESCRIPTION:Midweek study series through the book of Proverbs
URL:https://calvarykla.com/event/midweek-study-series-2/2024-12-11/
LOCATION:Calvary Chapel Kampala\, 41 William Street\, Kampala\, Kampala\, 256\, Uganda
CATEGORIES:Fellowships,Services
ATTACH;FMTTYPE=image/jpeg:https://calvarykla.com/wp-content/uploads/2023/03/PROVERBS-Wednesday-study-web.jpg
END:VEVENT
BEGIN:VEVENT
DTSTART;TZID=Africa/Kampala:20241215T080000
DTEND;TZID=Africa/Kampala:20241215T140000
DTSTAMP:20260420T132208
CREATED:20241004T083929Z
LAST-MODIFIED:20251204T132634Z
UID:13487-1734249600-1734271200@calvarykla.com
SUMMARY:Sunday Sermon Series
DESCRIPTION:New sermon series through the book of 1 & 2 Samuel. Every Sunday at 8am for Luganda and 10am & 12noon for English
URL:https://calvarykla.com/event/sunday-sermon-series-3/2024-12-15/
LOCATION:Calvary Chapel Kampala\, 41 William Street\, Kampala\, Kampala\, 256\, Uganda
CATEGORIES:Fellowships,Services
ATTACH;FMTTYPE=image/jpeg:https://calvarykla.com/wp-content/uploads/2024/10/SAMUEL-Study-Banner.jpg
END:VEVENT
BEGIN:VEVENT
DTSTART;TZID=Africa/Kampala:20241215T150000
DTEND;TZID=Africa/Kampala:20241215T170000
DTSTAMP:20260420T132208
CREATED:20231118T143922Z
LAST-MODIFIED:20231118T171425Z
UID:10806-1734274800-1734282000@calvarykla.com
SUMMARY:Kirundi Service
DESCRIPTION:Kirundi /Kinyarwanda service every Sunday starting at 3pm.
URL:https://calvarykla.com/event/kirundi-service/2024-12-15/
LOCATION:Calvary Chapel Kampala\, 41 William Street\, Kampala\, Kampala\, 256\, Uganda
CATEGORIES:Fellowships,Services
ATTACH;FMTTYPE=image/jpeg:https://calvarykla.com/wp-content/uploads/2023/11/Screen-Kir.jpg
END:VEVENT
BEGIN:VEVENT
DTSTART;TZID=Africa/Kampala:20241218T180000
DTEND;TZID=Africa/Kampala:20241218T193000
DTSTAMP:20260420T132208
CREATED:20240904T173617Z
LAST-MODIFIED:20250425T125237Z
UID:12464-1734544800-1734550200@calvarykla.com
SUMMARY:Midweek Study Series
DESCRIPTION:Midweek study series through the book of Proverbs
URL:https://calvarykla.com/event/midweek-study-series-2/2024-12-18/
LOCATION:Calvary Chapel Kampala\, 41 William Street\, Kampala\, Kampala\, 256\, Uganda
CATEGORIES:Fellowships,Services
ATTACH;FMTTYPE=image/jpeg:https://calvarykla.com/wp-content/uploads/2023/03/PROVERBS-Wednesday-study-web.jpg
END:VEVENT
BEGIN:VEVENT
DTSTART;TZID=Africa/Kampala:20241222T080000
DTEND;TZID=Africa/Kampala:20241222T140000
DTSTAMP:20260420T132208
CREATED:20241004T083929Z
LAST-MODIFIED:20251204T132710Z
UID:13488-1734854400-1734876000@calvarykla.com
SUMMARY:Sunday Sermon Series
DESCRIPTION:New sermon series through the book of 1 & 2 Samuel. Every Sunday at 8am for Luganda and 10am & 12noon for English
URL:https://calvarykla.com/event/sunday-sermon-series-3/2024-12-22/
LOCATION:Calvary Chapel Kampala\, 41 William Street\, Kampala\, Kampala\, 256\, Uganda
CATEGORIES:Fellowships,Services
ATTACH;FMTTYPE=image/jpeg:https://calvarykla.com/wp-content/uploads/2024/10/SAMUEL-Study-Banner.jpg
END:VEVENT
BEGIN:VEVENT
DTSTART;TZID=Africa/Kampala:20241222T150000
DTEND;TZID=Africa/Kampala:20241222T170000
DTSTAMP:20260420T132208
CREATED:20231118T143922Z
LAST-MODIFIED:20231118T171451Z
UID:10809-1734879600-1734886800@calvarykla.com
SUMMARY:Kirundi Service
DESCRIPTION:Kirundi /Kinyarwanda service every Sunday starting at 3pm.
URL:https://calvarykla.com/event/kirundi-service/2024-12-22/
LOCATION:Calvary Chapel Kampala\, 41 William Street\, Kampala\, Kampala\, 256\, Uganda
CATEGORIES:Fellowships,Services
ATTACH;FMTTYPE=image/jpeg:https://calvarykla.com/wp-content/uploads/2023/11/Screen-Kir.jpg
END:VEVENT
BEGIN:VEVENT
DTSTART;TZID=Africa/Kampala:20241229T080000
DTEND;TZID=Africa/Kampala:20241229T140000
DTSTAMP:20260420T132208
CREATED:20241004T083929Z
LAST-MODIFIED:20251204T132719Z
UID:13489-1735459200-1735480800@calvarykla.com
SUMMARY:Sunday Sermon Series
DESCRIPTION:New sermon series through the book of 1 & 2 Samuel. Every Sunday at 8am for Luganda and 10am & 12noon for English
URL:https://calvarykla.com/event/sunday-sermon-series-3/2024-12-29/
LOCATION:Calvary Chapel Kampala\, 41 William Street\, Kampala\, Kampala\, 256\, Uganda
CATEGORIES:Fellowships,Services
ATTACH;FMTTYPE=image/jpeg:https://calvarykla.com/wp-content/uploads/2024/10/SAMUEL-Study-Banner.jpg
END:VEVENT
BEGIN:VEVENT
DTSTART;TZID=Africa/Kampala:20241229T150000
DTEND;TZID=Africa/Kampala:20241229T170000
DTSTAMP:20260420T132208
CREATED:20231118T143922Z
LAST-MODIFIED:20231118T171513Z
UID:10812-1735484400-1735491600@calvarykla.com
SUMMARY:Kirundi Service
DESCRIPTION:Kirundi /Kinyarwanda service every Sunday starting at 3pm.
URL:https://calvarykla.com/event/kirundi-service/2024-12-29/
LOCATION:Calvary Chapel Kampala\, 41 William Street\, Kampala\, Kampala\, 256\, Uganda
CATEGORIES:Fellowships,Services
ATTACH;FMTTYPE=image/jpeg:https://calvarykla.com/wp-content/uploads/2023/11/Screen-Kir.jpg
END:VEVENT
BEGIN:VEVENT
DTSTART;TZID=Africa/Kampala:20250101T180000
DTEND;TZID=Africa/Kampala:20250101T193000
DTSTAMP:20260420T132208
CREATED:20240904T173617Z
LAST-MODIFIED:20250425T125246Z
UID:12467-1735754400-1735759800@calvarykla.com
SUMMARY:Midweek Study Series
DESCRIPTION:Midweek study series through the book of Proverbs
URL:https://calvarykla.com/event/midweek-study-series-2/2025-01-01/
LOCATION:Calvary Chapel Kampala\, 41 William Street\, Kampala\, Kampala\, 256\, Uganda
CATEGORIES:Fellowships,Services
ATTACH;FMTTYPE=image/jpeg:https://calvarykla.com/wp-content/uploads/2023/03/PROVERBS-Wednesday-study-web.jpg
END:VEVENT
BEGIN:VEVENT
DTSTART;TZID=Africa/Kampala:20250105T080000
DTEND;TZID=Africa/Kampala:20250105T140000
DTSTAMP:20260420T132208
CREATED:20241004T083929Z
LAST-MODIFIED:20251204T132731Z
UID:13490-1736064000-1736085600@calvarykla.com
SUMMARY:Sunday Sermon Series
DESCRIPTION:New sermon series through the book of 1 & 2 Samuel. Every Sunday at 8am for Luganda and 10am & 12noon for English
URL:https://calvarykla.com/event/sunday-sermon-series-3/2025-01-05/
LOCATION:Calvary Chapel Kampala\, 41 William Street\, Kampala\, Kampala\, 256\, Uganda
CATEGORIES:Fellowships,Services
ATTACH;FMTTYPE=image/jpeg:https://calvarykla.com/wp-content/uploads/2024/10/SAMUEL-Study-Banner.jpg
END:VEVENT
BEGIN:VEVENT
DTSTART;TZID=Africa/Kampala:20250105T150000
DTEND;TZID=Africa/Kampala:20250105T170000
DTSTAMP:20260420T132208
CREATED:20231118T143922Z
LAST-MODIFIED:20231118T171533Z
UID:10815-1736089200-1736096400@calvarykla.com
SUMMARY:Kirundi Service
DESCRIPTION:Kirundi /Kinyarwanda service every Sunday starting at 3pm.
URL:https://calvarykla.com/event/kirundi-service/2025-01-05/
LOCATION:Calvary Chapel Kampala\, 41 William Street\, Kampala\, Kampala\, 256\, Uganda
CATEGORIES:Fellowships,Services
ATTACH;FMTTYPE=image/jpeg:https://calvarykla.com/wp-content/uploads/2023/11/Screen-Kir.jpg
END:VEVENT
BEGIN:VEVENT
DTSTART;TZID=Africa/Kampala:20250108T180000
DTEND;TZID=Africa/Kampala:20250108T193000
DTSTAMP:20260420T132208
CREATED:20240904T173617Z
LAST-MODIFIED:20250425T125256Z
UID:12468-1736359200-1736364600@calvarykla.com
SUMMARY:Midweek Study Series
DESCRIPTION:Midweek study series through the book of Proverbs
URL:https://calvarykla.com/event/midweek-study-series-2/2025-01-08/
LOCATION:Calvary Chapel Kampala\, 41 William Street\, Kampala\, Kampala\, 256\, Uganda
CATEGORIES:Fellowships,Services
ATTACH;FMTTYPE=image/jpeg:https://calvarykla.com/wp-content/uploads/2023/03/PROVERBS-Wednesday-study-web.jpg
END:VEVENT
END:VCALENDAR