BEGIN:VCALENDAR
VERSION:2.0
PRODID:-//Calvary Chapel Kampala - ECPv5.16.3.1//NONSGML v1.0//EN
CALSCALE:GREGORIAN
METHOD:PUBLISH
X-ORIGINAL-URL:https://calvarykla.com
X-WR-CALDESC:Events for Calvary Chapel Kampala
REFRESH-INTERVAL;VALUE=DURATION:PT1H
X-Robots-Tag:noindex
X-PUBLISHED-TTL:PT1H
BEGIN:VTIMEZONE
TZID:Africa/Kampala
BEGIN:STANDARD
TZOFFSETFROM:+0300
TZOFFSETTO:+0300
TZNAME:EAT
DTSTART:20250101T000000
END:STANDARD
END:VTIMEZONE
BEGIN:VEVENT
DTSTART;TZID=Africa/Kampala:20251205T160000
DTEND;TZID=Africa/Kampala:20251205T173000
DTSTAMP:20260420T105735
CREATED:20231118T132224Z
LAST-MODIFIED:20251204T132318Z
UID:11937-1764950400-1764955800@calvarykla.com
SUMMARY:Missions
DESCRIPTION:Evangelism on the streets of Kampala
URL:https://calvarykla.com/event/missions-2/2025-12-05/
LOCATION:Calvary Chapel Kampala\, 41 William Street\, Kampala\, Kampala\, 256\, Uganda
CATEGORIES:Outreaches
ATTACH;FMTTYPE=image/png:https://calvarykla.com/wp-content/uploads/2023/11/Missions.png
END:VEVENT
BEGIN:VEVENT
DTSTART;TZID=Africa/Kampala:20251206T080000
DTEND;TZID=Africa/Kampala:20251206T120000
DTSTAMP:20260420T105735
CREATED:20231119T084917Z
LAST-MODIFIED:20231119T084917Z
UID:11938-1765008000-1765022400@calvarykla.com
SUMMARY:Frontline Ministry
DESCRIPTION:Our ministry to street children
URL:https://calvarykla.com/event/frontline-ministry/2025-12-06/
LOCATION:Calvary Chapel Kampala\, 41 William Street\, Kampala\, Kampala\, 256\, Uganda
CATEGORIES:Outreaches
ATTACH;FMTTYPE=image/jpeg:https://calvarykla.com/wp-content/uploads/2023/11/Frontline.jpg
END:VEVENT
BEGIN:VEVENT
DTSTART;TZID=Africa/Kampala:20251211T080000
DTEND;TZID=Africa/Kampala:20251211T170000
DTSTAMP:20260420T105735
CREATED:20251204T110157Z
LAST-MODIFIED:20251204T124259Z
UID:14653-1765440000-1765472400@calvarykla.com
SUMMARY:Mission trip to Buikwe
DESCRIPTION:Mission trip to Ssi Buikwe
URL:https://calvarykla.com/event/mission-trip-to-buikwe/2025-12-11/
LOCATION:Buikwe\, Ssi\, Uganda
CATEGORIES:Outreaches
ATTACH;FMTTYPE=image/jpeg:https://calvarykla.com/wp-content/uploads/2025/12/Mission-trip.jpg
END:VEVENT
BEGIN:VEVENT
DTSTART;TZID=Africa/Kampala:20251212T080000
DTEND;TZID=Africa/Kampala:20251212T170000
DTSTAMP:20260420T105735
CREATED:20251204T110157Z
LAST-MODIFIED:20251204T110157Z
UID:14704-1765526400-1765558800@calvarykla.com
SUMMARY:Mission trip to Buikwe
DESCRIPTION:Mission trip to Ssi Buikwe
URL:https://calvarykla.com/event/mission-trip-to-buikwe/2025-12-12/
LOCATION:Buikwe\, Ssi\, Uganda
CATEGORIES:Outreaches
ATTACH;FMTTYPE=image/jpeg:https://calvarykla.com/wp-content/uploads/2025/12/Mission-trip.jpg
END:VEVENT
BEGIN:VEVENT
DTSTART;TZID=Africa/Kampala:20251213T080000
DTEND;TZID=Africa/Kampala:20251213T120000
DTSTAMP:20260420T105735
CREATED:20231119T084917Z
LAST-MODIFIED:20231119T084917Z
UID:11947-1765612800-1765627200@calvarykla.com
SUMMARY:Frontline Ministry
DESCRIPTION:Our ministry to street children
URL:https://calvarykla.com/event/frontline-ministry/2025-12-13/
LOCATION:Calvary Chapel Kampala\, 41 William Street\, Kampala\, Kampala\, 256\, Uganda
CATEGORIES:Outreaches
ATTACH;FMTTYPE=image/jpeg:https://calvarykla.com/wp-content/uploads/2023/11/Frontline.jpg
END:VEVENT
BEGIN:VEVENT
DTSTART;TZID=Africa/Kampala:20251213T080000
DTEND;TZID=Africa/Kampala:20251213T170000
DTSTAMP:20260420T105735
CREATED:20251204T110157Z
LAST-MODIFIED:20251204T110157Z
UID:14706-1765612800-1765645200@calvarykla.com
SUMMARY:Mission trip to Buikwe
DESCRIPTION:Mission trip to Ssi Buikwe
URL:https://calvarykla.com/event/mission-trip-to-buikwe/2025-12-13/
LOCATION:Buikwe\, Ssi\, Uganda
CATEGORIES:Outreaches
ATTACH;FMTTYPE=image/jpeg:https://calvarykla.com/wp-content/uploads/2025/12/Mission-trip.jpg
END:VEVENT
BEGIN:VEVENT
DTSTART;TZID=Africa/Kampala:20251214T080000
DTEND;TZID=Africa/Kampala:20251214T170000
DTSTAMP:20260420T105735
CREATED:20251204T110157Z
LAST-MODIFIED:20251204T110157Z
UID:14707-1765699200-1765731600@calvarykla.com
SUMMARY:Mission trip to Buikwe
DESCRIPTION:Mission trip to Ssi Buikwe
URL:https://calvarykla.com/event/mission-trip-to-buikwe/2025-12-14/
LOCATION:Buikwe\, Ssi\, Uganda
CATEGORIES:Outreaches
ATTACH;FMTTYPE=image/jpeg:https://calvarykla.com/wp-content/uploads/2025/12/Mission-trip.jpg
END:VEVENT
BEGIN:VEVENT
DTSTART;TZID=Africa/Kampala:20251219T160000
DTEND;TZID=Africa/Kampala:20251219T173000
DTSTAMP:20260420T105735
CREATED:20231118T132224Z
LAST-MODIFIED:20231118T132224Z
UID:14741-1766160000-1766165400@calvarykla.com
SUMMARY:Missions
DESCRIPTION:Evangelism on the streets of Kampala
URL:https://calvarykla.com/event/missions-2/2025-12-19/
LOCATION:Calvary Chapel Kampala\, 41 William Street\, Kampala\, Kampala\, 256\, Uganda
CATEGORIES:Outreaches
ATTACH;FMTTYPE=image/png:https://calvarykla.com/wp-content/uploads/2023/11/Missions.png
END:VEVENT
BEGIN:VEVENT
DTSTART;TZID=Africa/Kampala:20251220T080000
DTEND;TZID=Africa/Kampala:20251220T120000
DTSTAMP:20260420T105735
CREATED:20231119T084917Z
LAST-MODIFIED:20231119T084917Z
UID:11956-1766217600-1766232000@calvarykla.com
SUMMARY:Frontline Ministry
DESCRIPTION:Our ministry to street children
URL:https://calvarykla.com/event/frontline-ministry/2025-12-20/
LOCATION:Calvary Chapel Kampala\, 41 William Street\, Kampala\, Kampala\, 256\, Uganda
CATEGORIES:Outreaches
ATTACH;FMTTYPE=image/jpeg:https://calvarykla.com/wp-content/uploads/2023/11/Frontline.jpg
END:VEVENT
BEGIN:VEVENT
DTSTART;TZID=Africa/Kampala:20251226T160000
DTEND;TZID=Africa/Kampala:20251226T173000
DTSTAMP:20260420T105735
CREATED:20231118T130931Z
LAST-MODIFIED:20231118T130931Z
UID:11964-1766764800-1766770200@calvarykla.com
SUMMARY:Missions
DESCRIPTION:Fellowship and follow-up on the month’s activities.
URL:https://calvarykla.com/event/missions/2025-12-26/
LOCATION:Calvary Chapel Kampala\, 41 William Street\, Kampala\, Kampala\, 256\, Uganda
CATEGORIES:Fellowships,Outreaches
ATTACH;FMTTYPE=image/png:https://calvarykla.com/wp-content/uploads/2023/11/Missions.png
END:VEVENT
BEGIN:VEVENT
DTSTART;TZID=Africa/Kampala:20251227T080000
DTEND;TZID=Africa/Kampala:20251227T120000
DTSTAMP:20260420T105735
CREATED:20231119T084917Z
LAST-MODIFIED:20231119T084917Z
UID:11965-1766822400-1766836800@calvarykla.com
SUMMARY:Frontline Ministry
DESCRIPTION:Our ministry to street children
URL:https://calvarykla.com/event/frontline-ministry/2025-12-27/
LOCATION:Calvary Chapel Kampala\, 41 William Street\, Kampala\, Kampala\, 256\, Uganda
CATEGORIES:Outreaches
ATTACH;FMTTYPE=image/jpeg:https://calvarykla.com/wp-content/uploads/2023/11/Frontline.jpg
END:VEVENT
BEGIN:VEVENT
DTSTART;TZID=Africa/Kampala:20260102T160000
DTEND;TZID=Africa/Kampala:20260102T173000
DTSTAMP:20260420T105735
CREATED:20231118T132224Z
LAST-MODIFIED:20251204T132332Z
UID:11973-1767369600-1767375000@calvarykla.com
SUMMARY:Missions
DESCRIPTION:Evangelism on the streets of Kampala
URL:https://calvarykla.com/event/missions-2/2026-01-02/
LOCATION:Calvary Chapel Kampala\, 41 William Street\, Kampala\, Kampala\, 256\, Uganda
CATEGORIES:Outreaches
ATTACH;FMTTYPE=image/png:https://calvarykla.com/wp-content/uploads/2023/11/Missions.png
END:VEVENT
BEGIN:VEVENT
DTSTART;TZID=Africa/Kampala:20260103T080000
DTEND;TZID=Africa/Kampala:20260103T120000
DTSTAMP:20260420T105735
CREATED:20231119T084917Z
LAST-MODIFIED:20231119T084917Z
UID:11977-1767427200-1767441600@calvarykla.com
SUMMARY:Frontline Ministry
DESCRIPTION:Our ministry to street children
URL:https://calvarykla.com/event/frontline-ministry/2026-01-03/
LOCATION:Calvary Chapel Kampala\, 41 William Street\, Kampala\, Kampala\, 256\, Uganda
CATEGORIES:Outreaches
ATTACH;FMTTYPE=image/jpeg:https://calvarykla.com/wp-content/uploads/2023/11/Frontline.jpg
END:VEVENT
BEGIN:VEVENT
DTSTART;TZID=Africa/Kampala:20260109T160000
DTEND;TZID=Africa/Kampala:20260109T173000
DTSTAMP:20260420T105735
CREATED:20231118T132224Z
LAST-MODIFIED:20251204T132354Z
UID:11985-1767974400-1767979800@calvarykla.com
SUMMARY:Missions
DESCRIPTION:Evangelism on the streets of Kampala
URL:https://calvarykla.com/event/missions-2/2026-01-09/
LOCATION:Calvary Chapel Kampala\, 41 William Street\, Kampala\, Kampala\, 256\, Uganda
CATEGORIES:Outreaches
ATTACH;FMTTYPE=image/png:https://calvarykla.com/wp-content/uploads/2023/11/Missions.png
END:VEVENT
BEGIN:VEVENT
DTSTART;TZID=Africa/Kampala:20260110T080000
DTEND;TZID=Africa/Kampala:20260110T120000
DTSTAMP:20260420T105735
CREATED:20231119T084917Z
LAST-MODIFIED:20231119T084917Z
UID:11986-1768032000-1768046400@calvarykla.com
SUMMARY:Frontline Ministry
DESCRIPTION:Our ministry to street children
URL:https://calvarykla.com/event/frontline-ministry/2026-01-10/
LOCATION:Calvary Chapel Kampala\, 41 William Street\, Kampala\, Kampala\, 256\, Uganda
CATEGORIES:Outreaches
ATTACH;FMTTYPE=image/jpeg:https://calvarykla.com/wp-content/uploads/2023/11/Frontline.jpg
END:VEVENT
BEGIN:VEVENT
DTSTART;TZID=Africa/Kampala:20260116T160000
DTEND;TZID=Africa/Kampala:20260116T173000
DTSTAMP:20260420T105735
CREATED:20231118T132224Z
LAST-MODIFIED:20251204T132411Z
UID:11994-1768579200-1768584600@calvarykla.com
SUMMARY:Missions
DESCRIPTION:Evangelism on the streets of Kampala
URL:https://calvarykla.com/event/missions-2/2026-01-16/
LOCATION:Calvary Chapel Kampala\, 41 William Street\, Kampala\, Kampala\, 256\, Uganda
CATEGORIES:Outreaches
ATTACH;FMTTYPE=image/png:https://calvarykla.com/wp-content/uploads/2023/11/Missions.png
END:VEVENT
BEGIN:VEVENT
DTSTART;TZID=Africa/Kampala:20260117T080000
DTEND;TZID=Africa/Kampala:20260117T120000
DTSTAMP:20260420T105735
CREATED:20231119T084917Z
LAST-MODIFIED:20231119T084917Z
UID:11995-1768636800-1768651200@calvarykla.com
SUMMARY:Frontline Ministry
DESCRIPTION:Our ministry to street children
URL:https://calvarykla.com/event/frontline-ministry/2026-01-17/
LOCATION:Calvary Chapel Kampala\, 41 William Street\, Kampala\, Kampala\, 256\, Uganda
CATEGORIES:Outreaches
ATTACH;FMTTYPE=image/jpeg:https://calvarykla.com/wp-content/uploads/2023/11/Frontline.jpg
END:VEVENT
BEGIN:VEVENT
DTSTART;TZID=Africa/Kampala:20260123T160000
DTEND;TZID=Africa/Kampala:20260123T173000
DTSTAMP:20260420T105735
CREATED:20231118T132224Z
LAST-MODIFIED:20251204T132428Z
UID:12003-1769184000-1769189400@calvarykla.com
SUMMARY:Missions
DESCRIPTION:Evangelism on the streets of Kampala
URL:https://calvarykla.com/event/missions-2/2026-01-23/
LOCATION:Calvary Chapel Kampala\, 41 William Street\, Kampala\, Kampala\, 256\, Uganda
CATEGORIES:Outreaches
ATTACH;FMTTYPE=image/png:https://calvarykla.com/wp-content/uploads/2023/11/Missions.png
END:VEVENT
BEGIN:VEVENT
DTSTART;TZID=Africa/Kampala:20260124T080000
DTEND;TZID=Africa/Kampala:20260124T120000
DTSTAMP:20260420T105735
CREATED:20231119T084917Z
LAST-MODIFIED:20231119T084917Z
UID:12004-1769241600-1769256000@calvarykla.com
SUMMARY:Frontline Ministry
DESCRIPTION:Our ministry to street children
URL:https://calvarykla.com/event/frontline-ministry/2026-01-24/
LOCATION:Calvary Chapel Kampala\, 41 William Street\, Kampala\, Kampala\, 256\, Uganda
CATEGORIES:Outreaches
ATTACH;FMTTYPE=image/jpeg:https://calvarykla.com/wp-content/uploads/2023/11/Frontline.jpg
END:VEVENT
BEGIN:VEVENT
DTSTART;TZID=Africa/Kampala:20260130T160000
DTEND;TZID=Africa/Kampala:20260130T173000
DTSTAMP:20260420T105735
CREATED:20231118T130931Z
LAST-MODIFIED:20231118T130931Z
UID:12012-1769788800-1769794200@calvarykla.com
SUMMARY:Missions
DESCRIPTION:Fellowship and follow-up on the month’s activities.
URL:https://calvarykla.com/event/missions/2026-01-30/
LOCATION:Calvary Chapel Kampala\, 41 William Street\, Kampala\, Kampala\, 256\, Uganda
CATEGORIES:Fellowships,Outreaches
ATTACH;FMTTYPE=image/png:https://calvarykla.com/wp-content/uploads/2023/11/Missions.png
END:VEVENT
BEGIN:VEVENT
DTSTART;TZID=Africa/Kampala:20260206T160000
DTEND;TZID=Africa/Kampala:20260206T173000
DTSTAMP:20260420T105735
CREATED:20231118T132224Z
LAST-MODIFIED:20251204T132449Z
UID:12021-1770393600-1770399000@calvarykla.com
SUMMARY:Missions
DESCRIPTION:Evangelism on the streets of Kampala
URL:https://calvarykla.com/event/missions-2/2026-02-06/
LOCATION:Calvary Chapel Kampala\, 41 William Street\, Kampala\, Kampala\, 256\, Uganda
CATEGORIES:Outreaches
ATTACH;FMTTYPE=image/png:https://calvarykla.com/wp-content/uploads/2023/11/Missions.png
END:VEVENT
BEGIN:VEVENT
DTSTART;TZID=Africa/Kampala:20260207T080000
DTEND;TZID=Africa/Kampala:20260207T120000
DTSTAMP:20260420T105735
CREATED:20231119T084917Z
LAST-MODIFIED:20231119T084917Z
UID:12022-1770451200-1770465600@calvarykla.com
SUMMARY:Frontline Ministry
DESCRIPTION:Our ministry to street children
URL:https://calvarykla.com/event/frontline-ministry/2026-02-07/
LOCATION:Calvary Chapel Kampala\, 41 William Street\, Kampala\, Kampala\, 256\, Uganda
CATEGORIES:Outreaches
ATTACH;FMTTYPE=image/jpeg:https://calvarykla.com/wp-content/uploads/2023/11/Frontline.jpg
END:VEVENT
BEGIN:VEVENT
DTSTART;TZID=Africa/Kampala:20260213T160000
DTEND;TZID=Africa/Kampala:20260213T173000
DTSTAMP:20260420T105735
CREATED:20231118T132224Z
LAST-MODIFIED:20251204T132513Z
UID:12040-1770998400-1771003800@calvarykla.com
SUMMARY:Missions
DESCRIPTION:Evangelism on the streets of Kampala
URL:https://calvarykla.com/event/missions-2/2026-02-13/
LOCATION:Calvary Chapel Kampala\, 41 William Street\, Kampala\, Kampala\, 256\, Uganda
CATEGORIES:Outreaches
ATTACH;FMTTYPE=image/png:https://calvarykla.com/wp-content/uploads/2023/11/Missions.png
END:VEVENT
BEGIN:VEVENT
DTSTART;TZID=Africa/Kampala:20260214T080000
DTEND;TZID=Africa/Kampala:20260214T120000
DTSTAMP:20260420T105735
CREATED:20231119T084917Z
LAST-MODIFIED:20231119T084917Z
UID:12041-1771056000-1771070400@calvarykla.com
SUMMARY:Frontline Ministry
DESCRIPTION:Our ministry to street children
URL:https://calvarykla.com/event/frontline-ministry/2026-02-14/
LOCATION:Calvary Chapel Kampala\, 41 William Street\, Kampala\, Kampala\, 256\, Uganda
CATEGORIES:Outreaches
ATTACH;FMTTYPE=image/jpeg:https://calvarykla.com/wp-content/uploads/2023/11/Frontline.jpg
END:VEVENT
BEGIN:VEVENT
DTSTART;TZID=Africa/Kampala:20260220T160000
DTEND;TZID=Africa/Kampala:20260220T173000
DTSTAMP:20260420T105735
CREATED:20231118T132224Z
LAST-MODIFIED:20251204T132533Z
UID:12050-1771603200-1771608600@calvarykla.com
SUMMARY:Missions
DESCRIPTION:Evangelism on the streets of Kampala
URL:https://calvarykla.com/event/missions-2/2026-02-20/
LOCATION:Calvary Chapel Kampala\, 41 William Street\, Kampala\, Kampala\, 256\, Uganda
CATEGORIES:Outreaches
ATTACH;FMTTYPE=image/png:https://calvarykla.com/wp-content/uploads/2023/11/Missions.png
END:VEVENT
BEGIN:VEVENT
DTSTART;TZID=Africa/Kampala:20260221T080000
DTEND;TZID=Africa/Kampala:20260221T120000
DTSTAMP:20260420T105735
CREATED:20231119T084917Z
LAST-MODIFIED:20231119T084917Z
UID:12051-1771660800-1771675200@calvarykla.com
SUMMARY:Frontline Ministry
DESCRIPTION:Our ministry to street children
URL:https://calvarykla.com/event/frontline-ministry/2026-02-21/
LOCATION:Calvary Chapel Kampala\, 41 William Street\, Kampala\, Kampala\, 256\, Uganda
CATEGORIES:Outreaches
ATTACH;FMTTYPE=image/jpeg:https://calvarykla.com/wp-content/uploads/2023/11/Frontline.jpg
END:VEVENT
BEGIN:VEVENT
DTSTART;TZID=Africa/Kampala:20260227T160000
DTEND;TZID=Africa/Kampala:20260227T173000
DTSTAMP:20260420T105735
CREATED:20231118T130931Z
LAST-MODIFIED:20231118T130931Z
UID:12059-1772208000-1772213400@calvarykla.com
SUMMARY:Missions
DESCRIPTION:Fellowship and follow-up on the month’s activities.
URL:https://calvarykla.com/event/missions/2026-02-27/
LOCATION:Calvary Chapel Kampala\, 41 William Street\, Kampala\, Kampala\, 256\, Uganda
CATEGORIES:Fellowships,Outreaches
ATTACH;FMTTYPE=image/png:https://calvarykla.com/wp-content/uploads/2023/11/Missions.png
END:VEVENT
BEGIN:VEVENT
DTSTART;TZID=Africa/Kampala:20260228T080000
DTEND;TZID=Africa/Kampala:20260228T120000
DTSTAMP:20260420T105735
CREATED:20231119T084917Z
LAST-MODIFIED:20231119T084917Z
UID:12060-1772265600-1772280000@calvarykla.com
SUMMARY:Frontline Ministry
DESCRIPTION:Our ministry to street children
URL:https://calvarykla.com/event/frontline-ministry/2026-02-28/
LOCATION:Calvary Chapel Kampala\, 41 William Street\, Kampala\, Kampala\, 256\, Uganda
CATEGORIES:Outreaches
ATTACH;FMTTYPE=image/jpeg:https://calvarykla.com/wp-content/uploads/2023/11/Frontline.jpg
END:VEVENT
BEGIN:VEVENT
DTSTART;TZID=Africa/Kampala:20260306T160000
DTEND;TZID=Africa/Kampala:20260306T173000
DTSTAMP:20260420T105735
CREATED:20231118T132224Z
LAST-MODIFIED:20251204T132557Z
UID:12068-1772812800-1772818200@calvarykla.com
SUMMARY:Missions
DESCRIPTION:Evangelism on the streets of Kampala
URL:https://calvarykla.com/event/missions-2/2026-03-06/
LOCATION:Calvary Chapel Kampala\, 41 William Street\, Kampala\, Kampala\, 256\, Uganda
CATEGORIES:Outreaches
ATTACH;FMTTYPE=image/png:https://calvarykla.com/wp-content/uploads/2023/11/Missions.png
END:VEVENT
BEGIN:VEVENT
DTSTART;TZID=Africa/Kampala:20260307T080000
DTEND;TZID=Africa/Kampala:20260307T120000
DTSTAMP:20260420T105735
CREATED:20231119T084917Z
LAST-MODIFIED:20231119T084917Z
UID:12069-1772870400-1772884800@calvarykla.com
SUMMARY:Frontline Ministry
DESCRIPTION:Our ministry to street children
URL:https://calvarykla.com/event/frontline-ministry/2026-03-07/
LOCATION:Calvary Chapel Kampala\, 41 William Street\, Kampala\, Kampala\, 256\, Uganda
CATEGORIES:Outreaches
ATTACH;FMTTYPE=image/jpeg:https://calvarykla.com/wp-content/uploads/2023/11/Frontline.jpg
END:VEVENT
END:VCALENDAR