BEGIN:VCALENDAR
VERSION:2.0
PRODID:-//Calvary Chapel Kampala - ECPv5.16.3.1//NONSGML v1.0//EN
CALSCALE:GREGORIAN
METHOD:PUBLISH
X-WR-CALNAME:Calvary Chapel Kampala
X-ORIGINAL-URL:https://calvarykla.com
X-WR-CALDESC:Events for Calvary Chapel Kampala
REFRESH-INTERVAL;VALUE=DURATION:PT1H
X-Robots-Tag:noindex
X-PUBLISHED-TTL:PT1H
BEGIN:VTIMEZONE
TZID:Africa/Kampala
BEGIN:STANDARD
TZOFFSETFROM:+0300
TZOFFSETTO:+0300
TZNAME:EAT
DTSTART:20240101T000000
END:STANDARD
END:VTIMEZONE
BEGIN:VEVENT
DTSTART;TZID=Africa/Kampala:20240910T170000
DTEND;TZID=Africa/Kampala:20240910T190000
DTSTAMP:20260420T111711
CREATED:20231118T141936Z
LAST-MODIFIED:20241001T101106Z
UID:10480-1725987600-1725994800@calvarykla.com
SUMMARY:Men's Fellowship
DESCRIPTION:Men’s study through the book of Genesis
URL:https://calvarykla.com/event/mens-fellowship-2/2024-09-10/
LOCATION:Calvary Chapel Kampala\, 41 William Street\, Kampala\, Kampala\, 256\, Uganda
CATEGORIES:Fellowships
ATTACH;FMTTYPE=image/png:https://calvarykla.com/wp-content/uploads/2023/11/Men.png
END:VEVENT
BEGIN:VEVENT
DTSTART;TZID=Africa/Kampala:20240910T180000
DTEND;TZID=Africa/Kampala:20240910T193000
DTSTAMP:20260420T111711
CREATED:20231118T142658Z
LAST-MODIFIED:20240924T100553Z
UID:10910-1725991200-1725996600@calvarykla.com
SUMMARY:Women's Fellowship
DESCRIPTION:Every Tuesday at 6pm. Currently going through a book called Lies Women Believe: And the Truth that Sets Them Free by Dana Gresh and Nancy DeMoss Wolgemuth
URL:https://calvarykla.com/event/womens-fellowship/2024-09-10/
LOCATION:Calvary Chapel Kampala\, 41 William Street\, Kampala\, Kampala\, 256\, Uganda
CATEGORIES:Fellowships
ATTACH;FMTTYPE=image/jpeg:https://calvarykla.com/wp-content/uploads/2023/11/Ladies-Study.jpg
END:VEVENT
END:VCALENDAR