BEGIN:VCALENDAR
VERSION:2.0
PRODID:-//Calvary Chapel Kampala - ECPv5.16.3.1//NONSGML v1.0//EN
CALSCALE:GREGORIAN
METHOD:PUBLISH
X-ORIGINAL-URL:https://calvarykla.com
X-WR-CALDESC:Events for Calvary Chapel Kampala
REFRESH-INTERVAL;VALUE=DURATION:PT1H
X-Robots-Tag:noindex
X-PUBLISHED-TTL:PT1H
BEGIN:VTIMEZONE
TZID:Africa/Kampala
BEGIN:STANDARD
TZOFFSETFROM:+0300
TZOFFSETTO:+0300
TZNAME:EAT
DTSTART:20240101T000000
END:STANDARD
END:VTIMEZONE
BEGIN:VEVENT
DTSTART;TZID=Africa/Kampala:20240825T080000
DTEND;TZID=Africa/Kampala:20240825T140000
DTSTAMP:20260420T142637
CREATED:20240904T172901Z
LAST-MODIFIED:20241004T192538Z
UID:12323-1724572800-1724594400@calvarykla.com
SUMMARY:Sunday Sermon Series
DESCRIPTION:Our study through the book of Ruth. Every Sunday at 8am for Luganda and 10am & 12noon for English
URL:https://calvarykla.com/event/sunday-sermon-series-2/2024-08-25/
LOCATION:Calvary Chapel Kampala\, 41 William Street\, Kampala\, Kampala\, 256\, Uganda
CATEGORIES:Fellowships,Services
ATTACH;FMTTYPE=image/jpeg:https://calvarykla.com/wp-content/uploads/2023/02/Ruth-1.jpg
END:VEVENT
BEGIN:VEVENT
DTSTART;TZID=Africa/Kampala:20240825T150000
DTEND;TZID=Africa/Kampala:20240825T170000
DTSTAMP:20260420T142637
CREATED:20231118T143922Z
LAST-MODIFIED:20231118T170909Z
UID:10751-1724598000-1724605200@calvarykla.com
SUMMARY:Kirundi Service
DESCRIPTION:Kirundi /Kinyarwanda service every Sunday starting at 3pm.
URL:https://calvarykla.com/event/kirundi-service/2024-08-25/
LOCATION:Calvary Chapel Kampala\, 41 William Street\, Kampala\, Kampala\, 256\, Uganda
CATEGORIES:Fellowships,Services
ATTACH;FMTTYPE=image/jpeg:https://calvarykla.com/wp-content/uploads/2023/11/Screen-Kir.jpg
END:VEVENT
END:VCALENDAR